BEGIN:VCALENDAR
VERSION:2.0
PRODID:https://www.kufer.de/kuferweb / DE
METHOD:PUBLISH
CALSCALE:GREGORIAN
X-WR-TIMEZONE:Europe/Berlin
BEGIN:VTIMEZONE
TZID:Europe/Berlin
X-LIC-LOCATION:Europe/Berlin
BEGIN:DAYLIGHT
TZOFFSETFROM:+0100
TZOFFSETTO:+0200
TZNAME:CEST
DTSTART:19700329T020000
RRULE:FREQ=YEARLY;INTERVAL=1;BYDAY=-1SU;BYMONTH=3
END:DAYLIGHT
BEGIN:STANDARD
TZOFFSETFROM:+0200
TZOFFSETTO:+0100
TZNAME:CET
DTSTART:19701025T030000
RRULE:FREQ=YEARLY;INTERVAL=1;BYDAY=-1SU;BYMONTH=10
END:STANDARD
END:VTIMEZONE
BEGIN:VEVENT
DTSTAMP:20260421T193700
DTSTART;TZID=Europe/Berlin:20260310T183000
DTEND;TZID=Europe/Berlin:20260310T203000
UID:AT9755-20260310T183000@VHSSAARBRÜCKEN
SUMMARY:Aquarell am Abend für Anfänger und Fortgeschrittene (AT9755) 
LOCATION:Malschule und Kreativwerkstatt Atelier Mo, Ellerstr. 44, 66292 Riegelsberg
END:VEVENT
BEGIN:VEVENT
DTSTAMP:20260421T193700
DTSTART;TZID=Europe/Berlin:20260317T183000
DTEND;TZID=Europe/Berlin:20260317T203000
UID:AT9755-20260317T183000@VHSSAARBRÜCKEN
SUMMARY:Aquarell am Abend für Anfänger und Fortgeschrittene (AT9755) 
LOCATION:Malschule und Kreativwerkstatt Atelier Mo, Ellerstr. 44, 66292 Riegelsberg
END:VEVENT
BEGIN:VEVENT
DTSTAMP:20260421T193700
DTSTART;TZID=Europe/Berlin:20260324T183000
DTEND;TZID=Europe/Berlin:20260324T203000
UID:AT9755-20260324T183000@VHSSAARBRÜCKEN
SUMMARY:Aquarell am Abend für Anfänger und Fortgeschrittene (AT9755) 
LOCATION:Malschule und Kreativwerkstatt Atelier Mo, Ellerstr. 44, 66292 Riegelsberg
END:VEVENT
BEGIN:VEVENT
DTSTAMP:20260421T193700
DTSTART;TZID=Europe/Berlin:20260331T183000
DTEND;TZID=Europe/Berlin:20260331T203000
UID:AT9755-20260331T183000@VHSSAARBRÜCKEN
SUMMARY:Aquarell am Abend für Anfänger und Fortgeschrittene (AT9755) 
LOCATION:Malschule und Kreativwerkstatt Atelier Mo, Ellerstr. 44, 66292 Riegelsberg
END:VEVENT
BEGIN:VEVENT
DTSTAMP:20260421T193700
DTSTART;TZID=Europe/Berlin:20260407T183000
DTEND;TZID=Europe/Berlin:20260407T203000
UID:AT9755-20260407T183000@VHSSAARBRÜCKEN
SUMMARY:Aquarell am Abend für Anfänger und Fortgeschrittene (AT9755) 
LOCATION:Malschule und Kreativwerkstatt Atelier Mo, Ellerstr. 44, 66292 Riegelsberg
END:VEVENT
BEGIN:VEVENT
DTSTAMP:20260421T193700
DTSTART;TZID=Europe/Berlin:20260414T183000
DTEND;TZID=Europe/Berlin:20260414T203000
UID:AT9755-20260414T183000@VHSSAARBRÜCKEN
SUMMARY:Aquarell am Abend für Anfänger und Fortgeschrittene (AT9755) 
LOCATION:Malschule und Kreativwerkstatt Atelier Mo, Ellerstr. 44, 66292 Riegelsberg
END:VEVENT
BEGIN:VEVENT
DTSTAMP:20260421T193700
DTSTART;TZID=Europe/Berlin:20260421T183000
DTEND;TZID=Europe/Berlin:20260421T203000
UID:AT9755-20260421T183000@VHSSAARBRÜCKEN
SUMMARY:Aquarell am Abend für Anfänger und Fortgeschrittene (AT9755) 
LOCATION:Malschule und Kreativwerkstatt Atelier Mo, Ellerstr. 44, 66292 Riegelsberg
END:VEVENT
BEGIN:VEVENT
DTSTAMP:20260421T193700
DTSTART;TZID=Europe/Berlin:20260428T183000
DTEND;TZID=Europe/Berlin:20260428T203000
UID:AT9755-20260428T183000@VHSSAARBRÜCKEN
SUMMARY:Aquarell am Abend für Anfänger und Fortgeschrittene (AT9755) 
LOCATION:Malschule und Kreativwerkstatt Atelier Mo, Ellerstr. 44, 66292 Riegelsberg
END:VEVENT
END:VCALENDAR