BEGIN:VCALENDAR
VERSION:2.0
PRODID:https://www.kufer.de/kuferweb / DE
METHOD:PUBLISH
CALSCALE:GREGORIAN
X-WR-TIMEZONE:Europe/Berlin
BEGIN:VTIMEZONE
TZID:Europe/Berlin
X-LIC-LOCATION:Europe/Berlin
BEGIN:DAYLIGHT
TZOFFSETFROM:+0100
TZOFFSETTO:+0200
TZNAME:CEST
DTSTART:19700329T020000
RRULE:FREQ=YEARLY;INTERVAL=1;BYDAY=-1SU;BYMONTH=3
END:DAYLIGHT
BEGIN:STANDARD
TZOFFSETFROM:+0200
TZOFFSETTO:+0100
TZNAME:CET
DTSTART:19701025T030000
RRULE:FREQ=YEARLY;INTERVAL=1;BYDAY=-1SU;BYMONTH=10
END:STANDARD
END:VTIMEZONE
BEGIN:VEVENT
DTSTAMP:20260421T193749
DTSTART;TZID=Europe/Berlin:20260310T174500
DTEND;TZID=Europe/Berlin:20260310T200000
UID:AT9597-20260310T174500@VHSSAARBRÜCKEN
SUMMARY:Nähkurs - Flexibel und bunt, für jeden etwas dabei (AT9597) 
LOCATION:Uhrmachers Haus, Engelfanger Straße 3, 66346 Püttlingen-Köllerbach
END:VEVENT
BEGIN:VEVENT
DTSTAMP:20260421T193749
DTSTART;TZID=Europe/Berlin:20260317T174500
DTEND;TZID=Europe/Berlin:20260317T200000
UID:AT9597-20260317T174500@VHSSAARBRÜCKEN
SUMMARY:Nähkurs - Flexibel und bunt, für jeden etwas dabei (AT9597) 
LOCATION:Uhrmachers Haus, Engelfanger Straße 3, 66346 Püttlingen-Köllerbach
END:VEVENT
BEGIN:VEVENT
DTSTAMP:20260421T193749
DTSTART;TZID=Europe/Berlin:20260324T174500
DTEND;TZID=Europe/Berlin:20260324T200000
UID:AT9597-20260324T174500@VHSSAARBRÜCKEN
SUMMARY:Nähkurs - Flexibel und bunt, für jeden etwas dabei (AT9597) 
LOCATION:Uhrmachers Haus, Engelfanger Straße 3, 66346 Püttlingen-Köllerbach
END:VEVENT
BEGIN:VEVENT
DTSTAMP:20260421T193749
DTSTART;TZID=Europe/Berlin:20260331T174500
DTEND;TZID=Europe/Berlin:20260331T200000
UID:AT9597-20260331T174500@VHSSAARBRÜCKEN
SUMMARY:Nähkurs - Flexibel und bunt, für jeden etwas dabei (AT9597) 
LOCATION:Uhrmachers Haus, Engelfanger Straße 3, 66346 Püttlingen-Köllerbach
END:VEVENT
BEGIN:VEVENT
DTSTAMP:20260421T193749
DTSTART;TZID=Europe/Berlin:20260421T174500
DTEND;TZID=Europe/Berlin:20260421T200000
UID:AT9597-20260421T174500@VHSSAARBRÜCKEN
SUMMARY:Nähkurs - Flexibel und bunt, für jeden etwas dabei (AT9597) 
LOCATION:Uhrmachers Haus, Engelfanger Straße 3, 66346 Püttlingen-Köllerbach
END:VEVENT
BEGIN:VEVENT
DTSTAMP:20260421T193749
DTSTART;TZID=Europe/Berlin:20260428T174500
DTEND;TZID=Europe/Berlin:20260428T200000
UID:AT9597-20260428T174500@VHSSAARBRÜCKEN
SUMMARY:Nähkurs - Flexibel und bunt, für jeden etwas dabei (AT9597) 
LOCATION:Uhrmachers Haus, Engelfanger Straße 3, 66346 Püttlingen-Köllerbach
END:VEVENT
BEGIN:VEVENT
DTSTAMP:20260421T193749
DTSTART;TZID=Europe/Berlin:20260505T174500
DTEND;TZID=Europe/Berlin:20260505T200000
UID:AT9597-20260505T174500@VHSSAARBRÜCKEN
SUMMARY:Nähkurs - Flexibel und bunt, für jeden etwas dabei (AT9597) 
LOCATION:Uhrmachers Haus, Engelfanger Straße 3, 66346 Püttlingen-Köllerbach
END:VEVENT
BEGIN:VEVENT
DTSTAMP:20260421T193749
DTSTART;TZID=Europe/Berlin:20260512T174500
DTEND;TZID=Europe/Berlin:20260512T200000
UID:AT9597-20260512T174500@VHSSAARBRÜCKEN
SUMMARY:Nähkurs - Flexibel und bunt, für jeden etwas dabei (AT9597) 
LOCATION:Uhrmachers Haus, Engelfanger Straße 3, 66346 Püttlingen-Köllerbach
END:VEVENT
BEGIN:VEVENT
DTSTAMP:20260421T193749
DTSTART;TZID=Europe/Berlin:20260519T174500
DTEND;TZID=Europe/Berlin:20260519T200000
UID:AT9597-20260519T174500@VHSSAARBRÜCKEN
SUMMARY:Nähkurs - Flexibel und bunt, für jeden etwas dabei (AT9597) 
LOCATION:Uhrmachers Haus, Engelfanger Straße 3, 66346 Püttlingen-Köllerbach
END:VEVENT
BEGIN:VEVENT
DTSTAMP:20260421T193749
DTSTART;TZID=Europe/Berlin:20260526T174500
DTEND;TZID=Europe/Berlin:20260526T200000
UID:AT9597-20260526T174500@VHSSAARBRÜCKEN
SUMMARY:Nähkurs - Flexibel und bunt, für jeden etwas dabei (AT9597) 
LOCATION:Uhrmachers Haus, Engelfanger Straße 3, 66346 Püttlingen-Köllerbach
END:VEVENT
END:VCALENDAR