BEGIN:VCALENDAR
VERSION:2.0
PRODID:https://www.kufer.de/kuferweb / DE
METHOD:PUBLISH
CALSCALE:GREGORIAN
X-WR-TIMEZONE:Europe/Berlin
BEGIN:VTIMEZONE
TZID:Europe/Berlin
X-LIC-LOCATION:Europe/Berlin
BEGIN:DAYLIGHT
TZOFFSETFROM:+0100
TZOFFSETTO:+0200
TZNAME:CEST
DTSTART:19700329T020000
RRULE:FREQ=YEARLY;INTERVAL=1;BYDAY=-1SU;BYMONTH=3
END:DAYLIGHT
BEGIN:STANDARD
TZOFFSETFROM:+0200
TZOFFSETTO:+0100
TZNAME:CET
DTSTART:19701025T030000
RRULE:FREQ=YEARLY;INTERVAL=1;BYDAY=-1SU;BYMONTH=10
END:STANDARD
END:VTIMEZONE
BEGIN:VEVENT
DTSTAMP:20260421T193804
DTSTART;TZID=Europe/Berlin:20260309T190000
DTEND;TZID=Europe/Berlin:20260309T211500
UID:AT9594-20260309T190000@VHSSAARBRÜCKEN
SUMMARY:Nähen und Zuschneiden (AT9594) 
LOCATION:Uhrmachers Haus , Engelfanger Straße 3, 66346 Püttlingen-Köllerbach
END:VEVENT
BEGIN:VEVENT
DTSTAMP:20260421T193804
DTSTART;TZID=Europe/Berlin:20260316T190000
DTEND;TZID=Europe/Berlin:20260316T211500
UID:AT9594-20260316T190000@VHSSAARBRÜCKEN
SUMMARY:Nähen und Zuschneiden (AT9594) 
LOCATION:Uhrmachers Haus , Engelfanger Straße 3, 66346 Püttlingen-Köllerbach
END:VEVENT
BEGIN:VEVENT
DTSTAMP:20260421T193804
DTSTART;TZID=Europe/Berlin:20260330T190000
DTEND;TZID=Europe/Berlin:20260330T211500
UID:AT9594-20260330T190000@VHSSAARBRÜCKEN
SUMMARY:Nähen und Zuschneiden (AT9594) 
LOCATION:Uhrmachers Haus , Engelfanger Straße 3, 66346 Püttlingen-Köllerbach
END:VEVENT
BEGIN:VEVENT
DTSTAMP:20260421T193804
DTSTART;TZID=Europe/Berlin:20260420T190000
DTEND;TZID=Europe/Berlin:20260420T211500
UID:AT9594-20260420T190000@VHSSAARBRÜCKEN
SUMMARY:Nähen und Zuschneiden (AT9594) 
LOCATION:Uhrmachers Haus , Engelfanger Straße 3, 66346 Püttlingen-Köllerbach
END:VEVENT
BEGIN:VEVENT
DTSTAMP:20260421T193804
DTSTART;TZID=Europe/Berlin:20260427T190000
DTEND;TZID=Europe/Berlin:20260427T211500
UID:AT9594-20260427T190000@VHSSAARBRÜCKEN
SUMMARY:Nähen und Zuschneiden (AT9594) 
LOCATION:Uhrmachers Haus , Engelfanger Straße 3, 66346 Püttlingen-Köllerbach
END:VEVENT
BEGIN:VEVENT
DTSTAMP:20260421T193804
DTSTART;TZID=Europe/Berlin:20260504T190000
DTEND;TZID=Europe/Berlin:20260504T211500
UID:AT9594-20260504T190000@VHSSAARBRÜCKEN
SUMMARY:Nähen und Zuschneiden (AT9594) 
LOCATION:Uhrmachers Haus , Engelfanger Straße 3, 66346 Püttlingen-Köllerbach
END:VEVENT
BEGIN:VEVENT
DTSTAMP:20260421T193804
DTSTART;TZID=Europe/Berlin:20260511T190000
DTEND;TZID=Europe/Berlin:20260511T211500
UID:AT9594-20260511T190000@VHSSAARBRÜCKEN
SUMMARY:Nähen und Zuschneiden (AT9594) 
LOCATION:Uhrmachers Haus , Engelfanger Straße 3, 66346 Püttlingen-Köllerbach
END:VEVENT
BEGIN:VEVENT
DTSTAMP:20260421T193804
DTSTART;TZID=Europe/Berlin:20260518T190000
DTEND;TZID=Europe/Berlin:20260518T211500
UID:AT9594-20260518T190000@VHSSAARBRÜCKEN
SUMMARY:Nähen und Zuschneiden (AT9594) 
LOCATION:Uhrmachers Haus , Engelfanger Straße 3, 66346 Püttlingen-Köllerbach
END:VEVENT
BEGIN:VEVENT
DTSTAMP:20260421T193804
DTSTART;TZID=Europe/Berlin:20260601T190000
DTEND;TZID=Europe/Berlin:20260601T211500
UID:AT9594-20260601T190000@VHSSAARBRÜCKEN
SUMMARY:Nähen und Zuschneiden (AT9594) 
LOCATION:Uhrmachers Haus , Engelfanger Straße 3, 66346 Püttlingen-Köllerbach
END:VEVENT
BEGIN:VEVENT
DTSTAMP:20260421T193804
DTSTART;TZID=Europe/Berlin:20260608T190000
DTEND;TZID=Europe/Berlin:20260608T211500
UID:AT9594-20260608T190000@VHSSAARBRÜCKEN
SUMMARY:Nähen und Zuschneiden (AT9594) 
LOCATION:Uhrmachers Haus , Engelfanger Straße 3, 66346 Püttlingen-Köllerbach
END:VEVENT
BEGIN:VEVENT
DTSTAMP:20260421T193804
DTSTART;TZID=Europe/Berlin:20260615T190000
DTEND;TZID=Europe/Berlin:20260615T211500
UID:AT9594-20260615T190000@VHSSAARBRÜCKEN
SUMMARY:Nähen und Zuschneiden (AT9594) 
LOCATION:Uhrmachers Haus , Engelfanger Straße 3, 66346 Püttlingen-Köllerbach
END:VEVENT
BEGIN:VEVENT
DTSTAMP:20260421T193804
DTSTART;TZID=Europe/Berlin:20260622T190000
DTEND;TZID=Europe/Berlin:20260622T211500
UID:AT9594-20260622T190000@VHSSAARBRÜCKEN
DESCRIPTION:Ersatz für Ausfall am 23.03.2026
SUMMARY:Nähen und Zuschneiden (AT9594) 
LOCATION:Uhrmachers Haus , Engelfanger Straße 3, 66346 Püttlingen-Köllerbach
END:VEVENT
END:VCALENDAR