BEGIN:VCALENDAR
VERSION:2.0
PRODID:https://www.kufer.de/kuferweb / DE
METHOD:PUBLISH
CALSCALE:GREGORIAN
X-WR-TIMEZONE:Europe/Berlin
BEGIN:VTIMEZONE
TZID:Europe/Berlin
X-LIC-LOCATION:Europe/Berlin
BEGIN:DAYLIGHT
TZOFFSETFROM:+0100
TZOFFSETTO:+0200
TZNAME:CEST
DTSTART:19700329T020000
RRULE:FREQ=YEARLY;INTERVAL=1;BYDAY=-1SU;BYMONTH=3
END:DAYLIGHT
BEGIN:STANDARD
TZOFFSETFROM:+0200
TZOFFSETTO:+0100
TZNAME:CET
DTSTART:19701025T030000
RRULE:FREQ=YEARLY;INTERVAL=1;BYDAY=-1SU;BYMONTH=10
END:STANDARD
END:VTIMEZONE
BEGIN:VEVENT
DTSTAMP:20260421T223928
DTSTART;TZID=Europe/Berlin:20260312T140000
DTEND;TZID=Europe/Berlin:20260312T161500
UID:AT9591A-20260312T140000@VHSSAARBRÜCKEN
SUMMARY:Keramik für AnfängerInnen und Fortgeschrittene (AT9591A) 
LOCATION:Grundschule Pater-Eberschweiler (Werkraum), In der Goethestr. 11, 66346 Püttlingen
END:VEVENT
BEGIN:VEVENT
DTSTAMP:20260421T223928
DTSTART;TZID=Europe/Berlin:20260319T140000
DTEND;TZID=Europe/Berlin:20260319T161500
UID:AT9591A-20260319T140000@VHSSAARBRÜCKEN
SUMMARY:Keramik für AnfängerInnen und Fortgeschrittene (AT9591A) 
LOCATION:Grundschule Pater-Eberschweiler (Werkraum), In der Goethestr. 11, 66346 Püttlingen
END:VEVENT
BEGIN:VEVENT
DTSTAMP:20260421T223928
DTSTART;TZID=Europe/Berlin:20260326T140000
DTEND;TZID=Europe/Berlin:20260326T161500
UID:AT9591A-20260326T140000@VHSSAARBRÜCKEN
SUMMARY:Keramik für AnfängerInnen und Fortgeschrittene (AT9591A) 
LOCATION:Grundschule Pater-Eberschweiler (Werkraum), In der Goethestr. 11, 66346 Püttlingen
END:VEVENT
BEGIN:VEVENT
DTSTAMP:20260421T223928
DTSTART;TZID=Europe/Berlin:20260402T140000
DTEND;TZID=Europe/Berlin:20260402T161500
UID:AT9591A-20260402T140000@VHSSAARBRÜCKEN
SUMMARY:Keramik für AnfängerInnen und Fortgeschrittene (AT9591A) 
LOCATION:Grundschule Pater-Eberschweiler (Werkraum), In der Goethestr. 11, 66346 Püttlingen
END:VEVENT
BEGIN:VEVENT
DTSTAMP:20260421T223928
DTSTART;TZID=Europe/Berlin:20260423T140000
DTEND;TZID=Europe/Berlin:20260423T161500
UID:AT9591A-20260423T140000@VHSSAARBRÜCKEN
SUMMARY:Keramik für AnfängerInnen und Fortgeschrittene (AT9591A) 
LOCATION:Grundschule Pater-Eberschweiler (Werkraum), In der Goethestr. 11, 66346 Püttlingen
END:VEVENT
BEGIN:VEVENT
DTSTAMP:20260421T223928
DTSTART;TZID=Europe/Berlin:20260430T140000
DTEND;TZID=Europe/Berlin:20260430T161500
UID:AT9591A-20260430T140000@VHSSAARBRÜCKEN
SUMMARY:Keramik für AnfängerInnen und Fortgeschrittene (AT9591A) 
LOCATION:Grundschule Pater-Eberschweiler (Werkraum), In der Goethestr. 11, 66346 Püttlingen
END:VEVENT
BEGIN:VEVENT
DTSTAMP:20260421T223928
DTSTART;TZID=Europe/Berlin:20260507T140000
DTEND;TZID=Europe/Berlin:20260507T161500
UID:AT9591A-20260507T140000@VHSSAARBRÜCKEN
SUMMARY:Keramik für AnfängerInnen und Fortgeschrittene (AT9591A) 
LOCATION:Grundschule Pater-Eberschweiler (Werkraum), In der Goethestr. 11, 66346 Püttlingen
END:VEVENT
BEGIN:VEVENT
DTSTAMP:20260421T223928
DTSTART;TZID=Europe/Berlin:20260513T140000
DTEND;TZID=Europe/Berlin:20260513T161500
UID:AT9591A-20260513T140000@VHSSAARBRÜCKEN
SUMMARY:Keramik für AnfängerInnen und Fortgeschrittene (AT9591A) 
LOCATION:Grundschule Pater-Eberschweiler (Werkraum), In der Goethestr. 11, 66346 Püttlingen
END:VEVENT
BEGIN:VEVENT
DTSTAMP:20260421T223928
DTSTART;TZID=Europe/Berlin:20260521T140000
DTEND;TZID=Europe/Berlin:20260521T161500
UID:AT9591A-20260521T140000@VHSSAARBRÜCKEN
SUMMARY:Keramik für AnfängerInnen und Fortgeschrittene (AT9591A) 
LOCATION:Grundschule Pater-Eberschweiler (Werkraum), In der Goethestr. 11, 66346 Püttlingen
END:VEVENT
BEGIN:VEVENT
DTSTAMP:20260421T223928
DTSTART;TZID=Europe/Berlin:20260528T140000
DTEND;TZID=Europe/Berlin:20260528T161500
UID:AT9591A-20260528T140000@VHSSAARBRÜCKEN
SUMMARY:Keramik für AnfängerInnen und Fortgeschrittene (AT9591A) 
LOCATION:Grundschule Pater-Eberschweiler (Werkraum), In der Goethestr. 11, 66346 Püttlingen
END:VEVENT
END:VCALENDAR