BEGIN:VCALENDAR
VERSION:2.0
PRODID:https://www.kufer.de/kuferweb / DE
METHOD:PUBLISH
CALSCALE:GREGORIAN
X-WR-TIMEZONE:Europe/Berlin
BEGIN:VTIMEZONE
TZID:Europe/Berlin
X-LIC-LOCATION:Europe/Berlin
BEGIN:DAYLIGHT
TZOFFSETFROM:+0100
TZOFFSETTO:+0200
TZNAME:CEST
DTSTART:19700329T020000
RRULE:FREQ=YEARLY;INTERVAL=1;BYDAY=-1SU;BYMONTH=3
END:DAYLIGHT
BEGIN:STANDARD
TZOFFSETFROM:+0200
TZOFFSETTO:+0100
TZNAME:CET
DTSTART:19701025T030000
RRULE:FREQ=YEARLY;INTERVAL=1;BYDAY=-1SU;BYMONTH=10
END:STANDARD
END:VTIMEZONE
BEGIN:VEVENT
DTSTAMP:20260421T193754
DTSTART;TZID=Europe/Berlin:20260310T163000
DTEND;TZID=Europe/Berlin:20260310T184500
UID:AT9591-20260310T163000@VHSSAARBRÜCKEN
SUMMARY:Keramik für AnfängerInnen und Fortgeschrittene (AT9591) 
LOCATION:Grundschule Pater-Eberschweiler (Werkraum), In der Goethestr. 11, 66346 Püttlingen
END:VEVENT
BEGIN:VEVENT
DTSTAMP:20260421T193754
DTSTART;TZID=Europe/Berlin:20260317T163000
DTEND;TZID=Europe/Berlin:20260317T184500
UID:AT9591-20260317T163000@VHSSAARBRÜCKEN
SUMMARY:Keramik für AnfängerInnen und Fortgeschrittene (AT9591) 
LOCATION:Grundschule Pater-Eberschweiler (Werkraum), In der Goethestr. 11, 66346 Püttlingen
END:VEVENT
BEGIN:VEVENT
DTSTAMP:20260421T193754
DTSTART;TZID=Europe/Berlin:20260324T163000
DTEND;TZID=Europe/Berlin:20260324T184500
UID:AT9591-20260324T163000@VHSSAARBRÜCKEN
SUMMARY:Keramik für AnfängerInnen und Fortgeschrittene (AT9591) 
LOCATION:Grundschule Pater-Eberschweiler (Werkraum), In der Goethestr. 11, 66346 Püttlingen
END:VEVENT
BEGIN:VEVENT
DTSTAMP:20260421T193754
DTSTART;TZID=Europe/Berlin:20260331T163000
DTEND;TZID=Europe/Berlin:20260331T184500
UID:AT9591-20260331T163000@VHSSAARBRÜCKEN
SUMMARY:Keramik für AnfängerInnen und Fortgeschrittene (AT9591) 
LOCATION:Grundschule Pater-Eberschweiler (Werkraum), In der Goethestr. 11, 66346 Püttlingen
END:VEVENT
BEGIN:VEVENT
DTSTAMP:20260421T193754
DTSTART;TZID=Europe/Berlin:20260421T163000
DTEND;TZID=Europe/Berlin:20260421T184500
UID:AT9591-20260421T163000@VHSSAARBRÜCKEN
SUMMARY:Keramik für AnfängerInnen und Fortgeschrittene (AT9591) 
LOCATION:Grundschule Pater-Eberschweiler (Werkraum), In der Goethestr. 11, 66346 Püttlingen
END:VEVENT
BEGIN:VEVENT
DTSTAMP:20260421T193754
DTSTART;TZID=Europe/Berlin:20260428T163000
DTEND;TZID=Europe/Berlin:20260428T184500
UID:AT9591-20260428T163000@VHSSAARBRÜCKEN
SUMMARY:Keramik für AnfängerInnen und Fortgeschrittene (AT9591) 
LOCATION:Grundschule Pater-Eberschweiler (Werkraum), In der Goethestr. 11, 66346 Püttlingen
END:VEVENT
BEGIN:VEVENT
DTSTAMP:20260421T193754
DTSTART;TZID=Europe/Berlin:20260505T163000
DTEND;TZID=Europe/Berlin:20260505T184500
UID:AT9591-20260505T163000@VHSSAARBRÜCKEN
SUMMARY:Keramik für AnfängerInnen und Fortgeschrittene (AT9591) 
LOCATION:Grundschule Pater-Eberschweiler (Werkraum), In der Goethestr. 11, 66346 Püttlingen
END:VEVENT
BEGIN:VEVENT
DTSTAMP:20260421T193754
DTSTART;TZID=Europe/Berlin:20260512T163000
DTEND;TZID=Europe/Berlin:20260512T184500
UID:AT9591-20260512T163000@VHSSAARBRÜCKEN
SUMMARY:Keramik für AnfängerInnen und Fortgeschrittene (AT9591) 
LOCATION:Grundschule Pater-Eberschweiler (Werkraum), In der Goethestr. 11, 66346 Püttlingen
END:VEVENT
BEGIN:VEVENT
DTSTAMP:20260421T193754
DTSTART;TZID=Europe/Berlin:20260519T163000
DTEND;TZID=Europe/Berlin:20260519T184500
UID:AT9591-20260519T163000@VHSSAARBRÜCKEN
SUMMARY:Keramik für AnfängerInnen und Fortgeschrittene (AT9591) 
LOCATION:Grundschule Pater-Eberschweiler (Werkraum), In der Goethestr. 11, 66346 Püttlingen
END:VEVENT
BEGIN:VEVENT
DTSTAMP:20260421T193754
DTSTART;TZID=Europe/Berlin:20260526T163000
DTEND;TZID=Europe/Berlin:20260526T184500
UID:AT9591-20260526T163000@VHSSAARBRÜCKEN
SUMMARY:Keramik für AnfängerInnen und Fortgeschrittene (AT9591) 
LOCATION:Grundschule Pater-Eberschweiler (Werkraum), In der Goethestr. 11, 66346 Püttlingen
END:VEVENT
END:VCALENDAR