BEGIN:VCALENDAR
VERSION:2.0
PRODID:https://www.kufer.de/kuferweb / DE
METHOD:PUBLISH
CALSCALE:GREGORIAN
X-WR-TIMEZONE:Europe/Berlin
BEGIN:VTIMEZONE
TZID:Europe/Berlin
X-LIC-LOCATION:Europe/Berlin
BEGIN:DAYLIGHT
TZOFFSETFROM:+0100
TZOFFSETTO:+0200
TZNAME:CEST
DTSTART:19700329T020000
RRULE:FREQ=YEARLY;INTERVAL=1;BYDAY=-1SU;BYMONTH=3
END:DAYLIGHT
BEGIN:STANDARD
TZOFFSETFROM:+0200
TZOFFSETTO:+0100
TZNAME:CET
DTSTART:19701025T030000
RRULE:FREQ=YEARLY;INTERVAL=1;BYDAY=-1SU;BYMONTH=10
END:STANDARD
END:VTIMEZONE
BEGIN:VEVENT
DTSTAMP:20260423T145959
DTSTART;TZID=Europe/Berlin:20260312T154500
DTEND;TZID=Europe/Berlin:20260312T174500
UID:AT9588-20260312T154500@VHSSAARBRÜCKEN
SUMMARY:Aquarelltechnik (AnfängerInnen/Fortgeschrittene) (AT9588) 
LOCATION:Kulturbahnhof Püttlingen, Bahnhofstraße 74, 66346 Püttlingen, Bahnhofstraße 74, 
END:VEVENT
BEGIN:VEVENT
DTSTAMP:20260423T145959
DTSTART;TZID=Europe/Berlin:20260319T154500
DTEND;TZID=Europe/Berlin:20260319T174500
UID:AT9588-20260319T154500@VHSSAARBRÜCKEN
SUMMARY:Aquarelltechnik (AnfängerInnen/Fortgeschrittene) (AT9588) 
LOCATION:Kulturbahnhof Püttlingen, Bahnhofstraße 74, 66346 Püttlingen, Bahnhofstraße 74, 
END:VEVENT
BEGIN:VEVENT
DTSTAMP:20260423T145959
DTSTART;TZID=Europe/Berlin:20260326T154500
DTEND;TZID=Europe/Berlin:20260326T174500
UID:AT9588-20260326T154500@VHSSAARBRÜCKEN
SUMMARY:Aquarelltechnik (AnfängerInnen/Fortgeschrittene) (AT9588) 
LOCATION:Kulturbahnhof Püttlingen, Bahnhofstraße 74, 66346 Püttlingen, Bahnhofstraße 74, 
END:VEVENT
BEGIN:VEVENT
DTSTAMP:20260423T145959
DTSTART;TZID=Europe/Berlin:20260402T154500
DTEND;TZID=Europe/Berlin:20260402T174500
UID:AT9588-20260402T154500@VHSSAARBRÜCKEN
SUMMARY:Aquarelltechnik (AnfängerInnen/Fortgeschrittene) (AT9588) 
LOCATION:Kulturbahnhof Püttlingen, Bahnhofstraße 74, 66346 Püttlingen, Bahnhofstraße 74, 
END:VEVENT
BEGIN:VEVENT
DTSTAMP:20260423T145959
DTSTART;TZID=Europe/Berlin:20260423T154500
DTEND;TZID=Europe/Berlin:20260423T174500
UID:AT9588-20260423T154500@VHSSAARBRÜCKEN
SUMMARY:Aquarelltechnik (AnfängerInnen/Fortgeschrittene) (AT9588) 
LOCATION:Kulturbahnhof Püttlingen, Bahnhofstraße 74, 66346 Püttlingen, Bahnhofstraße 74, 
END:VEVENT
BEGIN:VEVENT
DTSTAMP:20260423T145959
DTSTART;TZID=Europe/Berlin:20260430T154500
DTEND;TZID=Europe/Berlin:20260430T174500
UID:AT9588-20260430T154500@VHSSAARBRÜCKEN
SUMMARY:Aquarelltechnik (AnfängerInnen/Fortgeschrittene) (AT9588) 
LOCATION:Kulturbahnhof Püttlingen, Bahnhofstraße 74, 66346 Püttlingen, Bahnhofstraße 74, 
END:VEVENT
BEGIN:VEVENT
DTSTAMP:20260423T145959
DTSTART;TZID=Europe/Berlin:20260507T154500
DTEND;TZID=Europe/Berlin:20260507T174500
UID:AT9588-20260507T154500@VHSSAARBRÜCKEN
SUMMARY:Aquarelltechnik (AnfängerInnen/Fortgeschrittene) (AT9588) 
LOCATION:Kulturbahnhof Püttlingen, Bahnhofstraße 74, 66346 Püttlingen, Bahnhofstraße 74, 
END:VEVENT
BEGIN:VEVENT
DTSTAMP:20260423T145959
DTSTART;TZID=Europe/Berlin:20260521T154500
DTEND;TZID=Europe/Berlin:20260521T174500
UID:AT9588-20260521T154500@VHSSAARBRÜCKEN
SUMMARY:Aquarelltechnik (AnfängerInnen/Fortgeschrittene) (AT9588) 
LOCATION:Kulturbahnhof Püttlingen, Bahnhofstraße 74, 66346 Püttlingen, Bahnhofstraße 74, 
END:VEVENT
END:VCALENDAR