BEGIN:VCALENDAR
VERSION:2.0
PRODID:https://www.kufer.de/kuferweb / DE
METHOD:PUBLISH
CALSCALE:GREGORIAN
X-WR-TIMEZONE:Europe/Berlin
BEGIN:VTIMEZONE
TZID:Europe/Berlin
X-LIC-LOCATION:Europe/Berlin
BEGIN:DAYLIGHT
TZOFFSETFROM:+0100
TZOFFSETTO:+0200
TZNAME:CEST
DTSTART:19700329T020000
RRULE:FREQ=YEARLY;INTERVAL=1;BYDAY=-1SU;BYMONTH=3
END:DAYLIGHT
BEGIN:STANDARD
TZOFFSETFROM:+0200
TZOFFSETTO:+0100
TZNAME:CET
DTSTART:19701025T030000
RRULE:FREQ=YEARLY;INTERVAL=1;BYDAY=-1SU;BYMONTH=10
END:STANDARD
END:VTIMEZONE
BEGIN:VEVENT
DTSTAMP:20260423T145938
DTSTART;TZID=Europe/Berlin:20260312T184500
DTEND;TZID=Europe/Berlin:20260312T204500
UID:AT9587-20260312T184500@VHSSAARBRÜCKEN
SUMMARY:Zeichenwerkstatt: Portrait (AT9587) 
LOCATION:Kloster Heilig Kreuz Püttlingen, Völklinger Straße 197, 66346 Püttlingen
END:VEVENT
BEGIN:VEVENT
DTSTAMP:20260423T145938
DTSTART;TZID=Europe/Berlin:20260319T184500
DTEND;TZID=Europe/Berlin:20260319T204500
UID:AT9587-20260319T184500@VHSSAARBRÜCKEN
SUMMARY:Zeichenwerkstatt: Portrait (AT9587) 
LOCATION:Kloster Heilig Kreuz Püttlingen, Völklinger Straße 197, 66346 Püttlingen
END:VEVENT
BEGIN:VEVENT
DTSTAMP:20260423T145938
DTSTART;TZID=Europe/Berlin:20260326T184500
DTEND;TZID=Europe/Berlin:20260326T204500
UID:AT9587-20260326T184500@VHSSAARBRÜCKEN
SUMMARY:Zeichenwerkstatt: Portrait (AT9587) 
LOCATION:Kloster Heilig Kreuz Püttlingen, Völklinger Straße 197, 66346 Püttlingen
END:VEVENT
BEGIN:VEVENT
DTSTAMP:20260423T145938
DTSTART;TZID=Europe/Berlin:20260402T184500
DTEND;TZID=Europe/Berlin:20260402T204500
UID:AT9587-20260402T184500@VHSSAARBRÜCKEN
SUMMARY:Zeichenwerkstatt: Portrait (AT9587) 
LOCATION:Kloster Heilig Kreuz Püttlingen, Völklinger Straße 197, 66346 Püttlingen
END:VEVENT
BEGIN:VEVENT
DTSTAMP:20260423T145938
DTSTART;TZID=Europe/Berlin:20260423T184500
DTEND;TZID=Europe/Berlin:20260423T204500
UID:AT9587-20260423T184500@VHSSAARBRÜCKEN
SUMMARY:Zeichenwerkstatt: Portrait (AT9587) 
LOCATION:Kloster Heilig Kreuz Püttlingen, Völklinger Straße 197, 66346 Püttlingen
END:VEVENT
BEGIN:VEVENT
DTSTAMP:20260423T145938
DTSTART;TZID=Europe/Berlin:20260430T184500
DTEND;TZID=Europe/Berlin:20260430T204500
UID:AT9587-20260430T184500@VHSSAARBRÜCKEN
SUMMARY:Zeichenwerkstatt: Portrait (AT9587) 
LOCATION:Kloster Heilig Kreuz Püttlingen, Völklinger Straße 197, 66346 Püttlingen
END:VEVENT
BEGIN:VEVENT
DTSTAMP:20260423T145938
DTSTART;TZID=Europe/Berlin:20260507T184500
DTEND;TZID=Europe/Berlin:20260507T204500
UID:AT9587-20260507T184500@VHSSAARBRÜCKEN
SUMMARY:Zeichenwerkstatt: Portrait (AT9587) 
LOCATION:Kloster Heilig Kreuz Püttlingen, Völklinger Straße 197, 66346 Püttlingen
END:VEVENT
BEGIN:VEVENT
DTSTAMP:20260423T145938
DTSTART;TZID=Europe/Berlin:20260521T184500
DTEND;TZID=Europe/Berlin:20260521T204500
UID:AT9587-20260521T184500@VHSSAARBRÜCKEN
SUMMARY:Zeichenwerkstatt: Portrait (AT9587) 
LOCATION:Kloster Heilig Kreuz Püttlingen, Völklinger Straße 197, 66346 Püttlingen
END:VEVENT
BEGIN:VEVENT
DTSTAMP:20260423T145938
DTSTART;TZID=Europe/Berlin:20260528T184500
DTEND;TZID=Europe/Berlin:20260528T204500
UID:AT9587-20260528T184500@VHSSAARBRÜCKEN
SUMMARY:Zeichenwerkstatt: Portrait (AT9587) 
LOCATION:Kloster Heilig Kreuz Püttlingen, Völklinger Straße 197, 66346 Püttlingen
END:VEVENT
BEGIN:VEVENT
DTSTAMP:20260423T145938
DTSTART;TZID=Europe/Berlin:20260611T184500
DTEND;TZID=Europe/Berlin:20260611T204500
UID:AT9587-20260611T184500@VHSSAARBRÜCKEN
SUMMARY:Zeichenwerkstatt: Portrait (AT9587) 
LOCATION:Kloster Heilig Kreuz Püttlingen, Völklinger Straße 197, 66346 Püttlingen
END:VEVENT
BEGIN:VEVENT
DTSTAMP:20260423T145938
DTSTART;TZID=Europe/Berlin:20260618T184500
DTEND;TZID=Europe/Berlin:20260618T204500
UID:AT9587-20260618T184500@VHSSAARBRÜCKEN
SUMMARY:Zeichenwerkstatt: Portrait (AT9587) 
LOCATION:Kloster Heilig Kreuz Püttlingen, Völklinger Straße 197, 66346 Püttlingen
END:VEVENT
BEGIN:VEVENT
DTSTAMP:20260423T145938
DTSTART;TZID=Europe/Berlin:20260625T184500
DTEND;TZID=Europe/Berlin:20260625T204500
UID:AT9587-20260625T184500@VHSSAARBRÜCKEN
SUMMARY:Zeichenwerkstatt: Portrait (AT9587) 
LOCATION:Kloster Heilig Kreuz Püttlingen, Völklinger Straße 197, 66346 Püttlingen
END:VEVENT
BEGIN:VEVENT
DTSTAMP:20260423T145938
DTSTART;TZID=Europe/Berlin:20260813T184500
DTEND;TZID=Europe/Berlin:20260813T204500
UID:AT9587-20260813T184500@VHSSAARBRÜCKEN
SUMMARY:Zeichenwerkstatt: Portrait (AT9587) 
LOCATION:Kloster Heilig Kreuz Püttlingen, Völklinger Straße 197, 66346 Püttlingen
END:VEVENT
BEGIN:VEVENT
DTSTAMP:20260423T145938
DTSTART;TZID=Europe/Berlin:20260820T184500
DTEND;TZID=Europe/Berlin:20260820T204500
UID:AT9587-20260820T184500@VHSSAARBRÜCKEN
SUMMARY:Zeichenwerkstatt: Portrait (AT9587) 
LOCATION:Kloster Heilig Kreuz Püttlingen, Völklinger Straße 197, 66346 Püttlingen
END:VEVENT
BEGIN:VEVENT
DTSTAMP:20260423T145938
DTSTART;TZID=Europe/Berlin:20260827T184500
DTEND;TZID=Europe/Berlin:20260827T204500
UID:AT9587-20260827T184500@VHSSAARBRÜCKEN
SUMMARY:Zeichenwerkstatt: Portrait (AT9587) 
LOCATION:Kloster Heilig Kreuz Püttlingen, Völklinger Straße 197, 66346 Püttlingen
END:VEVENT
END:VCALENDAR