BEGIN:VCALENDAR
VERSION:2.0
PRODID:https://www.kufer.de/kuferweb / DE
METHOD:PUBLISH
CALSCALE:GREGORIAN
X-WR-TIMEZONE:Europe/Berlin
BEGIN:VTIMEZONE
TZID:Europe/Berlin
X-LIC-LOCATION:Europe/Berlin
BEGIN:DAYLIGHT
TZOFFSETFROM:+0100
TZOFFSETTO:+0200
TZNAME:CEST
DTSTART:19700329T020000
RRULE:FREQ=YEARLY;INTERVAL=1;BYDAY=-1SU;BYMONTH=3
END:DAYLIGHT
BEGIN:STANDARD
TZOFFSETFROM:+0200
TZOFFSETTO:+0100
TZNAME:CET
DTSTART:19701025T030000
RRULE:FREQ=YEARLY;INTERVAL=1;BYDAY=-1SU;BYMONTH=10
END:STANDARD
END:VTIMEZONE
BEGIN:VEVENT
DTSTAMP:20260421T193759
DTSTART;TZID=Europe/Berlin:20260310T161500
DTEND;TZID=Europe/Berlin:20260310T191500
UID:AT9339-20260310T161500@VHSSAARBRÜCKEN
SUMMARY:Mode und Accessoires selbst schneidern (AT9339) 
LOCATION:Friedrich-Schiller-Schule Heusweiler, Nähraum, Erdgeschoss, Schillerstr. 65, 66265 Heusweiler
END:VEVENT
BEGIN:VEVENT
DTSTAMP:20260421T193759
DTSTART;TZID=Europe/Berlin:20260317T161500
DTEND;TZID=Europe/Berlin:20260317T191500
UID:AT9339-20260317T161500@VHSSAARBRÜCKEN
SUMMARY:Mode und Accessoires selbst schneidern (AT9339) 
LOCATION:Friedrich-Schiller-Schule Heusweiler, Nähraum, Erdgeschoss, Schillerstr. 65, 66265 Heusweiler
END:VEVENT
BEGIN:VEVENT
DTSTAMP:20260421T193759
DTSTART;TZID=Europe/Berlin:20260324T161500
DTEND;TZID=Europe/Berlin:20260324T191500
UID:AT9339-20260324T161500@VHSSAARBRÜCKEN
SUMMARY:Mode und Accessoires selbst schneidern (AT9339) 
LOCATION:Friedrich-Schiller-Schule Heusweiler, Nähraum, Erdgeschoss, Schillerstr. 65, 66265 Heusweiler
END:VEVENT
BEGIN:VEVENT
DTSTAMP:20260421T193759
DTSTART;TZID=Europe/Berlin:20260331T161500
DTEND;TZID=Europe/Berlin:20260331T191500
UID:AT9339-20260331T161500@VHSSAARBRÜCKEN
SUMMARY:Mode und Accessoires selbst schneidern (AT9339) 
LOCATION:Friedrich-Schiller-Schule Heusweiler, Nähraum, Erdgeschoss, Schillerstr. 65, 66265 Heusweiler
END:VEVENT
BEGIN:VEVENT
DTSTAMP:20260421T193759
DTSTART;TZID=Europe/Berlin:20260421T161500
DTEND;TZID=Europe/Berlin:20260421T191500
UID:AT9339-20260421T161500@VHSSAARBRÜCKEN
SUMMARY:Mode und Accessoires selbst schneidern (AT9339) 
LOCATION:Friedrich-Schiller-Schule Heusweiler, Nähraum, Erdgeschoss, Schillerstr. 65, 66265 Heusweiler
END:VEVENT
BEGIN:VEVENT
DTSTAMP:20260421T193759
DTSTART;TZID=Europe/Berlin:20260428T161500
DTEND;TZID=Europe/Berlin:20260428T191500
UID:AT9339-20260428T161500@VHSSAARBRÜCKEN
SUMMARY:Mode und Accessoires selbst schneidern (AT9339) 
LOCATION:Friedrich-Schiller-Schule Heusweiler, Nähraum, Erdgeschoss, Schillerstr. 65, 66265 Heusweiler
END:VEVENT
BEGIN:VEVENT
DTSTAMP:20260421T193759
DTSTART;TZID=Europe/Berlin:20260505T161500
DTEND;TZID=Europe/Berlin:20260505T191500
UID:AT9339-20260505T161500@VHSSAARBRÜCKEN
SUMMARY:Mode und Accessoires selbst schneidern (AT9339) 
LOCATION:Friedrich-Schiller-Schule Heusweiler, Nähraum, Erdgeschoss, Schillerstr. 65, 66265 Heusweiler
END:VEVENT
BEGIN:VEVENT
DTSTAMP:20260421T193759
DTSTART;TZID=Europe/Berlin:20260512T161500
DTEND;TZID=Europe/Berlin:20260512T191500
UID:AT9339-20260512T161500@VHSSAARBRÜCKEN
SUMMARY:Mode und Accessoires selbst schneidern (AT9339) 
LOCATION:Friedrich-Schiller-Schule Heusweiler, Nähraum, Erdgeschoss, Schillerstr. 65, 66265 Heusweiler
END:VEVENT
BEGIN:VEVENT
DTSTAMP:20260421T193759
DTSTART;TZID=Europe/Berlin:20260519T161500
DTEND;TZID=Europe/Berlin:20260519T191500
UID:AT9339-20260519T161500@VHSSAARBRÜCKEN
SUMMARY:Mode und Accessoires selbst schneidern (AT9339) 
LOCATION:Friedrich-Schiller-Schule Heusweiler, Nähraum, Erdgeschoss, Schillerstr. 65, 66265 Heusweiler
END:VEVENT
BEGIN:VEVENT
DTSTAMP:20260421T193759
DTSTART;TZID=Europe/Berlin:20260526T161500
DTEND;TZID=Europe/Berlin:20260526T191500
UID:AT9339-20260526T161500@VHSSAARBRÜCKEN
SUMMARY:Mode und Accessoires selbst schneidern (AT9339) 
LOCATION:Friedrich-Schiller-Schule Heusweiler, Nähraum, Erdgeschoss, Schillerstr. 65, 66265 Heusweiler
END:VEVENT
BEGIN:VEVENT
DTSTAMP:20260421T193759
DTSTART;TZID=Europe/Berlin:20260602T161500
DTEND;TZID=Europe/Berlin:20260602T191500
UID:AT9339-20260602T161500@VHSSAARBRÜCKEN
SUMMARY:Mode und Accessoires selbst schneidern (AT9339) 
LOCATION:Friedrich-Schiller-Schule Heusweiler, Nähraum, Erdgeschoss, Schillerstr. 65, 66265 Heusweiler
END:VEVENT
BEGIN:VEVENT
DTSTAMP:20260421T193759
DTSTART;TZID=Europe/Berlin:20260609T161500
DTEND;TZID=Europe/Berlin:20260609T191500
UID:AT9339-20260609T161500@VHSSAARBRÜCKEN
SUMMARY:Mode und Accessoires selbst schneidern (AT9339) 
LOCATION:Friedrich-Schiller-Schule Heusweiler, Nähraum, Erdgeschoss, Schillerstr. 65, 66265 Heusweiler
END:VEVENT
END:VCALENDAR