BEGIN:VCALENDAR
VERSION:2.0
PRODID:https://www.kufer.de/kuferweb / DE
METHOD:PUBLISH
CALSCALE:GREGORIAN
X-WR-TIMEZONE:Europe/Berlin
BEGIN:VTIMEZONE
TZID:Europe/Berlin
X-LIC-LOCATION:Europe/Berlin
BEGIN:DAYLIGHT
TZOFFSETFROM:+0100
TZOFFSETTO:+0200
TZNAME:CEST
DTSTART:19700329T020000
RRULE:FREQ=YEARLY;INTERVAL=1;BYDAY=-1SU;BYMONTH=3
END:DAYLIGHT
BEGIN:STANDARD
TZOFFSETFROM:+0200
TZOFFSETTO:+0100
TZNAME:CET
DTSTART:19701025T030000
RRULE:FREQ=YEARLY;INTERVAL=1;BYDAY=-1SU;BYMONTH=10
END:STANDARD
END:VTIMEZONE
BEGIN:VEVENT
DTSTAMP:20260422T000730
DTSTART;TZID=Europe/Berlin:20260312T163000
DTEND;TZID=Europe/Berlin:20260312T184500
UID:AT9171-20260312T163000@VHSSAARBRÜCKEN
SUMMARY:Nähen und Zuschneiden für AnfängerInnen und Fortgeschrittene (AT9171) 
LOCATION:vhs-Zentrum für Weiterbildung in der Montessori Schule, Im Grühlingswald 19, 66299 Friedrichsthal
END:VEVENT
BEGIN:VEVENT
DTSTAMP:20260422T000730
DTSTART;TZID=Europe/Berlin:20260319T163000
DTEND;TZID=Europe/Berlin:20260319T184500
UID:AT9171-20260319T163000@VHSSAARBRÜCKEN
SUMMARY:Nähen und Zuschneiden für AnfängerInnen und Fortgeschrittene (AT9171) 
LOCATION:vhs-Zentrum für Weiterbildung in der Montessori Schule, Im Grühlingswald 19, 66299 Friedrichsthal
END:VEVENT
BEGIN:VEVENT
DTSTAMP:20260422T000730
DTSTART;TZID=Europe/Berlin:20260326T163000
DTEND;TZID=Europe/Berlin:20260326T184500
UID:AT9171-20260326T163000@VHSSAARBRÜCKEN
SUMMARY:Nähen und Zuschneiden für AnfängerInnen und Fortgeschrittene (AT9171) 
LOCATION:vhs-Zentrum für Weiterbildung in der Montessori Schule, Im Grühlingswald 19, 66299 Friedrichsthal
END:VEVENT
BEGIN:VEVENT
DTSTAMP:20260422T000730
DTSTART;TZID=Europe/Berlin:20260402T163000
DTEND;TZID=Europe/Berlin:20260402T184500
UID:AT9171-20260402T163000@VHSSAARBRÜCKEN
SUMMARY:Nähen und Zuschneiden für AnfängerInnen und Fortgeschrittene (AT9171) 
LOCATION:vhs-Zentrum für Weiterbildung in der Montessori Schule, Im Grühlingswald 19, 66299 Friedrichsthal
END:VEVENT
BEGIN:VEVENT
DTSTAMP:20260422T000730
DTSTART;TZID=Europe/Berlin:20260423T163000
DTEND;TZID=Europe/Berlin:20260423T184500
UID:AT9171-20260423T163000@VHSSAARBRÜCKEN
SUMMARY:Nähen und Zuschneiden für AnfängerInnen und Fortgeschrittene (AT9171) 
LOCATION:vhs-Zentrum für Weiterbildung in der Montessori Schule, Im Grühlingswald 19, 66299 Friedrichsthal
END:VEVENT
BEGIN:VEVENT
DTSTAMP:20260422T000730
DTSTART;TZID=Europe/Berlin:20260430T163000
DTEND;TZID=Europe/Berlin:20260430T184500
UID:AT9171-20260430T163000@VHSSAARBRÜCKEN
SUMMARY:Nähen und Zuschneiden für AnfängerInnen und Fortgeschrittene (AT9171) 
LOCATION:vhs-Zentrum für Weiterbildung in der Montessori Schule, Im Grühlingswald 19, 66299 Friedrichsthal
END:VEVENT
BEGIN:VEVENT
DTSTAMP:20260422T000730
DTSTART;TZID=Europe/Berlin:20260507T163000
DTEND;TZID=Europe/Berlin:20260507T184500
UID:AT9171-20260507T163000@VHSSAARBRÜCKEN
SUMMARY:Nähen und Zuschneiden für AnfängerInnen und Fortgeschrittene (AT9171) 
LOCATION:vhs-Zentrum für Weiterbildung in der Montessori Schule, Im Grühlingswald 19, 66299 Friedrichsthal
END:VEVENT
BEGIN:VEVENT
DTSTAMP:20260422T000730
DTSTART;TZID=Europe/Berlin:20260521T163000
DTEND;TZID=Europe/Berlin:20260521T184500
UID:AT9171-20260521T163000@VHSSAARBRÜCKEN
SUMMARY:Nähen und Zuschneiden für AnfängerInnen und Fortgeschrittene (AT9171) 
LOCATION:vhs-Zentrum für Weiterbildung in der Montessori Schule, Im Grühlingswald 19, 66299 Friedrichsthal
END:VEVENT
BEGIN:VEVENT
DTSTAMP:20260422T000730
DTSTART;TZID=Europe/Berlin:20260528T163000
DTEND;TZID=Europe/Berlin:20260528T184500
UID:AT9171-20260528T163000@VHSSAARBRÜCKEN
SUMMARY:Nähen und Zuschneiden für AnfängerInnen und Fortgeschrittene (AT9171) 
LOCATION:vhs-Zentrum für Weiterbildung in der Montessori Schule, Im Grühlingswald 19, 66299 Friedrichsthal
END:VEVENT
BEGIN:VEVENT
DTSTAMP:20260422T000730
DTSTART;TZID=Europe/Berlin:20260611T163000
DTEND;TZID=Europe/Berlin:20260611T184500
UID:AT9171-20260611T163000@VHSSAARBRÜCKEN
SUMMARY:Nähen und Zuschneiden für AnfängerInnen und Fortgeschrittene (AT9171) 
LOCATION:vhs-Zentrum für Weiterbildung in der Montessori Schule, Im Grühlingswald 19, 66299 Friedrichsthal
END:VEVENT
BEGIN:VEVENT
DTSTAMP:20260422T000730
DTSTART;TZID=Europe/Berlin:20260618T163000
DTEND;TZID=Europe/Berlin:20260618T184500
UID:AT9171-20260618T163000@VHSSAARBRÜCKEN
SUMMARY:Nähen und Zuschneiden für AnfängerInnen und Fortgeschrittene (AT9171) 
LOCATION:vhs-Zentrum für Weiterbildung in der Montessori Schule, Im Grühlingswald 19, 66299 Friedrichsthal
END:VEVENT
END:VCALENDAR