BEGIN:VCALENDAR
VERSION:2.0
PRODID:https://www.kufer.de/kuferweb / DE
METHOD:PUBLISH
CALSCALE:GREGORIAN
X-WR-TIMEZONE:Europe/Berlin
BEGIN:VTIMEZONE
TZID:Europe/Berlin
X-LIC-LOCATION:Europe/Berlin
BEGIN:DAYLIGHT
TZOFFSETFROM:+0100
TZOFFSETTO:+0200
TZNAME:CEST
DTSTART:19700329T020000
RRULE:FREQ=YEARLY;INTERVAL=1;BYDAY=-1SU;BYMONTH=3
END:DAYLIGHT
BEGIN:STANDARD
TZOFFSETFROM:+0200
TZOFFSETTO:+0100
TZNAME:CET
DTSTART:19701025T030000
RRULE:FREQ=YEARLY;INTERVAL=1;BYDAY=-1SU;BYMONTH=10
END:STANDARD
END:VTIMEZONE
BEGIN:VEVENT
DTSTAMP:20260421T224542
DTSTART;TZID=Europe/Berlin:20260311T163000
DTEND;TZID=Europe/Berlin:20260311T184500
UID:AT9170-20260311T163000@VHSSAARBRÜCKEN
SUMMARY:Nähen und Zuschneiden für AnfängerInnen und Fortgeschrittene (AT9170) 
LOCATION:vhs-Zentrum für Weiterbildung in der Montessori Schule, Im Grühlingswald 19, 66299 Friedrichsthal
END:VEVENT
BEGIN:VEVENT
DTSTAMP:20260421T224542
DTSTART;TZID=Europe/Berlin:20260318T163000
DTEND;TZID=Europe/Berlin:20260318T184500
UID:AT9170-20260318T163000@VHSSAARBRÜCKEN
SUMMARY:Nähen und Zuschneiden für AnfängerInnen und Fortgeschrittene (AT9170) 
LOCATION:vhs-Zentrum für Weiterbildung in der Montessori Schule, Im Grühlingswald 19, 66299 Friedrichsthal
END:VEVENT
BEGIN:VEVENT
DTSTAMP:20260421T224542
DTSTART;TZID=Europe/Berlin:20260325T163000
DTEND;TZID=Europe/Berlin:20260325T184500
UID:AT9170-20260325T163000@VHSSAARBRÜCKEN
SUMMARY:Nähen und Zuschneiden für AnfängerInnen und Fortgeschrittene (AT9170) 
LOCATION:vhs-Zentrum für Weiterbildung in der Montessori Schule, Im Grühlingswald 19, 66299 Friedrichsthal
END:VEVENT
BEGIN:VEVENT
DTSTAMP:20260421T224542
DTSTART;TZID=Europe/Berlin:20260401T163000
DTEND;TZID=Europe/Berlin:20260401T184500
UID:AT9170-20260401T163000@VHSSAARBRÜCKEN
SUMMARY:Nähen und Zuschneiden für AnfängerInnen und Fortgeschrittene (AT9170) 
LOCATION:vhs-Zentrum für Weiterbildung in der Montessori Schule, Im Grühlingswald 19, 66299 Friedrichsthal
END:VEVENT
BEGIN:VEVENT
DTSTAMP:20260421T224542
DTSTART;TZID=Europe/Berlin:20260422T163000
DTEND;TZID=Europe/Berlin:20260422T184500
UID:AT9170-20260422T163000@VHSSAARBRÜCKEN
SUMMARY:Nähen und Zuschneiden für AnfängerInnen und Fortgeschrittene (AT9170) 
LOCATION:vhs-Zentrum für Weiterbildung in der Montessori Schule, Im Grühlingswald 19, 66299 Friedrichsthal
END:VEVENT
BEGIN:VEVENT
DTSTAMP:20260421T224542
DTSTART;TZID=Europe/Berlin:20260429T163000
DTEND;TZID=Europe/Berlin:20260429T184500
UID:AT9170-20260429T163000@VHSSAARBRÜCKEN
SUMMARY:Nähen und Zuschneiden für AnfängerInnen und Fortgeschrittene (AT9170) 
LOCATION:vhs-Zentrum für Weiterbildung in der Montessori Schule, Im Grühlingswald 19, 66299 Friedrichsthal
END:VEVENT
BEGIN:VEVENT
DTSTAMP:20260421T224542
DTSTART;TZID=Europe/Berlin:20260506T163000
DTEND;TZID=Europe/Berlin:20260506T184500
UID:AT9170-20260506T163000@VHSSAARBRÜCKEN
SUMMARY:Nähen und Zuschneiden für AnfängerInnen und Fortgeschrittene (AT9170) 
LOCATION:vhs-Zentrum für Weiterbildung in der Montessori Schule, Im Grühlingswald 19, 66299 Friedrichsthal
END:VEVENT
BEGIN:VEVENT
DTSTAMP:20260421T224542
DTSTART;TZID=Europe/Berlin:20260513T163000
DTEND;TZID=Europe/Berlin:20260513T184500
UID:AT9170-20260513T163000@VHSSAARBRÜCKEN
SUMMARY:Nähen und Zuschneiden für AnfängerInnen und Fortgeschrittene (AT9170) 
LOCATION:vhs-Zentrum für Weiterbildung in der Montessori Schule, Im Grühlingswald 19, 66299 Friedrichsthal
END:VEVENT
BEGIN:VEVENT
DTSTAMP:20260421T224542
DTSTART;TZID=Europe/Berlin:20260520T163000
DTEND;TZID=Europe/Berlin:20260520T184500
UID:AT9170-20260520T163000@VHSSAARBRÜCKEN
SUMMARY:Nähen und Zuschneiden für AnfängerInnen und Fortgeschrittene (AT9170) 
LOCATION:vhs-Zentrum für Weiterbildung in der Montessori Schule, Im Grühlingswald 19, 66299 Friedrichsthal
END:VEVENT
BEGIN:VEVENT
DTSTAMP:20260421T224542
DTSTART;TZID=Europe/Berlin:20260527T163000
DTEND;TZID=Europe/Berlin:20260527T184500
UID:AT9170-20260527T163000@VHSSAARBRÜCKEN
SUMMARY:Nähen und Zuschneiden für AnfängerInnen und Fortgeschrittene (AT9170) 
LOCATION:vhs-Zentrum für Weiterbildung in der Montessori Schule, Im Grühlingswald 19, 66299 Friedrichsthal
END:VEVENT
BEGIN:VEVENT
DTSTAMP:20260421T224542
DTSTART;TZID=Europe/Berlin:20260603T163000
DTEND;TZID=Europe/Berlin:20260603T184500
UID:AT9170-20260603T163000@VHSSAARBRÜCKEN
SUMMARY:Nähen und Zuschneiden für AnfängerInnen und Fortgeschrittene (AT9170) 
LOCATION:vhs-Zentrum für Weiterbildung in der Montessori Schule, Im Grühlingswald 19, 66299 Friedrichsthal
END:VEVENT
END:VCALENDAR