BEGIN:VCALENDAR
VERSION:2.0
PRODID:https://www.kufer.de/kuferweb / DE
METHOD:PUBLISH
CALSCALE:GREGORIAN
X-WR-TIMEZONE:Europe/Berlin
BEGIN:VTIMEZONE
TZID:Europe/Berlin
X-LIC-LOCATION:Europe/Berlin
BEGIN:DAYLIGHT
TZOFFSETFROM:+0100
TZOFFSETTO:+0200
TZNAME:CEST
DTSTART:19700329T020000
RRULE:FREQ=YEARLY;INTERVAL=1;BYDAY=-1SU;BYMONTH=3
END:DAYLIGHT
BEGIN:STANDARD
TZOFFSETFROM:+0200
TZOFFSETTO:+0100
TZNAME:CET
DTSTART:19701025T030000
RRULE:FREQ=YEARLY;INTERVAL=1;BYDAY=-1SU;BYMONTH=10
END:STANDARD
END:VTIMEZONE
BEGIN:VEVENT
DTSTAMP:20260421T223108
DTSTART;TZID=Europe/Berlin:20260311T180000
DTEND;TZID=Europe/Berlin:20260311T201500
UID:AT8847-20260311T180000@VHSSAARBRÜCKEN
SUMMARY:Keramikkurs (AT8847) 
LOCATION:Gemeinschaftsschule Dudweiler, Raum U1, UG, An der Mühlenschule 3, 66125 Saarbrücken
END:VEVENT
BEGIN:VEVENT
DTSTAMP:20260421T223108
DTSTART;TZID=Europe/Berlin:20260318T180000
DTEND;TZID=Europe/Berlin:20260318T201500
UID:AT8847-20260318T180000@VHSSAARBRÜCKEN
SUMMARY:Keramikkurs (AT8847) 
LOCATION:Gemeinschaftsschule Dudweiler, Raum U1, UG, An der Mühlenschule 3, 66125 Saarbrücken
END:VEVENT
BEGIN:VEVENT
DTSTAMP:20260421T223108
DTSTART;TZID=Europe/Berlin:20260325T180000
DTEND;TZID=Europe/Berlin:20260325T201500
UID:AT8847-20260325T180000@VHSSAARBRÜCKEN
SUMMARY:Keramikkurs (AT8847) 
LOCATION:Gemeinschaftsschule Dudweiler, Raum U1, UG, An der Mühlenschule 3, 66125 Saarbrücken
END:VEVENT
BEGIN:VEVENT
DTSTAMP:20260421T223108
DTSTART;TZID=Europe/Berlin:20260422T180000
DTEND;TZID=Europe/Berlin:20260422T201500
UID:AT8847-20260422T180000@VHSSAARBRÜCKEN
SUMMARY:Keramikkurs (AT8847) 
LOCATION:Gemeinschaftsschule Dudweiler, Raum U1, UG, An der Mühlenschule 3, 66125 Saarbrücken
END:VEVENT
BEGIN:VEVENT
DTSTAMP:20260421T223108
DTSTART;TZID=Europe/Berlin:20260429T180000
DTEND;TZID=Europe/Berlin:20260429T201500
UID:AT8847-20260429T180000@VHSSAARBRÜCKEN
SUMMARY:Keramikkurs (AT8847) 
LOCATION:Gemeinschaftsschule Dudweiler, Raum U1, UG, An der Mühlenschule 3, 66125 Saarbrücken
END:VEVENT
BEGIN:VEVENT
DTSTAMP:20260421T223108
DTSTART;TZID=Europe/Berlin:20260506T180000
DTEND;TZID=Europe/Berlin:20260506T201500
UID:AT8847-20260506T180000@VHSSAARBRÜCKEN
SUMMARY:Keramikkurs (AT8847) 
LOCATION:Gemeinschaftsschule Dudweiler, Raum U1, UG, An der Mühlenschule 3, 66125 Saarbrücken
END:VEVENT
BEGIN:VEVENT
DTSTAMP:20260421T223108
DTSTART;TZID=Europe/Berlin:20260513T180000
DTEND;TZID=Europe/Berlin:20260513T201500
UID:AT8847-20260513T180000@VHSSAARBRÜCKEN
SUMMARY:Keramikkurs (AT8847) 
LOCATION:Gemeinschaftsschule Dudweiler, Raum U1, UG, An der Mühlenschule 3, 66125 Saarbrücken
END:VEVENT
BEGIN:VEVENT
DTSTAMP:20260421T223108
DTSTART;TZID=Europe/Berlin:20260520T180000
DTEND;TZID=Europe/Berlin:20260520T201500
UID:AT8847-20260520T180000@VHSSAARBRÜCKEN
SUMMARY:Keramikkurs (AT8847) 
LOCATION:Gemeinschaftsschule Dudweiler, Raum U1, UG, An der Mühlenschule 3, 66125 Saarbrücken
END:VEVENT
BEGIN:VEVENT
DTSTAMP:20260421T223108
DTSTART;TZID=Europe/Berlin:20260527T180000
DTEND;TZID=Europe/Berlin:20260527T201500
UID:AT8847-20260527T180000@VHSSAARBRÜCKEN
SUMMARY:Keramikkurs (AT8847) 
LOCATION:Gemeinschaftsschule Dudweiler, Raum U1, UG, An der Mühlenschule 3, 66125 Saarbrücken
END:VEVENT
BEGIN:VEVENT
DTSTAMP:20260421T223108
DTSTART;TZID=Europe/Berlin:20260603T180000
DTEND;TZID=Europe/Berlin:20260603T184500
UID:AT8847-20260603T180000@VHSSAARBRÜCKEN
DESCRIPTION:Abholtermin nur 1 UE
SUMMARY:Keramikkurs (AT8847) 
LOCATION:Gemeinschaftsschule Dudweiler, Raum U1, UG, An der Mühlenschule 3, 66125 Saarbrücken
END:VEVENT
END:VCALENDAR