BEGIN:VCALENDAR
VERSION:2.0
PRODID:https://www.kufer.de/kuferweb / DE
METHOD:PUBLISH
CALSCALE:GREGORIAN
X-WR-TIMEZONE:Europe/Berlin
BEGIN:VTIMEZONE
TZID:Europe/Berlin
X-LIC-LOCATION:Europe/Berlin
BEGIN:DAYLIGHT
TZOFFSETFROM:+0100
TZOFFSETTO:+0200
TZNAME:CEST
DTSTART:19700329T020000
RRULE:FREQ=YEARLY;INTERVAL=1;BYDAY=-1SU;BYMONTH=3
END:DAYLIGHT
BEGIN:STANDARD
TZOFFSETFROM:+0200
TZOFFSETTO:+0100
TZNAME:CET
DTSTART:19701025T030000
RRULE:FREQ=YEARLY;INTERVAL=1;BYDAY=-1SU;BYMONTH=10
END:STANDARD
END:VTIMEZONE
BEGIN:VEVENT
DTSTAMP:20260422T132619
DTSTART;TZID=Europe/Berlin:20260422T153000
DTEND;TZID=Europe/Berlin:20260422T174500
UID:AT5444-20260422T153000@VHSSAARBRÜCKEN
SUMMARY:Grammatik und Rechtschreibung (AT5444) 
LOCATION:Sulzbachstraße, Raum 8, Sulzbachstr. 16-18, 66111 Saarbrücken
END:VEVENT
BEGIN:VEVENT
DTSTAMP:20260422T132619
DTSTART;TZID=Europe/Berlin:20260429T153000
DTEND;TZID=Europe/Berlin:20260429T174500
UID:AT5444-20260429T153000@VHSSAARBRÜCKEN
SUMMARY:Grammatik und Rechtschreibung (AT5444) 
LOCATION:Sulzbachstraße, Raum 8, Sulzbachstr. 16-18, 66111 Saarbrücken
END:VEVENT
BEGIN:VEVENT
DTSTAMP:20260422T132619
DTSTART;TZID=Europe/Berlin:20260506T153000
DTEND;TZID=Europe/Berlin:20260506T174500
UID:AT5444-20260506T153000@VHSSAARBRÜCKEN
SUMMARY:Grammatik und Rechtschreibung (AT5444) 
LOCATION:Sulzbachstraße, Raum 8, Sulzbachstr. 16-18, 66111 Saarbrücken
END:VEVENT
BEGIN:VEVENT
DTSTAMP:20260422T132619
DTSTART;TZID=Europe/Berlin:20260513T153000
DTEND;TZID=Europe/Berlin:20260513T174500
UID:AT5444-20260513T153000@VHSSAARBRÜCKEN
SUMMARY:Grammatik und Rechtschreibung (AT5444) 
LOCATION:Sulzbachstraße, Raum 8, Sulzbachstr. 16-18, 66111 Saarbrücken
END:VEVENT
BEGIN:VEVENT
DTSTAMP:20260422T132619
DTSTART;TZID=Europe/Berlin:20260520T153000
DTEND;TZID=Europe/Berlin:20260520T174500
UID:AT5444-20260520T153000@VHSSAARBRÜCKEN
SUMMARY:Grammatik und Rechtschreibung (AT5444) 
LOCATION:Sulzbachstraße, Raum 8, Sulzbachstr. 16-18, 66111 Saarbrücken
END:VEVENT
BEGIN:VEVENT
DTSTAMP:20260422T132619
DTSTART;TZID=Europe/Berlin:20260527T153000
DTEND;TZID=Europe/Berlin:20260527T174500
UID:AT5444-20260527T153000@VHSSAARBRÜCKEN
SUMMARY:Grammatik und Rechtschreibung (AT5444) 
LOCATION:Sulzbachstraße, Raum 8, Sulzbachstr. 16-18, 66111 Saarbrücken
END:VEVENT
BEGIN:VEVENT
DTSTAMP:20260422T132619
DTSTART;TZID=Europe/Berlin:20260603T153000
DTEND;TZID=Europe/Berlin:20260603T174500
UID:AT5444-20260603T153000@VHSSAARBRÜCKEN
SUMMARY:Grammatik und Rechtschreibung (AT5444) 
LOCATION:Sulzbachstraße, Raum 8, Sulzbachstr. 16-18, 66111 Saarbrücken
END:VEVENT
BEGIN:VEVENT
DTSTAMP:20260422T132619
DTSTART;TZID=Europe/Berlin:20260610T153000
DTEND;TZID=Europe/Berlin:20260610T174500
UID:AT5444-20260610T153000@VHSSAARBRÜCKEN
SUMMARY:Grammatik und Rechtschreibung (AT5444) 
LOCATION:Sulzbachstraße, Raum 8, Sulzbachstr. 16-18, 66111 Saarbrücken
END:VEVENT
BEGIN:VEVENT
DTSTAMP:20260422T132619
DTSTART;TZID=Europe/Berlin:20260617T153000
DTEND;TZID=Europe/Berlin:20260617T174500
UID:AT5444-20260617T153000@VHSSAARBRÜCKEN
SUMMARY:Grammatik und Rechtschreibung (AT5444) 
LOCATION:Sulzbachstraße, Raum 8, Sulzbachstr. 16-18, 66111 Saarbrücken
END:VEVENT
BEGIN:VEVENT
DTSTAMP:20260422T132619
DTSTART;TZID=Europe/Berlin:20260624T153000
DTEND;TZID=Europe/Berlin:20260624T174500
UID:AT5444-20260624T153000@VHSSAARBRÜCKEN
SUMMARY:Grammatik und Rechtschreibung (AT5444) 
LOCATION:Sulzbachstraße, Raum 8, Sulzbachstr. 16-18, 66111 Saarbrücken
END:VEVENT
END:VCALENDAR