BEGIN:VCALENDAR
VERSION:2.0
PRODID:https://www.kufer.de/kuferweb / DE
METHOD:PUBLISH
CALSCALE:GREGORIAN
X-WR-TIMEZONE:Europe/Berlin
BEGIN:VTIMEZONE
TZID:Europe/Berlin
X-LIC-LOCATION:Europe/Berlin
BEGIN:DAYLIGHT
TZOFFSETFROM:+0100
TZOFFSETTO:+0200
TZNAME:CEST
DTSTART:19700329T020000
RRULE:FREQ=YEARLY;INTERVAL=1;BYDAY=-1SU;BYMONTH=3
END:DAYLIGHT
BEGIN:STANDARD
TZOFFSETFROM:+0200
TZOFFSETTO:+0100
TZNAME:CET
DTSTART:19701025T030000
RRULE:FREQ=YEARLY;INTERVAL=1;BYDAY=-1SU;BYMONTH=10
END:STANDARD
END:VTIMEZONE
BEGIN:VEVENT
DTSTAMP:20260420T071612
DTSTART;TZID=Europe/Berlin:20260612T180000
DTEND;TZID=Europe/Berlin:20260612T210000
UID:AT4404-20260612T180000@VHSSAARBRÜCKEN
SUMMARY:20.06.2026  (AT4404) 
LOCATION:Rathaus-Carré PC-Saal 2, Gerberstraße 2, Saarbrücken
END:VEVENT
BEGIN:VEVENT
DTSTAMP:20260420T071612
DTSTART;TZID=Europe/Berlin:20260613T090000
DTEND;TZID=Europe/Berlin:20260613T160000
UID:AT4404-20260613T090000@VHSSAARBRÜCKEN
SUMMARY:20.06.2026  (AT4404) 
LOCATION:Rathaus-Carré PC-Saal 2, Gerberstraße 2, Saarbrücken
END:VEVENT
BEGIN:VEVENT
DTSTAMP:20260420T071612
DTSTART;TZID=Europe/Berlin:20260619T180000
DTEND;TZID=Europe/Berlin:20260619T210000
UID:AT4404-20260619T180000@VHSSAARBRÜCKEN
SUMMARY:20.06.2026  (AT4404) 
LOCATION:Rathaus-Carré PC-Saal 2, Gerberstraße 2, Saarbrücken
END:VEVENT
BEGIN:VEVENT
DTSTAMP:20260420T071612
DTSTART;TZID=Europe/Berlin:20260620T090000
DTEND;TZID=Europe/Berlin:20260620T160000
UID:AT4404-20260620T090000@VHSSAARBRÜCKEN
SUMMARY:20.06.2026  (AT4404) 
LOCATION:Rathaus-Carré PC-Saal 2, Gerberstraße 2, Saarbrücken
END:VEVENT
END:VCALENDAR