BEGIN:VCALENDAR
VERSION:2.0
PRODID:https://www.kufer.de/kuferweb / DE
METHOD:PUBLISH
CALSCALE:GREGORIAN
X-WR-TIMEZONE:Europe/Berlin
BEGIN:VTIMEZONE
TZID:Europe/Berlin
X-LIC-LOCATION:Europe/Berlin
BEGIN:DAYLIGHT
TZOFFSETFROM:+0100
TZOFFSETTO:+0200
TZNAME:CEST
DTSTART:19700329T020000
RRULE:FREQ=YEARLY;INTERVAL=1;BYDAY=-1SU;BYMONTH=3
END:DAYLIGHT
BEGIN:STANDARD
TZOFFSETFROM:+0200
TZOFFSETTO:+0100
TZNAME:CET
DTSTART:19701025T030000
RRULE:FREQ=YEARLY;INTERVAL=1;BYDAY=-1SU;BYMONTH=10
END:STANDARD
END:VTIMEZONE
BEGIN:VEVENT
DTSTAMP:20260420T072302
DTSTART;TZID=Europe/Berlin:20260626T090000
DTEND;TZID=Europe/Berlin:20260626T160000
UID:AT4050-20260626T090000@VHSSAARBRÜCKEN
SUMMARY:Xpert Cultural Communication Skills: Basic (AT4050) 
LOCATION:Rathaus-Carré Seminarraum 10, Gerberstraße 2, Saarbrücken
END:VEVENT
BEGIN:VEVENT
DTSTAMP:20260420T072302
DTSTART;TZID=Europe/Berlin:20260627T090000
DTEND;TZID=Europe/Berlin:20260627T160000
UID:AT4050-20260627T090000@VHSSAARBRÜCKEN
SUMMARY:Xpert Cultural Communication Skills: Basic (AT4050) 
LOCATION:Rathaus-Carré Seminarraum 10, Gerberstraße 2, Saarbrücken
END:VEVENT
END:VCALENDAR