BEGIN:VCALENDAR
VERSION:2.0
PRODID:https://www.kufer.de/kuferweb / DE
METHOD:PUBLISH
CALSCALE:GREGORIAN
X-WR-TIMEZONE:Europe/Berlin
BEGIN:VTIMEZONE
TZID:Europe/Berlin
X-LIC-LOCATION:Europe/Berlin
BEGIN:DAYLIGHT
TZOFFSETFROM:+0100
TZOFFSETTO:+0200
TZNAME:CEST
DTSTART:19700329T020000
RRULE:FREQ=YEARLY;INTERVAL=1;BYDAY=-1SU;BYMONTH=3
END:DAYLIGHT
BEGIN:STANDARD
TZOFFSETFROM:+0200
TZOFFSETTO:+0100
TZNAME:CET
DTSTART:19701025T030000
RRULE:FREQ=YEARLY;INTERVAL=1;BYDAY=-1SU;BYMONTH=10
END:STANDARD
END:VTIMEZONE
BEGIN:VEVENT
DTSTAMP:20260421T130420
DTSTART;TZID=Europe/Berlin:20260421T180000
DTEND;TZID=Europe/Berlin:20260421T193000
UID:AT3408-20260421T180000@VHSSAARBRÜCKEN
SUMMARY:Französisch A1 Stufe 1 nach den Osterferien (AT3408) 
LOCATION:Günter-Wöhe-Schulen für Wirtschaft, Raum 12, Keplerstraße 7, 66117 Saarbrücken
END:VEVENT
BEGIN:VEVENT
DTSTAMP:20260421T130420
DTSTART;TZID=Europe/Berlin:20260428T180000
DTEND;TZID=Europe/Berlin:20260428T193000
UID:AT3408-20260428T180000@VHSSAARBRÜCKEN
SUMMARY:Französisch A1 Stufe 1 nach den Osterferien (AT3408) 
LOCATION:Günter-Wöhe-Schulen für Wirtschaft, Raum 12, Keplerstraße 7, 66117 Saarbrücken
END:VEVENT
BEGIN:VEVENT
DTSTAMP:20260421T130420
DTSTART;TZID=Europe/Berlin:20260505T180000
DTEND;TZID=Europe/Berlin:20260505T193000
UID:AT3408-20260505T180000@VHSSAARBRÜCKEN
SUMMARY:Französisch A1 Stufe 1 nach den Osterferien (AT3408) 
LOCATION:Günter-Wöhe-Schulen für Wirtschaft, Raum 12, Keplerstraße 7, 66117 Saarbrücken
END:VEVENT
BEGIN:VEVENT
DTSTAMP:20260421T130420
DTSTART;TZID=Europe/Berlin:20260512T180000
DTEND;TZID=Europe/Berlin:20260512T193000
UID:AT3408-20260512T180000@VHSSAARBRÜCKEN
SUMMARY:Französisch A1 Stufe 1 nach den Osterferien (AT3408) 
LOCATION:Günter-Wöhe-Schulen für Wirtschaft, Raum 12, Keplerstraße 7, 66117 Saarbrücken
END:VEVENT
BEGIN:VEVENT
DTSTAMP:20260421T130420
DTSTART;TZID=Europe/Berlin:20260519T180000
DTEND;TZID=Europe/Berlin:20260519T193000
UID:AT3408-20260519T180000@VHSSAARBRÜCKEN
SUMMARY:Französisch A1 Stufe 1 nach den Osterferien (AT3408) 
LOCATION:Günter-Wöhe-Schulen für Wirtschaft, Raum 12, Keplerstraße 7, 66117 Saarbrücken
END:VEVENT
BEGIN:VEVENT
DTSTAMP:20260421T130420
DTSTART;TZID=Europe/Berlin:20260526T180000
DTEND;TZID=Europe/Berlin:20260526T193000
UID:AT3408-20260526T180000@VHSSAARBRÜCKEN
SUMMARY:Französisch A1 Stufe 1 nach den Osterferien (AT3408) 
LOCATION:Günter-Wöhe-Schulen für Wirtschaft, Raum 12, Keplerstraße 7, 66117 Saarbrücken
END:VEVENT
BEGIN:VEVENT
DTSTAMP:20260421T130420
DTSTART;TZID=Europe/Berlin:20260609T180000
DTEND;TZID=Europe/Berlin:20260609T193000
UID:AT3408-20260609T180000@VHSSAARBRÜCKEN
SUMMARY:Französisch A1 Stufe 1 nach den Osterferien (AT3408) 
LOCATION:Günter-Wöhe-Schulen für Wirtschaft, Raum 12, Keplerstraße 7, 66117 Saarbrücken
END:VEVENT
BEGIN:VEVENT
DTSTAMP:20260421T130420
DTSTART;TZID=Europe/Berlin:20260616T180000
DTEND;TZID=Europe/Berlin:20260616T193000
UID:AT3408-20260616T180000@VHSSAARBRÜCKEN
SUMMARY:Französisch A1 Stufe 1 nach den Osterferien (AT3408) 
LOCATION:Günter-Wöhe-Schulen für Wirtschaft, Raum 12, Keplerstraße 7, 66117 Saarbrücken
END:VEVENT
BEGIN:VEVENT
DTSTAMP:20260421T130420
DTSTART;TZID=Europe/Berlin:20260623T180000
DTEND;TZID=Europe/Berlin:20260623T193000
UID:AT3408-20260623T180000@VHSSAARBRÜCKEN
SUMMARY:Französisch A1 Stufe 1 nach den Osterferien (AT3408) 
LOCATION:Günter-Wöhe-Schulen für Wirtschaft, Raum 12, Keplerstraße 7, 66117 Saarbrücken
END:VEVENT
BEGIN:VEVENT
DTSTAMP:20260421T130420
DTSTART;TZID=Europe/Berlin:20260630T180000
DTEND;TZID=Europe/Berlin:20260630T193000
UID:AT3408-20260630T180000@VHSSAARBRÜCKEN
DESCRIPTION:Ersatz für Ausfall am 02.06.2026
SUMMARY:Französisch A1 Stufe 1 nach den Osterferien (AT3408) 
LOCATION:Günter-Wöhe-Schulen für Wirtschaft, Raum 12, Keplerstraße 7, 66117 Saarbrücken
END:VEVENT
END:VCALENDAR