BEGIN:VCALENDAR
VERSION:2.0
PRODID:https://www.kufer.de/kuferweb / DE
METHOD:PUBLISH
CALSCALE:GREGORIAN
X-WR-TIMEZONE:Europe/Berlin
BEGIN:VTIMEZONE
TZID:Europe/Berlin
X-LIC-LOCATION:Europe/Berlin
BEGIN:DAYLIGHT
TZOFFSETFROM:+0100
TZOFFSETTO:+0200
TZNAME:CEST
DTSTART:19700329T020000
RRULE:FREQ=YEARLY;INTERVAL=1;BYDAY=-1SU;BYMONTH=3
END:DAYLIGHT
BEGIN:STANDARD
TZOFFSETFROM:+0200
TZOFFSETTO:+0100
TZNAME:CET
DTSTART:19701025T030000
RRULE:FREQ=YEARLY;INTERVAL=1;BYDAY=-1SU;BYMONTH=10
END:STANDARD
END:VTIMEZONE
BEGIN:VEVENT
DTSTAMP:20260420T185211
DTSTART;TZID=Europe/Berlin:20260530T180000
DTEND;TZID=Europe/Berlin:20260530T190000
UID:AT2880C-20260530T180000@VHSSAARBRÜCKEN
SUMMARY:Salsa, Bachata, Kizomba für AnfängerInnen und WiedereinsteigerInnen (AT2880C) 
LOCATION:SV Saar 05 Tanzsport, Straße des 13. Januar 10, 66121 Saarbrücken
END:VEVENT
BEGIN:VEVENT
DTSTAMP:20260420T185211
DTSTART;TZID=Europe/Berlin:20260606T180000
DTEND;TZID=Europe/Berlin:20260606T190000
UID:AT2880C-20260606T180000@VHSSAARBRÜCKEN
SUMMARY:Salsa, Bachata, Kizomba für AnfängerInnen und WiedereinsteigerInnen (AT2880C) 
LOCATION:SV Saar 05 Tanzsport, Straße des 13. Januar 10, 66121 Saarbrücken
END:VEVENT
BEGIN:VEVENT
DTSTAMP:20260420T185211
DTSTART;TZID=Europe/Berlin:20260613T180000
DTEND;TZID=Europe/Berlin:20260613T190000
UID:AT2880C-20260613T180000@VHSSAARBRÜCKEN
SUMMARY:Salsa, Bachata, Kizomba für AnfängerInnen und WiedereinsteigerInnen (AT2880C) 
LOCATION:SV Saar 05 Tanzsport, Straße des 13. Januar 10, 66121 Saarbrücken
END:VEVENT
BEGIN:VEVENT
DTSTAMP:20260420T185211
DTSTART;TZID=Europe/Berlin:20260620T180000
DTEND;TZID=Europe/Berlin:20260620T190000
UID:AT2880C-20260620T180000@VHSSAARBRÜCKEN
SUMMARY:Salsa, Bachata, Kizomba für AnfängerInnen und WiedereinsteigerInnen (AT2880C) 
LOCATION:SV Saar 05 Tanzsport, Straße des 13. Januar 10, 66121 Saarbrücken
END:VEVENT
BEGIN:VEVENT
DTSTAMP:20260420T185211
DTSTART;TZID=Europe/Berlin:20260627T180000
DTEND;TZID=Europe/Berlin:20260627T190000
UID:AT2880C-20260627T180000@VHSSAARBRÜCKEN
SUMMARY:Salsa, Bachata, Kizomba für AnfängerInnen und WiedereinsteigerInnen (AT2880C) 
LOCATION:SV Saar 05 Tanzsport, Straße des 13. Januar 10, 66121 Saarbrücken
END:VEVENT
END:VCALENDAR