BEGIN:VCALENDAR
VERSION:2.0
PRODID:https://www.kufer.de/kuferweb / DE
METHOD:PUBLISH
CALSCALE:GREGORIAN
X-WR-TIMEZONE:Europe/Berlin
BEGIN:VTIMEZONE
TZID:Europe/Berlin
X-LIC-LOCATION:Europe/Berlin
BEGIN:DAYLIGHT
TZOFFSETFROM:+0100
TZOFFSETTO:+0200
TZNAME:CEST
DTSTART:19700329T020000
RRULE:FREQ=YEARLY;INTERVAL=1;BYDAY=-1SU;BYMONTH=3
END:DAYLIGHT
BEGIN:STANDARD
TZOFFSETFROM:+0200
TZOFFSETTO:+0100
TZNAME:CET
DTSTART:19701025T030000
RRULE:FREQ=YEARLY;INTERVAL=1;BYDAY=-1SU;BYMONTH=10
END:STANDARD
END:VTIMEZONE
BEGIN:VEVENT
DTSTAMP:20260420T215027
DTSTART;TZID=Europe/Berlin:20260531T160000
DTEND;TZID=Europe/Berlin:20260531T170000
UID:AT2878A-20260531T160000@VHSSAARBRÜCKEN
SUMMARY:Disco Fox für WiedereinsteigerInnen/Mittelstufe (AT2878A) 
LOCATION:SV Saar 05 Tanzsport, Straße des 13. Januar 10, 66121 Saarbrücken
END:VEVENT
BEGIN:VEVENT
DTSTAMP:20260420T215027
DTSTART;TZID=Europe/Berlin:20260607T160000
DTEND;TZID=Europe/Berlin:20260607T170000
UID:AT2878A-20260607T160000@VHSSAARBRÜCKEN
SUMMARY:Disco Fox für WiedereinsteigerInnen/Mittelstufe (AT2878A) 
LOCATION:SV Saar 05 Tanzsport, Straße des 13. Januar 10, 66121 Saarbrücken
END:VEVENT
BEGIN:VEVENT
DTSTAMP:20260420T215027
DTSTART;TZID=Europe/Berlin:20260614T160000
DTEND;TZID=Europe/Berlin:20260614T170000
UID:AT2878A-20260614T160000@VHSSAARBRÜCKEN
SUMMARY:Disco Fox für WiedereinsteigerInnen/Mittelstufe (AT2878A) 
LOCATION:SV Saar 05 Tanzsport, Straße des 13. Januar 10, 66121 Saarbrücken
END:VEVENT
BEGIN:VEVENT
DTSTAMP:20260420T215027
DTSTART;TZID=Europe/Berlin:20260621T160000
DTEND;TZID=Europe/Berlin:20260621T170000
UID:AT2878A-20260621T160000@VHSSAARBRÜCKEN
SUMMARY:Disco Fox für WiedereinsteigerInnen/Mittelstufe (AT2878A) 
LOCATION:SV Saar 05 Tanzsport, Straße des 13. Januar 10, 66121 Saarbrücken
END:VEVENT
BEGIN:VEVENT
DTSTAMP:20260420T215027
DTSTART;TZID=Europe/Berlin:20260628T160000
DTEND;TZID=Europe/Berlin:20260628T170000
UID:AT2878A-20260628T160000@VHSSAARBRÜCKEN
SUMMARY:Disco Fox für WiedereinsteigerInnen/Mittelstufe (AT2878A) 
LOCATION:SV Saar 05 Tanzsport, Straße des 13. Januar 10, 66121 Saarbrücken
END:VEVENT
END:VCALENDAR