BEGIN:VCALENDAR
VERSION:2.0
PRODID:https://www.kufer.de/kuferweb / DE
METHOD:PUBLISH
CALSCALE:GREGORIAN
X-WR-TIMEZONE:Europe/Berlin
BEGIN:VTIMEZONE
TZID:Europe/Berlin
X-LIC-LOCATION:Europe/Berlin
BEGIN:DAYLIGHT
TZOFFSETFROM:+0100
TZOFFSETTO:+0200
TZNAME:CEST
DTSTART:19700329T020000
RRULE:FREQ=YEARLY;INTERVAL=1;BYDAY=-1SU;BYMONTH=3
END:DAYLIGHT
BEGIN:STANDARD
TZOFFSETFROM:+0200
TZOFFSETTO:+0100
TZNAME:CET
DTSTART:19701025T030000
RRULE:FREQ=YEARLY;INTERVAL=1;BYDAY=-1SU;BYMONTH=10
END:STANDARD
END:VTIMEZONE
BEGIN:VEVENT
DTSTAMP:20260420T213802
DTSTART;TZID=Europe/Berlin:20260412T180000
DTEND;TZID=Europe/Berlin:20260412T190000
UID:AT2877-20260412T180000@VHSSAARBRÜCKEN
SUMMARY:Tanzkurs Standard/Latein für AnfängerInnen und WiedereinsteigerInnen (AT2877) 
LOCATION:SV Saar 05 Tanzsport, Straße des 13. Januar 10, 66121 Saarbrücken
END:VEVENT
BEGIN:VEVENT
DTSTAMP:20260420T213802
DTSTART;TZID=Europe/Berlin:20260419T180000
DTEND;TZID=Europe/Berlin:20260419T190000
UID:AT2877-20260419T180000@VHSSAARBRÜCKEN
SUMMARY:Tanzkurs Standard/Latein für AnfängerInnen und WiedereinsteigerInnen (AT2877) 
LOCATION:SV Saar 05 Tanzsport, Straße des 13. Januar 10, 66121 Saarbrücken
END:VEVENT
BEGIN:VEVENT
DTSTAMP:20260420T213802
DTSTART;TZID=Europe/Berlin:20260426T180000
DTEND;TZID=Europe/Berlin:20260426T190000
UID:AT2877-20260426T180000@VHSSAARBRÜCKEN
SUMMARY:Tanzkurs Standard/Latein für AnfängerInnen und WiedereinsteigerInnen (AT2877) 
LOCATION:SV Saar 05 Tanzsport, Straße des 13. Januar 10, 66121 Saarbrücken
END:VEVENT
BEGIN:VEVENT
DTSTAMP:20260420T213802
DTSTART;TZID=Europe/Berlin:20260503T180000
DTEND;TZID=Europe/Berlin:20260503T190000
UID:AT2877-20260503T180000@VHSSAARBRÜCKEN
SUMMARY:Tanzkurs Standard/Latein für AnfängerInnen und WiedereinsteigerInnen (AT2877) 
LOCATION:SV Saar 05 Tanzsport, Straße des 13. Januar 10, 66121 Saarbrücken
END:VEVENT
BEGIN:VEVENT
DTSTAMP:20260420T213802
DTSTART;TZID=Europe/Berlin:20260510T180000
DTEND;TZID=Europe/Berlin:20260510T190000
UID:AT2877-20260510T180000@VHSSAARBRÜCKEN
SUMMARY:Tanzkurs Standard/Latein für AnfängerInnen und WiedereinsteigerInnen (AT2877) 
LOCATION:SV Saar 05 Tanzsport, Straße des 13. Januar 10, 66121 Saarbrücken
END:VEVENT
END:VCALENDAR