BEGIN:VCALENDAR
VERSION:2.0
PRODID:https://www.kufer.de/kuferweb / DE
METHOD:PUBLISH
CALSCALE:GREGORIAN
X-WR-TIMEZONE:Europe/Berlin
BEGIN:VTIMEZONE
TZID:Europe/Berlin
X-LIC-LOCATION:Europe/Berlin
BEGIN:DAYLIGHT
TZOFFSETFROM:+0100
TZOFFSETTO:+0200
TZNAME:CEST
DTSTART:19700329T020000
RRULE:FREQ=YEARLY;INTERVAL=1;BYDAY=-1SU;BYMONTH=3
END:DAYLIGHT
BEGIN:STANDARD
TZOFFSETFROM:+0200
TZOFFSETTO:+0100
TZNAME:CET
DTSTART:19701025T030000
RRULE:FREQ=YEARLY;INTERVAL=1;BYDAY=-1SU;BYMONTH=10
END:STANDARD
END:VTIMEZONE
BEGIN:VEVENT
DTSTAMP:20260425T173407
DTSTART;TZID=Europe/Berlin:20260311T200000
DTEND;TZID=Europe/Berlin:20260311T210000
UID:AT2874D-20260311T200000@VHSSAARBRÜCKEN
SUMMARY:Line Dance High Beginner-Kurs (mit Vorkenntnissen) (AT2874D) 
LOCATION:Gymnastikhalle Eschbergschule, Rostocker Str., 66121 Saarbrücken, Rostocker Str. 97, 66121 Saarbrücken
END:VEVENT
BEGIN:VEVENT
DTSTAMP:20260425T173407
DTSTART;TZID=Europe/Berlin:20260318T200000
DTEND;TZID=Europe/Berlin:20260318T210000
UID:AT2874D-20260318T200000@VHSSAARBRÜCKEN
SUMMARY:Line Dance High Beginner-Kurs (mit Vorkenntnissen) (AT2874D) 
LOCATION:Gymnastikhalle Eschbergschule, Rostocker Str., 66121 Saarbrücken, Rostocker Str. 97, 66121 Saarbrücken
END:VEVENT
BEGIN:VEVENT
DTSTAMP:20260425T173407
DTSTART;TZID=Europe/Berlin:20260401T200000
DTEND;TZID=Europe/Berlin:20260401T210000
UID:AT2874D-20260401T200000@VHSSAARBRÜCKEN
SUMMARY:Line Dance High Beginner-Kurs (mit Vorkenntnissen) (AT2874D) 
LOCATION:Gymnastikhalle Eschbergschule, Rostocker Str., 66121 Saarbrücken, Rostocker Str. 97, 66121 Saarbrücken
END:VEVENT
BEGIN:VEVENT
DTSTAMP:20260425T173407
DTSTART;TZID=Europe/Berlin:20260422T200000
DTEND;TZID=Europe/Berlin:20260422T210000
UID:AT2874D-20260422T200000@VHSSAARBRÜCKEN
SUMMARY:Line Dance High Beginner-Kurs (mit Vorkenntnissen) (AT2874D) 
LOCATION:Gymnastikhalle Eschbergschule, Rostocker Str., 66121 Saarbrücken, Rostocker Str. 97, 66121 Saarbrücken
END:VEVENT
BEGIN:VEVENT
DTSTAMP:20260425T173407
DTSTART;TZID=Europe/Berlin:20260429T200000
DTEND;TZID=Europe/Berlin:20260429T210000
UID:AT2874D-20260429T200000@VHSSAARBRÜCKEN
SUMMARY:Line Dance High Beginner-Kurs (mit Vorkenntnissen) (AT2874D) 
LOCATION:Gymnastikhalle Eschbergschule, Rostocker Str., 66121 Saarbrücken, Rostocker Str. 97, 66121 Saarbrücken
END:VEVENT
BEGIN:VEVENT
DTSTAMP:20260425T173407
DTSTART;TZID=Europe/Berlin:20260506T200000
DTEND;TZID=Europe/Berlin:20260506T210000
UID:AT2874D-20260506T200000@VHSSAARBRÜCKEN
SUMMARY:Line Dance High Beginner-Kurs (mit Vorkenntnissen) (AT2874D) 
LOCATION:Gymnastikhalle Eschbergschule, Rostocker Str., 66121 Saarbrücken, Rostocker Str. 97, 66121 Saarbrücken
END:VEVENT
BEGIN:VEVENT
DTSTAMP:20260425T173407
DTSTART;TZID=Europe/Berlin:20260520T200000
DTEND;TZID=Europe/Berlin:20260520T210000
UID:AT2874D-20260520T200000@VHSSAARBRÜCKEN
SUMMARY:Line Dance High Beginner-Kurs (mit Vorkenntnissen) (AT2874D) 
LOCATION:Gymnastikhalle Eschbergschule, Rostocker Str., 66121 Saarbrücken, Rostocker Str. 97, 66121 Saarbrücken
END:VEVENT
BEGIN:VEVENT
DTSTAMP:20260425T173407
DTSTART;TZID=Europe/Berlin:20260527T200000
DTEND;TZID=Europe/Berlin:20260527T210000
UID:AT2874D-20260527T200000@VHSSAARBRÜCKEN
SUMMARY:Line Dance High Beginner-Kurs (mit Vorkenntnissen) (AT2874D) 
LOCATION:Gymnastikhalle Eschbergschule, Rostocker Str., 66121 Saarbrücken, Rostocker Str. 97, 66121 Saarbrücken
END:VEVENT
BEGIN:VEVENT
DTSTAMP:20260425T173407
DTSTART;TZID=Europe/Berlin:20260603T200000
DTEND;TZID=Europe/Berlin:20260603T210000
UID:AT2874D-20260603T200000@VHSSAARBRÜCKEN
SUMMARY:Line Dance High Beginner-Kurs (mit Vorkenntnissen) (AT2874D) 
LOCATION:Gymnastikhalle Eschbergschule, Rostocker Str., 66121 Saarbrücken, Rostocker Str. 97, 66121 Saarbrücken
END:VEVENT
BEGIN:VEVENT
DTSTAMP:20260425T173407
DTSTART;TZID=Europe/Berlin:20260610T200000
DTEND;TZID=Europe/Berlin:20260610T210000
UID:AT2874D-20260610T200000@VHSSAARBRÜCKEN
SUMMARY:Line Dance High Beginner-Kurs (mit Vorkenntnissen) (AT2874D) 
LOCATION:Gymnastikhalle Eschbergschule, Rostocker Str., 66121 Saarbrücken, Rostocker Str. 97, 66121 Saarbrücken
END:VEVENT
BEGIN:VEVENT
DTSTAMP:20260425T173407
DTSTART;TZID=Europe/Berlin:20260617T200000
DTEND;TZID=Europe/Berlin:20260617T210000
UID:AT2874D-20260617T200000@VHSSAARBRÜCKEN
SUMMARY:Line Dance High Beginner-Kurs (mit Vorkenntnissen) (AT2874D) 
LOCATION:Gymnastikhalle Eschbergschule, Rostocker Str., 66121 Saarbrücken, Rostocker Str. 97, 66121 Saarbrücken
END:VEVENT
BEGIN:VEVENT
DTSTAMP:20260425T173407
DTSTART;TZID=Europe/Berlin:20260624T200000
DTEND;TZID=Europe/Berlin:20260624T210000
UID:AT2874D-20260624T200000@VHSSAARBRÜCKEN
DESCRIPTION:Ersatz für 25.03.
SUMMARY:Line Dance High Beginner-Kurs (mit Vorkenntnissen) (AT2874D) 
LOCATION:Gymnastikhalle Eschbergschule, Rostocker Str., 66121 Saarbrücken, Rostocker Str. 97, 66121 Saarbrücken
END:VEVENT
END:VCALENDAR