BEGIN:VCALENDAR
VERSION:2.0
PRODID:https://www.kufer.de/kuferweb / DE
METHOD:PUBLISH
CALSCALE:GREGORIAN
X-WR-TIMEZONE:Europe/Berlin
BEGIN:VTIMEZONE
TZID:Europe/Berlin
X-LIC-LOCATION:Europe/Berlin
BEGIN:DAYLIGHT
TZOFFSETFROM:+0100
TZOFFSETTO:+0200
TZNAME:CEST
DTSTART:19700329T020000
RRULE:FREQ=YEARLY;INTERVAL=1;BYDAY=-1SU;BYMONTH=3
END:DAYLIGHT
BEGIN:STANDARD
TZOFFSETFROM:+0200
TZOFFSETTO:+0100
TZNAME:CET
DTSTART:19701025T030000
RRULE:FREQ=YEARLY;INTERVAL=1;BYDAY=-1SU;BYMONTH=10
END:STANDARD
END:VTIMEZONE
BEGIN:VEVENT
DTSTAMP:20260421T155458
DTSTART;TZID=Europe/Berlin:20260311T170000
DTEND;TZID=Europe/Berlin:20260311T180000
UID:AT2835-20260311T170000@VHSSAARBRÜCKEN
SUMMARY:Bollywood/Bhangra (AT2835) 
LOCATION:Turnhalle Max-Ophüls-Schule (ehemals Rotenbergschule), Schumannstraße 42, 66111 Saarbrücken
END:VEVENT
BEGIN:VEVENT
DTSTAMP:20260421T155458
DTSTART;TZID=Europe/Berlin:20260318T170000
DTEND;TZID=Europe/Berlin:20260318T180000
UID:AT2835-20260318T170000@VHSSAARBRÜCKEN
SUMMARY:Bollywood/Bhangra (AT2835) 
LOCATION:Turnhalle Max-Ophüls-Schule (ehemals Rotenbergschule), Schumannstraße 42, 66111 Saarbrücken
END:VEVENT
BEGIN:VEVENT
DTSTAMP:20260421T155458
DTSTART;TZID=Europe/Berlin:20260325T170000
DTEND;TZID=Europe/Berlin:20260325T180000
UID:AT2835-20260325T170000@VHSSAARBRÜCKEN
SUMMARY:Bollywood/Bhangra (AT2835) 
LOCATION:Turnhalle Max-Ophüls-Schule (ehemals Rotenbergschule), Schumannstraße 42, 66111 Saarbrücken
END:VEVENT
BEGIN:VEVENT
DTSTAMP:20260421T155458
DTSTART;TZID=Europe/Berlin:20260401T170000
DTEND;TZID=Europe/Berlin:20260401T180000
UID:AT2835-20260401T170000@VHSSAARBRÜCKEN
SUMMARY:Bollywood/Bhangra (AT2835) 
LOCATION:Turnhalle Max-Ophüls-Schule (ehemals Rotenbergschule), Schumannstraße 42, 66111 Saarbrücken
END:VEVENT
BEGIN:VEVENT
DTSTAMP:20260421T155458
DTSTART;TZID=Europe/Berlin:20260422T170000
DTEND;TZID=Europe/Berlin:20260422T180000
UID:AT2835-20260422T170000@VHSSAARBRÜCKEN
SUMMARY:Bollywood/Bhangra (AT2835) 
LOCATION:Turnhalle Max-Ophüls-Schule (ehemals Rotenbergschule), Schumannstraße 42, 66111 Saarbrücken
END:VEVENT
BEGIN:VEVENT
DTSTAMP:20260421T155458
DTSTART;TZID=Europe/Berlin:20260429T170000
DTEND;TZID=Europe/Berlin:20260429T180000
UID:AT2835-20260429T170000@VHSSAARBRÜCKEN
SUMMARY:Bollywood/Bhangra (AT2835) 
LOCATION:Turnhalle Max-Ophüls-Schule (ehemals Rotenbergschule), Schumannstraße 42, 66111 Saarbrücken
END:VEVENT
BEGIN:VEVENT
DTSTAMP:20260421T155458
DTSTART;TZID=Europe/Berlin:20260506T170000
DTEND;TZID=Europe/Berlin:20260506T180000
UID:AT2835-20260506T170000@VHSSAARBRÜCKEN
SUMMARY:Bollywood/Bhangra (AT2835) 
LOCATION:Turnhalle Max-Ophüls-Schule (ehemals Rotenbergschule), Schumannstraße 42, 66111 Saarbrücken
END:VEVENT
END:VCALENDAR