BEGIN:VCALENDAR
VERSION:2.0
PRODID:https://www.kufer.de/kuferweb / DE
METHOD:PUBLISH
CALSCALE:GREGORIAN
X-WR-TIMEZONE:Europe/Berlin
BEGIN:VTIMEZONE
TZID:Europe/Berlin
X-LIC-LOCATION:Europe/Berlin
BEGIN:DAYLIGHT
TZOFFSETFROM:+0100
TZOFFSETTO:+0200
TZNAME:CEST
DTSTART:19700329T020000
RRULE:FREQ=YEARLY;INTERVAL=1;BYDAY=-1SU;BYMONTH=3
END:DAYLIGHT
BEGIN:STANDARD
TZOFFSETFROM:+0200
TZOFFSETTO:+0100
TZNAME:CET
DTSTART:19701025T030000
RRULE:FREQ=YEARLY;INTERVAL=1;BYDAY=-1SU;BYMONTH=10
END:STANDARD
END:VTIMEZONE
BEGIN:VEVENT
DTSTAMP:20260420T214307
DTSTART;TZID=Europe/Berlin:20260509T113000
DTEND;TZID=Europe/Berlin:20260509T123000
UID:AT2833-20260509T113000@VHSSAARBRÜCKEN
SUMMARY:Zumba am Wochenende (AT2833) 
LOCATION:SV Saar 05 Tanzsport, Straße des 13. Januar 10, 66121 Saarbrücken
END:VEVENT
BEGIN:VEVENT
DTSTAMP:20260420T214307
DTSTART;TZID=Europe/Berlin:20260516T113000
DTEND;TZID=Europe/Berlin:20260516T123000
UID:AT2833-20260516T113000@VHSSAARBRÜCKEN
SUMMARY:Zumba am Wochenende (AT2833) 
LOCATION:SV Saar 05 Tanzsport, Straße des 13. Januar 10, 66121 Saarbrücken
END:VEVENT
BEGIN:VEVENT
DTSTAMP:20260420T214307
DTSTART;TZID=Europe/Berlin:20260523T113000
DTEND;TZID=Europe/Berlin:20260523T123000
UID:AT2833-20260523T113000@VHSSAARBRÜCKEN
SUMMARY:Zumba am Wochenende (AT2833) 
LOCATION:SV Saar 05 Tanzsport, Straße des 13. Januar 10, 66121 Saarbrücken
END:VEVENT
BEGIN:VEVENT
DTSTAMP:20260420T214307
DTSTART;TZID=Europe/Berlin:20260530T113000
DTEND;TZID=Europe/Berlin:20260530T123000
UID:AT2833-20260530T113000@VHSSAARBRÜCKEN
SUMMARY:Zumba am Wochenende (AT2833) 
LOCATION:SV Saar 05 Tanzsport, Straße des 13. Januar 10, 66121 Saarbrücken
END:VEVENT
BEGIN:VEVENT
DTSTAMP:20260420T214307
DTSTART;TZID=Europe/Berlin:20260606T113000
DTEND;TZID=Europe/Berlin:20260606T123000
UID:AT2833-20260606T113000@VHSSAARBRÜCKEN
SUMMARY:Zumba am Wochenende (AT2833) 
LOCATION:SV Saar 05 Tanzsport, Straße des 13. Januar 10, 66121 Saarbrücken
END:VEVENT
END:VCALENDAR