BEGIN:VCALENDAR
VERSION:2.0
PRODID:https://www.kufer.de/kuferweb / DE
METHOD:PUBLISH
CALSCALE:GREGORIAN
X-WR-TIMEZONE:Europe/Berlin
BEGIN:VTIMEZONE
TZID:Europe/Berlin
X-LIC-LOCATION:Europe/Berlin
BEGIN:DAYLIGHT
TZOFFSETFROM:+0100
TZOFFSETTO:+0200
TZNAME:CEST
DTSTART:19700329T020000
RRULE:FREQ=YEARLY;INTERVAL=1;BYDAY=-1SU;BYMONTH=3
END:DAYLIGHT
BEGIN:STANDARD
TZOFFSETFROM:+0200
TZOFFSETTO:+0100
TZNAME:CET
DTSTART:19701025T030000
RRULE:FREQ=YEARLY;INTERVAL=1;BYDAY=-1SU;BYMONTH=10
END:STANDARD
END:VTIMEZONE
BEGIN:VEVENT
DTSTAMP:20260425T173418
DTSTART;TZID=Europe/Berlin:20260526T180000
DTEND;TZID=Europe/Berlin:20260526T190000
UID:AT2822A-20260526T180000@VHSSAARBRÜCKEN
SUMMARY:Easy Pilates (AT2822A) 
LOCATION:Raum für gesunde Balance, Stengelstr. 10, 66117 Saarbrücken
END:VEVENT
BEGIN:VEVENT
DTSTAMP:20260425T173418
DTSTART;TZID=Europe/Berlin:20260602T180000
DTEND;TZID=Europe/Berlin:20260602T190000
UID:AT2822A-20260602T180000@VHSSAARBRÜCKEN
SUMMARY:Easy Pilates (AT2822A) 
LOCATION:Raum für gesunde Balance, Stengelstr. 10, 66117 Saarbrücken
END:VEVENT
BEGIN:VEVENT
DTSTAMP:20260425T173418
DTSTART;TZID=Europe/Berlin:20260609T180000
DTEND;TZID=Europe/Berlin:20260609T190000
UID:AT2822A-20260609T180000@VHSSAARBRÜCKEN
SUMMARY:Easy Pilates (AT2822A) 
LOCATION:Raum für gesunde Balance, Stengelstr. 10, 66117 Saarbrücken
END:VEVENT
BEGIN:VEVENT
DTSTAMP:20260425T173418
DTSTART;TZID=Europe/Berlin:20260616T180000
DTEND;TZID=Europe/Berlin:20260616T190000
UID:AT2822A-20260616T180000@VHSSAARBRÜCKEN
SUMMARY:Easy Pilates (AT2822A) 
LOCATION:Raum für gesunde Balance, Stengelstr. 10, 66117 Saarbrücken
END:VEVENT
BEGIN:VEVENT
DTSTAMP:20260425T173418
DTSTART;TZID=Europe/Berlin:20260623T180000
DTEND;TZID=Europe/Berlin:20260623T190000
UID:AT2822A-20260623T180000@VHSSAARBRÜCKEN
SUMMARY:Easy Pilates (AT2822A) 
LOCATION:Raum für gesunde Balance, Stengelstr. 10, 66117 Saarbrücken
END:VEVENT
BEGIN:VEVENT
DTSTAMP:20260425T173418
DTSTART;TZID=Europe/Berlin:20260630T180000
DTEND;TZID=Europe/Berlin:20260630T190000
UID:AT2822A-20260630T180000@VHSSAARBRÜCKEN
SUMMARY:Easy Pilates (AT2822A) 
LOCATION:Raum für gesunde Balance, Stengelstr. 10, 66117 Saarbrücken
END:VEVENT
END:VCALENDAR