BEGIN:VCALENDAR
VERSION:2.0
PRODID:https://www.kufer.de/kuferweb / DE
METHOD:PUBLISH
CALSCALE:GREGORIAN
X-WR-TIMEZONE:Europe/Berlin
BEGIN:VTIMEZONE
TZID:Europe/Berlin
X-LIC-LOCATION:Europe/Berlin
BEGIN:DAYLIGHT
TZOFFSETFROM:+0100
TZOFFSETTO:+0200
TZNAME:CEST
DTSTART:19700329T020000
RRULE:FREQ=YEARLY;INTERVAL=1;BYDAY=-1SU;BYMONTH=3
END:DAYLIGHT
BEGIN:STANDARD
TZOFFSETFROM:+0200
TZOFFSETTO:+0100
TZNAME:CET
DTSTART:19701025T030000
RRULE:FREQ=YEARLY;INTERVAL=1;BYDAY=-1SU;BYMONTH=10
END:STANDARD
END:VTIMEZONE
BEGIN:VEVENT
DTSTAMP:20260425T160157
DTSTART;TZID=Europe/Berlin:20260317T173000
DTEND;TZID=Europe/Berlin:20260317T183000
UID:AT2812-20260317T173000@VHSSAARBRÜCKEN
SUMMARY:Die Wirbelsäule trainieren, den Rücken stärken (AT2812) 
LOCATION:Turnhalle Gymnasium am Schloss, Spichererbergstr. 15, 66119 SB, Spichererbergstraße 15, 66119 Saarbrücken
END:VEVENT
BEGIN:VEVENT
DTSTAMP:20260425T160157
DTSTART;TZID=Europe/Berlin:20260324T173000
DTEND;TZID=Europe/Berlin:20260324T183000
UID:AT2812-20260324T173000@VHSSAARBRÜCKEN
SUMMARY:Die Wirbelsäule trainieren, den Rücken stärken (AT2812) 
LOCATION:Turnhalle Gymnasium am Schloss, Spichererbergstr. 15, 66119 SB, Spichererbergstraße 15, 66119 Saarbrücken
END:VEVENT
BEGIN:VEVENT
DTSTAMP:20260425T160157
DTSTART;TZID=Europe/Berlin:20260421T173000
DTEND;TZID=Europe/Berlin:20260421T183000
UID:AT2812-20260421T173000@VHSSAARBRÜCKEN
DESCRIPTION:Sporthalle Gymn. am Schloss nicht verfügbar wg. Abi
SUMMARY:Die Wirbelsäule trainieren, den Rücken stärken (AT2812) 
LOCATION:vhs-Zentrum, Saal 01 EG, Schlossplatz, 66119 Saarbrücken
END:VEVENT
BEGIN:VEVENT
DTSTAMP:20260425T160157
DTSTART;TZID=Europe/Berlin:20260428T173000
DTEND;TZID=Europe/Berlin:20260428T183000
UID:AT2812-20260428T173000@VHSSAARBRÜCKEN
DESCRIPTION:Sporthalle Gymn. am Schloss nicht verfügbar wg. Abi
SUMMARY:Die Wirbelsäule trainieren, den Rücken stärken (AT2812) 
LOCATION:vhs-Zentrum, Saal 01 EG, Schlossplatz, 66119 Saarbrücken
END:VEVENT
BEGIN:VEVENT
DTSTAMP:20260425T160157
DTSTART;TZID=Europe/Berlin:20260505T173000
DTEND;TZID=Europe/Berlin:20260505T183000
UID:AT2812-20260505T173000@VHSSAARBRÜCKEN
DESCRIPTION:Sporthalle Gymn. am Schloss nicht verfügbar wg. Abi
SUMMARY:Die Wirbelsäule trainieren, den Rücken stärken (AT2812) 
LOCATION:vhs-Zentrum, Saal 01 EG, Schlossplatz, 66119 Saarbrücken
END:VEVENT
BEGIN:VEVENT
DTSTAMP:20260425T160157
DTSTART;TZID=Europe/Berlin:20260512T173000
DTEND;TZID=Europe/Berlin:20260512T183000
UID:AT2812-20260512T173000@VHSSAARBRÜCKEN
DESCRIPTION:Sporthalle Gymn. am Schloss nicht verfügbar wg. Abi
SUMMARY:Die Wirbelsäule trainieren, den Rücken stärken (AT2812) 
LOCATION:vhs-Zentrum, Saal 01 EG, Schlossplatz, 66119 Saarbrücken
END:VEVENT
BEGIN:VEVENT
DTSTAMP:20260425T160157
DTSTART;TZID=Europe/Berlin:20260519T173000
DTEND;TZID=Europe/Berlin:20260519T183000
UID:AT2812-20260519T173000@VHSSAARBRÜCKEN
DESCRIPTION:Sporthalle Gymn. am Schloss nicht verfügbar wg. Abi
SUMMARY:Die Wirbelsäule trainieren, den Rücken stärken (AT2812) 
LOCATION:vhs-Zentrum, Saal 01 EG, Schlossplatz, 66119 Saarbrücken
END:VEVENT
BEGIN:VEVENT
DTSTAMP:20260425T160157
DTSTART;TZID=Europe/Berlin:20260526T173000
DTEND;TZID=Europe/Berlin:20260526T183000
UID:AT2812-20260526T173000@VHSSAARBRÜCKEN
SUMMARY:Die Wirbelsäule trainieren, den Rücken stärken (AT2812) 
LOCATION:Turnhalle Gymnasium am Schloss, Spichererbergstr. 15, 66119 SB, Spichererbergstraße 15, 66119 Saarbrücken
END:VEVENT
BEGIN:VEVENT
DTSTAMP:20260425T160157
DTSTART;TZID=Europe/Berlin:20260602T173000
DTEND;TZID=Europe/Berlin:20260602T183000
UID:AT2812-20260602T173000@VHSSAARBRÜCKEN
SUMMARY:Die Wirbelsäule trainieren, den Rücken stärken (AT2812) 
LOCATION:Turnhalle Gymnasium am Schloss, Spichererbergstr. 15, 66119 SB, Spichererbergstraße 15, 66119 Saarbrücken
END:VEVENT
BEGIN:VEVENT
DTSTAMP:20260425T160157
DTSTART;TZID=Europe/Berlin:20260609T173000
DTEND;TZID=Europe/Berlin:20260609T183000
UID:AT2812-20260609T173000@VHSSAARBRÜCKEN
DESCRIPTION:Ersatz für Ausfall am 31.03.2026
SUMMARY:Die Wirbelsäule trainieren, den Rücken stärken (AT2812) 
LOCATION:Turnhalle Gymnasium am Schloss, Spichererbergstr. 15, 66119 SB, Spichererbergstraße 15, 66119 Saarbrücken
END:VEVENT
END:VCALENDAR