BEGIN:VCALENDAR
VERSION:2.0
PRODID:https://www.kufer.de/kuferweb / DE
METHOD:PUBLISH
CALSCALE:GREGORIAN
X-WR-TIMEZONE:Europe/Berlin
BEGIN:VTIMEZONE
TZID:Europe/Berlin
X-LIC-LOCATION:Europe/Berlin
BEGIN:DAYLIGHT
TZOFFSETFROM:+0100
TZOFFSETTO:+0200
TZNAME:CEST
DTSTART:19700329T020000
RRULE:FREQ=YEARLY;INTERVAL=1;BYDAY=-1SU;BYMONTH=3
END:DAYLIGHT
BEGIN:STANDARD
TZOFFSETFROM:+0200
TZOFFSETTO:+0100
TZNAME:CET
DTSTART:19701025T030000
RRULE:FREQ=YEARLY;INTERVAL=1;BYDAY=-1SU;BYMONTH=10
END:STANDARD
END:VTIMEZONE
BEGIN:VEVENT
DTSTAMP:20260419T213010
DTSTART;TZID=Europe/Berlin:20260311T173000
DTEND;TZID=Europe/Berlin:20260311T183000
UID:AT2793-20260311T173000@VHSSAARBRÜCKEN
SUMMARY:Qi Gong (AT2793) 
LOCATION:Schule für Tai Chi, Qi Gong und Meditation, Försterstr. 12 b, SB, Försterstraße 12 b, 66111  Saarbrücken
END:VEVENT
BEGIN:VEVENT
DTSTAMP:20260419T213010
DTSTART;TZID=Europe/Berlin:20260318T173000
DTEND;TZID=Europe/Berlin:20260318T183000
UID:AT2793-20260318T173000@VHSSAARBRÜCKEN
SUMMARY:Qi Gong (AT2793) 
LOCATION:Schule für Tai Chi, Qi Gong und Meditation, Försterstr. 12 b, SB, Försterstraße 12 b, 66111  Saarbrücken
END:VEVENT
BEGIN:VEVENT
DTSTAMP:20260419T213010
DTSTART;TZID=Europe/Berlin:20260325T173000
DTEND;TZID=Europe/Berlin:20260325T183000
UID:AT2793-20260325T173000@VHSSAARBRÜCKEN
SUMMARY:Qi Gong (AT2793) 
LOCATION:Schule für Tai Chi, Qi Gong und Meditation, Försterstr. 12 b, SB, Försterstraße 12 b, 66111  Saarbrücken
END:VEVENT
BEGIN:VEVENT
DTSTAMP:20260419T213010
DTSTART;TZID=Europe/Berlin:20260401T173000
DTEND;TZID=Europe/Berlin:20260401T183000
UID:AT2793-20260401T173000@VHSSAARBRÜCKEN
SUMMARY:Qi Gong (AT2793) 
LOCATION:Schule für Tai Chi, Qi Gong und Meditation, Försterstr. 12 b, SB, Försterstraße 12 b, 66111  Saarbrücken
END:VEVENT
BEGIN:VEVENT
DTSTAMP:20260419T213010
DTSTART;TZID=Europe/Berlin:20260422T173000
DTEND;TZID=Europe/Berlin:20260422T183000
UID:AT2793-20260422T173000@VHSSAARBRÜCKEN
SUMMARY:Qi Gong (AT2793) 
LOCATION:Schule für Tai Chi, Qi Gong und Meditation, Försterstr. 12 b, SB, Försterstraße 12 b, 66111  Saarbrücken
END:VEVENT
BEGIN:VEVENT
DTSTAMP:20260419T213010
DTSTART;TZID=Europe/Berlin:20260429T173000
DTEND;TZID=Europe/Berlin:20260429T183000
UID:AT2793-20260429T173000@VHSSAARBRÜCKEN
SUMMARY:Qi Gong (AT2793) 
LOCATION:Schule für Tai Chi, Qi Gong und Meditation, Försterstr. 12 b, SB, Försterstraße 12 b, 66111  Saarbrücken
END:VEVENT
BEGIN:VEVENT
DTSTAMP:20260419T213010
DTSTART;TZID=Europe/Berlin:20260506T173000
DTEND;TZID=Europe/Berlin:20260506T183000
UID:AT2793-20260506T173000@VHSSAARBRÜCKEN
SUMMARY:Qi Gong (AT2793) 
LOCATION:Schule für Tai Chi, Qi Gong und Meditation, Försterstr. 12 b, SB, Försterstraße 12 b, 66111  Saarbrücken
END:VEVENT
END:VCALENDAR