BEGIN:VCALENDAR
VERSION:2.0
PRODID:https://www.kufer.de/kuferweb / DE
METHOD:PUBLISH
CALSCALE:GREGORIAN
X-WR-TIMEZONE:Europe/Berlin
BEGIN:VTIMEZONE
TZID:Europe/Berlin
X-LIC-LOCATION:Europe/Berlin
BEGIN:DAYLIGHT
TZOFFSETFROM:+0100
TZOFFSETTO:+0200
TZNAME:CEST
DTSTART:19700329T020000
RRULE:FREQ=YEARLY;INTERVAL=1;BYDAY=-1SU;BYMONTH=3
END:DAYLIGHT
BEGIN:STANDARD
TZOFFSETFROM:+0200
TZOFFSETTO:+0100
TZNAME:CET
DTSTART:19701025T030000
RRULE:FREQ=YEARLY;INTERVAL=1;BYDAY=-1SU;BYMONTH=10
END:STANDARD
END:VTIMEZONE
BEGIN:VEVENT
DTSTAMP:20260420T004344
DTSTART;TZID=Europe/Berlin:20260312T173000
DTEND;TZID=Europe/Berlin:20260312T183000
UID:AT2792-20260312T173000@VHSSAARBRÜCKEN
SUMMARY:Tai Chi für AnfängerInnen (AT2792) 
LOCATION:Schule für Tai Chi, Qi Gong und Meditation, Försterstr. 12 b, SB, Försterstraße 12 b, 66111  Saarbrücken
END:VEVENT
BEGIN:VEVENT
DTSTAMP:20260420T004344
DTSTART;TZID=Europe/Berlin:20260319T173000
DTEND;TZID=Europe/Berlin:20260319T183000
UID:AT2792-20260319T173000@VHSSAARBRÜCKEN
SUMMARY:Tai Chi für AnfängerInnen (AT2792) 
LOCATION:Schule für Tai Chi, Qi Gong und Meditation, Försterstr. 12 b, SB, Försterstraße 12 b, 66111  Saarbrücken
END:VEVENT
BEGIN:VEVENT
DTSTAMP:20260420T004344
DTSTART;TZID=Europe/Berlin:20260326T173000
DTEND;TZID=Europe/Berlin:20260326T183000
UID:AT2792-20260326T173000@VHSSAARBRÜCKEN
SUMMARY:Tai Chi für AnfängerInnen (AT2792) 
LOCATION:Schule für Tai Chi, Qi Gong und Meditation, Försterstr. 12 b, SB, Försterstraße 12 b, 66111  Saarbrücken
END:VEVENT
BEGIN:VEVENT
DTSTAMP:20260420T004344
DTSTART;TZID=Europe/Berlin:20260402T173000
DTEND;TZID=Europe/Berlin:20260402T183000
UID:AT2792-20260402T173000@VHSSAARBRÜCKEN
SUMMARY:Tai Chi für AnfängerInnen (AT2792) 
LOCATION:Schule für Tai Chi, Qi Gong und Meditation, Försterstr. 12 b, SB, Försterstraße 12 b, 66111  Saarbrücken
END:VEVENT
BEGIN:VEVENT
DTSTAMP:20260420T004344
DTSTART;TZID=Europe/Berlin:20260423T173000
DTEND;TZID=Europe/Berlin:20260423T183000
UID:AT2792-20260423T173000@VHSSAARBRÜCKEN
SUMMARY:Tai Chi für AnfängerInnen (AT2792) 
LOCATION:Schule für Tai Chi, Qi Gong und Meditation, Försterstr. 12 b, SB, Försterstraße 12 b, 66111  Saarbrücken
END:VEVENT
BEGIN:VEVENT
DTSTAMP:20260420T004344
DTSTART;TZID=Europe/Berlin:20260430T173000
DTEND;TZID=Europe/Berlin:20260430T183000
UID:AT2792-20260430T173000@VHSSAARBRÜCKEN
SUMMARY:Tai Chi für AnfängerInnen (AT2792) 
LOCATION:Schule für Tai Chi, Qi Gong und Meditation, Försterstr. 12 b, SB, Försterstraße 12 b, 66111  Saarbrücken
END:VEVENT
BEGIN:VEVENT
DTSTAMP:20260420T004344
DTSTART;TZID=Europe/Berlin:20260507T173000
DTEND;TZID=Europe/Berlin:20260507T183000
UID:AT2792-20260507T173000@VHSSAARBRÜCKEN
SUMMARY:Tai Chi für AnfängerInnen (AT2792) 
LOCATION:Schule für Tai Chi, Qi Gong und Meditation, Försterstr. 12 b, SB, Försterstraße 12 b, 66111  Saarbrücken
END:VEVENT
BEGIN:VEVENT
DTSTAMP:20260420T004344
DTSTART;TZID=Europe/Berlin:20260521T173000
DTEND;TZID=Europe/Berlin:20260521T183000
UID:AT2792-20260521T173000@VHSSAARBRÜCKEN
SUMMARY:Tai Chi für AnfängerInnen (AT2792) 
LOCATION:Schule für Tai Chi, Qi Gong und Meditation, Försterstr. 12 b, SB, Försterstraße 12 b, 66111  Saarbrücken
END:VEVENT
BEGIN:VEVENT
DTSTAMP:20260420T004344
DTSTART;TZID=Europe/Berlin:20260528T173000
DTEND;TZID=Europe/Berlin:20260528T183000
UID:AT2792-20260528T173000@VHSSAARBRÜCKEN
SUMMARY:Tai Chi für AnfängerInnen (AT2792) 
LOCATION:Schule für Tai Chi, Qi Gong und Meditation, Försterstr. 12 b, SB, Försterstraße 12 b, 66111  Saarbrücken
END:VEVENT
BEGIN:VEVENT
DTSTAMP:20260420T004344
DTSTART;TZID=Europe/Berlin:20260611T173000
DTEND;TZID=Europe/Berlin:20260611T183000
UID:AT2792-20260611T173000@VHSSAARBRÜCKEN
SUMMARY:Tai Chi für AnfängerInnen (AT2792) 
LOCATION:Schule für Tai Chi, Qi Gong und Meditation, Försterstr. 12 b, SB, Försterstraße 12 b, 66111  Saarbrücken
END:VEVENT
BEGIN:VEVENT
DTSTAMP:20260420T004344
DTSTART;TZID=Europe/Berlin:20260618T173000
DTEND;TZID=Europe/Berlin:20260618T183000
UID:AT2792-20260618T173000@VHSSAARBRÜCKEN
SUMMARY:Tai Chi für AnfängerInnen (AT2792) 
LOCATION:Schule für Tai Chi, Qi Gong und Meditation, Försterstr. 12 b, SB, Försterstraße 12 b, 66111  Saarbrücken
END:VEVENT
BEGIN:VEVENT
DTSTAMP:20260420T004344
DTSTART;TZID=Europe/Berlin:20260625T173000
DTEND;TZID=Europe/Berlin:20260625T183000
UID:AT2792-20260625T173000@VHSSAARBRÜCKEN
SUMMARY:Tai Chi für AnfängerInnen (AT2792) 
LOCATION:Schule für Tai Chi, Qi Gong und Meditation, Försterstr. 12 b, SB, Försterstraße 12 b, 66111  Saarbrücken
END:VEVENT
END:VCALENDAR