BEGIN:VCALENDAR
VERSION:2.0
PRODID:https://www.kufer.de/kuferweb / DE
METHOD:PUBLISH
CALSCALE:GREGORIAN
X-WR-TIMEZONE:Europe/Berlin
BEGIN:VTIMEZONE
TZID:Europe/Berlin
X-LIC-LOCATION:Europe/Berlin
BEGIN:DAYLIGHT
TZOFFSETFROM:+0100
TZOFFSETTO:+0200
TZNAME:CEST
DTSTART:19700329T020000
RRULE:FREQ=YEARLY;INTERVAL=1;BYDAY=-1SU;BYMONTH=3
END:DAYLIGHT
BEGIN:STANDARD
TZOFFSETFROM:+0200
TZOFFSETTO:+0100
TZNAME:CET
DTSTART:19701025T030000
RRULE:FREQ=YEARLY;INTERVAL=1;BYDAY=-1SU;BYMONTH=10
END:STANDARD
END:VTIMEZONE
BEGIN:VEVENT
DTSTAMP:20260423T145955
DTSTART;TZID=Europe/Berlin:20260317T173000
DTEND;TZID=Europe/Berlin:20260317T190000
UID:AT2662-20260317T173000@VHSSAARBRÜCKEN
SUMMARY:Stricken und Häkeln – kreativ und meditativ (AT2662) 
LOCATION:vhs-Zentrum, Saal 02 EG, Schlossplatz, 66119 Saarbrücken
END:VEVENT
BEGIN:VEVENT
DTSTAMP:20260423T145955
DTSTART;TZID=Europe/Berlin:20260324T173000
DTEND;TZID=Europe/Berlin:20260324T190000
UID:AT2662-20260324T173000@VHSSAARBRÜCKEN
SUMMARY:Stricken und Häkeln – kreativ und meditativ (AT2662) 
LOCATION:vhs-Zentrum, Saal 02 EG, Schlossplatz, 66119 Saarbrücken
END:VEVENT
BEGIN:VEVENT
DTSTAMP:20260423T145955
DTSTART;TZID=Europe/Berlin:20260331T173000
DTEND;TZID=Europe/Berlin:20260331T190000
UID:AT2662-20260331T173000@VHSSAARBRÜCKEN
SUMMARY:Stricken und Häkeln – kreativ und meditativ (AT2662) 
LOCATION:vhs-Zentrum, Saal 02 EG, Schlossplatz, 66119 Saarbrücken
END:VEVENT
BEGIN:VEVENT
DTSTAMP:20260423T145955
DTSTART;TZID=Europe/Berlin:20260421T173000
DTEND;TZID=Europe/Berlin:20260421T190000
UID:AT2662-20260421T173000@VHSSAARBRÜCKEN
SUMMARY:Stricken und Häkeln – kreativ und meditativ (AT2662) 
LOCATION:vhs-Zentrum, Saal 02 EG, Schlossplatz, 66119 Saarbrücken
END:VEVENT
BEGIN:VEVENT
DTSTAMP:20260423T145955
DTSTART;TZID=Europe/Berlin:20260428T173000
DTEND;TZID=Europe/Berlin:20260428T190000
UID:AT2662-20260428T173000@VHSSAARBRÜCKEN
SUMMARY:Stricken und Häkeln – kreativ und meditativ (AT2662) 
LOCATION:vhs-Zentrum, Saal 02 EG, Schlossplatz, 66119 Saarbrücken
END:VEVENT
BEGIN:VEVENT
DTSTAMP:20260423T145955
DTSTART;TZID=Europe/Berlin:20260505T173000
DTEND;TZID=Europe/Berlin:20260505T190000
UID:AT2662-20260505T173000@VHSSAARBRÜCKEN
SUMMARY:Stricken und Häkeln – kreativ und meditativ (AT2662) 
LOCATION:vhs-Zentrum, Saal 02 EG, Schlossplatz, 66119 Saarbrücken
END:VEVENT
BEGIN:VEVENT
DTSTAMP:20260423T145955
DTSTART;TZID=Europe/Berlin:20260512T173000
DTEND;TZID=Europe/Berlin:20260512T190000
UID:AT2662-20260512T173000@VHSSAARBRÜCKEN
DESCRIPTION:Ersatz für Ausfall am 10.03.2026
SUMMARY:Stricken und Häkeln – kreativ und meditativ (AT2662) 
LOCATION:vhs-Zentrum, Saal 02 EG, Schlossplatz, 66119 Saarbrücken
END:VEVENT
END:VCALENDAR