BEGIN:VCALENDAR
VERSION:2.0
PRODID:https://www.kufer.de/kuferweb / DE
METHOD:PUBLISH
CALSCALE:GREGORIAN
X-WR-TIMEZONE:Europe/Berlin
BEGIN:VTIMEZONE
TZID:Europe/Berlin
X-LIC-LOCATION:Europe/Berlin
BEGIN:DAYLIGHT
TZOFFSETFROM:+0100
TZOFFSETTO:+0200
TZNAME:CEST
DTSTART:19700329T020000
RRULE:FREQ=YEARLY;INTERVAL=1;BYDAY=-1SU;BYMONTH=3
END:DAYLIGHT
BEGIN:STANDARD
TZOFFSETFROM:+0200
TZOFFSETTO:+0100
TZNAME:CET
DTSTART:19701025T030000
RRULE:FREQ=YEARLY;INTERVAL=1;BYDAY=-1SU;BYMONTH=10
END:STANDARD
END:VTIMEZONE
BEGIN:VEVENT
DTSTAMP:20260423T145933
DTSTART;TZID=Europe/Berlin:20260312T171500
DTEND;TZID=Europe/Berlin:20260312T201500
UID:AT2655-20260312T171500@VHSSAARBRÜCKEN
SUMMARY:Nähglück für alle (AT2655) 
LOCATION:Gemeinschaftsschule Bruchwiese, Nähraum, Sachsenweg 8, 66121 SB, , 
END:VEVENT
BEGIN:VEVENT
DTSTAMP:20260423T145933
DTSTART;TZID=Europe/Berlin:20260319T171500
DTEND;TZID=Europe/Berlin:20260319T201500
UID:AT2655-20260319T171500@VHSSAARBRÜCKEN
SUMMARY:Nähglück für alle (AT2655) 
LOCATION:Gemeinschaftsschule Bruchwiese, Nähraum, Sachsenweg 8, 66121 SB, , 
END:VEVENT
BEGIN:VEVENT
DTSTAMP:20260423T145933
DTSTART;TZID=Europe/Berlin:20260326T171500
DTEND;TZID=Europe/Berlin:20260326T201500
UID:AT2655-20260326T171500@VHSSAARBRÜCKEN
SUMMARY:Nähglück für alle (AT2655) 
LOCATION:Gemeinschaftsschule Bruchwiese, Nähraum, Sachsenweg 8, 66121 SB, , 
END:VEVENT
BEGIN:VEVENT
DTSTAMP:20260423T145933
DTSTART;TZID=Europe/Berlin:20260402T171500
DTEND;TZID=Europe/Berlin:20260402T201500
UID:AT2655-20260402T171500@VHSSAARBRÜCKEN
SUMMARY:Nähglück für alle (AT2655) 
LOCATION:Gemeinschaftsschule Bruchwiese, Nähraum, Sachsenweg 8, 66121 SB, , 
END:VEVENT
BEGIN:VEVENT
DTSTAMP:20260423T145933
DTSTART;TZID=Europe/Berlin:20260416T171500
DTEND;TZID=Europe/Berlin:20260416T201500
UID:AT2655-20260416T171500@VHSSAARBRÜCKEN
DESCRIPTION:Ferien!
SUMMARY:Nähglück für alle (AT2655) 
LOCATION:Altes Rathaus, Raum 25 (Textiler Werkraum), Schlossplatz 1, 66119 Saarbrücken
END:VEVENT
BEGIN:VEVENT
DTSTAMP:20260423T145933
DTSTART;TZID=Europe/Berlin:20260423T171500
DTEND;TZID=Europe/Berlin:20260423T201500
UID:AT2655-20260423T171500@VHSSAARBRÜCKEN
SUMMARY:Nähglück für alle (AT2655) 
LOCATION:Gemeinschaftsschule Bruchwiese, Nähraum, Sachsenweg 8, 66121 SB, , 
END:VEVENT
BEGIN:VEVENT
DTSTAMP:20260423T145933
DTSTART;TZID=Europe/Berlin:20260430T171500
DTEND;TZID=Europe/Berlin:20260430T201500
UID:AT2655-20260430T171500@VHSSAARBRÜCKEN
SUMMARY:Nähglück für alle (AT2655) 
LOCATION:Gemeinschaftsschule Bruchwiese, Nähraum, Sachsenweg 8, 66121 SB, , 
END:VEVENT
BEGIN:VEVENT
DTSTAMP:20260423T145933
DTSTART;TZID=Europe/Berlin:20260507T171500
DTEND;TZID=Europe/Berlin:20260507T201500
UID:AT2655-20260507T171500@VHSSAARBRÜCKEN
SUMMARY:Nähglück für alle (AT2655) 
LOCATION:Gemeinschaftsschule Bruchwiese, Nähraum, Sachsenweg 8, 66121 SB, , 
END:VEVENT
END:VCALENDAR