BEGIN:VCALENDAR
VERSION:2.0
PRODID:https://www.kufer.de/kuferweb / DE
METHOD:PUBLISH
CALSCALE:GREGORIAN
X-WR-TIMEZONE:Europe/Berlin
BEGIN:VTIMEZONE
TZID:Europe/Berlin
X-LIC-LOCATION:Europe/Berlin
BEGIN:DAYLIGHT
TZOFFSETFROM:+0100
TZOFFSETTO:+0200
TZNAME:CEST
DTSTART:19700329T020000
RRULE:FREQ=YEARLY;INTERVAL=1;BYDAY=-1SU;BYMONTH=3
END:DAYLIGHT
BEGIN:STANDARD
TZOFFSETFROM:+0200
TZOFFSETTO:+0100
TZNAME:CET
DTSTART:19701025T030000
RRULE:FREQ=YEARLY;INTERVAL=1;BYDAY=-1SU;BYMONTH=10
END:STANDARD
END:VTIMEZONE
BEGIN:VEVENT
DTSTAMP:20260421T211339
DTSTART;TZID=Europe/Berlin:20260309T090000
DTEND;TZID=Europe/Berlin:20260309T120000
UID:AT2654-20260309T090000@VHSSAARBRÜCKEN
SUMMARY:Nähkurs für AnfängerInnen und Fortgeschrittene (AT2654) 
LOCATION:Altes Rathaus, Raum 25 (Textiler Werkraum), Schlossplatz 1, 66119 Saarbrücken
END:VEVENT
BEGIN:VEVENT
DTSTAMP:20260421T211339
DTSTART;TZID=Europe/Berlin:20260316T090000
DTEND;TZID=Europe/Berlin:20260316T120000
UID:AT2654-20260316T090000@VHSSAARBRÜCKEN
SUMMARY:Nähkurs für AnfängerInnen und Fortgeschrittene (AT2654) 
LOCATION:Altes Rathaus, Raum 25 (Textiler Werkraum), Schlossplatz 1, 66119 Saarbrücken
END:VEVENT
BEGIN:VEVENT
DTSTAMP:20260421T211339
DTSTART;TZID=Europe/Berlin:20260323T090000
DTEND;TZID=Europe/Berlin:20260323T120000
UID:AT2654-20260323T090000@VHSSAARBRÜCKEN
SUMMARY:Nähkurs für AnfängerInnen und Fortgeschrittene (AT2654) 
LOCATION:Altes Rathaus, Raum 25 (Textiler Werkraum), Schlossplatz 1, 66119 Saarbrücken
END:VEVENT
BEGIN:VEVENT
DTSTAMP:20260421T211339
DTSTART;TZID=Europe/Berlin:20260330T090000
DTEND;TZID=Europe/Berlin:20260330T120000
UID:AT2654-20260330T090000@VHSSAARBRÜCKEN
SUMMARY:Nähkurs für AnfängerInnen und Fortgeschrittene (AT2654) 
LOCATION:Altes Rathaus, Raum 25 (Textiler Werkraum), Schlossplatz 1, 66119 Saarbrücken
END:VEVENT
BEGIN:VEVENT
DTSTAMP:20260421T211339
DTSTART;TZID=Europe/Berlin:20260420T090000
DTEND;TZID=Europe/Berlin:20260420T120000
UID:AT2654-20260420T090000@VHSSAARBRÜCKEN
SUMMARY:Nähkurs für AnfängerInnen und Fortgeschrittene (AT2654) 
LOCATION:Altes Rathaus, Raum 25 (Textiler Werkraum), Schlossplatz 1, 66119 Saarbrücken
END:VEVENT
BEGIN:VEVENT
DTSTAMP:20260421T211339
DTSTART;TZID=Europe/Berlin:20260427T090000
DTEND;TZID=Europe/Berlin:20260427T120000
UID:AT2654-20260427T090000@VHSSAARBRÜCKEN
SUMMARY:Nähkurs für AnfängerInnen und Fortgeschrittene (AT2654) 
LOCATION:Altes Rathaus, Raum 25 (Textiler Werkraum), Schlossplatz 1, 66119 Saarbrücken
END:VEVENT
BEGIN:VEVENT
DTSTAMP:20260421T211339
DTSTART;TZID=Europe/Berlin:20260504T090000
DTEND;TZID=Europe/Berlin:20260504T120000
UID:AT2654-20260504T090000@VHSSAARBRÜCKEN
SUMMARY:Nähkurs für AnfängerInnen und Fortgeschrittene (AT2654) 
LOCATION:Altes Rathaus, Raum 25 (Textiler Werkraum), Schlossplatz 1, 66119 Saarbrücken
END:VEVENT
BEGIN:VEVENT
DTSTAMP:20260421T211339
DTSTART;TZID=Europe/Berlin:20260511T090000
DTEND;TZID=Europe/Berlin:20260511T120000
UID:AT2654-20260511T090000@VHSSAARBRÜCKEN
SUMMARY:Nähkurs für AnfängerInnen und Fortgeschrittene (AT2654) 
LOCATION:Altes Rathaus, Raum 25 (Textiler Werkraum), Schlossplatz 1, 66119 Saarbrücken
END:VEVENT
BEGIN:VEVENT
DTSTAMP:20260421T211339
DTSTART;TZID=Europe/Berlin:20260518T090000
DTEND;TZID=Europe/Berlin:20260518T120000
UID:AT2654-20260518T090000@VHSSAARBRÜCKEN
SUMMARY:Nähkurs für AnfängerInnen und Fortgeschrittene (AT2654) 
LOCATION:Altes Rathaus, Raum 25 (Textiler Werkraum), Schlossplatz 1, 66119 Saarbrücken
END:VEVENT
BEGIN:VEVENT
DTSTAMP:20260421T211339
DTSTART;TZID=Europe/Berlin:20260601T090000
DTEND;TZID=Europe/Berlin:20260601T120000
UID:AT2654-20260601T090000@VHSSAARBRÜCKEN
SUMMARY:Nähkurs für AnfängerInnen und Fortgeschrittene (AT2654) 
LOCATION:Altes Rathaus, Raum 25 (Textiler Werkraum), Schlossplatz 1, 66119 Saarbrücken
END:VEVENT
END:VCALENDAR