BEGIN:VCALENDAR
VERSION:2.0
PRODID:https://www.kufer.de/kuferweb / DE
METHOD:PUBLISH
CALSCALE:GREGORIAN
X-WR-TIMEZONE:Europe/Berlin
BEGIN:VTIMEZONE
TZID:Europe/Berlin
X-LIC-LOCATION:Europe/Berlin
BEGIN:DAYLIGHT
TZOFFSETFROM:+0100
TZOFFSETTO:+0200
TZNAME:CEST
DTSTART:19700329T020000
RRULE:FREQ=YEARLY;INTERVAL=1;BYDAY=-1SU;BYMONTH=3
END:DAYLIGHT
BEGIN:STANDARD
TZOFFSETFROM:+0200
TZOFFSETTO:+0100
TZNAME:CET
DTSTART:19701025T030000
RRULE:FREQ=YEARLY;INTERVAL=1;BYDAY=-1SU;BYMONTH=10
END:STANDARD
END:VTIMEZONE
BEGIN:VEVENT
DTSTAMP:20260423T163647
DTSTART;TZID=Europe/Berlin:20260501T080000
DTEND;TZID=Europe/Berlin:20260501T220000
UID:AT2400A-20260501T080000@VHSSAARBRÜCKEN
SUMMARY:Ausstellung „Geflüchtet“ (AT2400A) 
LOCATION:Altes Rathaus, Foyer (EG, 1. und 2. Etage), , 
END:VEVENT
BEGIN:VEVENT
DTSTAMP:20260423T163647
DTSTART;TZID=Europe/Berlin:20260502T080000
DTEND;TZID=Europe/Berlin:20260502T220000
UID:AT2400A-20260502T080000@VHSSAARBRÜCKEN
SUMMARY:Ausstellung „Geflüchtet“ (AT2400A) 
LOCATION:Altes Rathaus, Foyer (EG, 1. und 2. Etage), , 
END:VEVENT
BEGIN:VEVENT
DTSTAMP:20260423T163647
DTSTART;TZID=Europe/Berlin:20260503T080000
DTEND;TZID=Europe/Berlin:20260503T220000
UID:AT2400A-20260503T080000@VHSSAARBRÜCKEN
SUMMARY:Ausstellung „Geflüchtet“ (AT2400A) 
LOCATION:Altes Rathaus, Foyer (EG, 1. und 2. Etage), , 
END:VEVENT
BEGIN:VEVENT
DTSTAMP:20260423T163647
DTSTART;TZID=Europe/Berlin:20260504T080000
DTEND;TZID=Europe/Berlin:20260504T220000
UID:AT2400A-20260504T080000@VHSSAARBRÜCKEN
SUMMARY:Ausstellung „Geflüchtet“ (AT2400A) 
LOCATION:Altes Rathaus, Foyer (EG, 1. und 2. Etage), , 
END:VEVENT
BEGIN:VEVENT
DTSTAMP:20260423T163647
DTSTART;TZID=Europe/Berlin:20260505T080000
DTEND;TZID=Europe/Berlin:20260505T220000
UID:AT2400A-20260505T080000@VHSSAARBRÜCKEN
SUMMARY:Ausstellung „Geflüchtet“ (AT2400A) 
LOCATION:Altes Rathaus, Foyer (EG, 1. und 2. Etage), , 
END:VEVENT
BEGIN:VEVENT
DTSTAMP:20260423T163647
DTSTART;TZID=Europe/Berlin:20260506T080000
DTEND;TZID=Europe/Berlin:20260506T220000
UID:AT2400A-20260506T080000@VHSSAARBRÜCKEN
SUMMARY:Ausstellung „Geflüchtet“ (AT2400A) 
LOCATION:Altes Rathaus, Foyer (EG, 1. und 2. Etage), , 
END:VEVENT
BEGIN:VEVENT
DTSTAMP:20260423T163647
DTSTART;TZID=Europe/Berlin:20260507T080000
DTEND;TZID=Europe/Berlin:20260507T220000
UID:AT2400A-20260507T080000@VHSSAARBRÜCKEN
SUMMARY:Ausstellung „Geflüchtet“ (AT2400A) 
LOCATION:Altes Rathaus, Foyer (EG, 1. und 2. Etage), , 
END:VEVENT
BEGIN:VEVENT
DTSTAMP:20260423T163647
DTSTART;TZID=Europe/Berlin:20260508T080000
DTEND;TZID=Europe/Berlin:20260508T220000
UID:AT2400A-20260508T080000@VHSSAARBRÜCKEN
SUMMARY:Ausstellung „Geflüchtet“ (AT2400A) 
LOCATION:Altes Rathaus, Foyer (EG, 1. und 2. Etage), , 
END:VEVENT
BEGIN:VEVENT
DTSTAMP:20260423T163647
DTSTART;TZID=Europe/Berlin:20260509T080000
DTEND;TZID=Europe/Berlin:20260509T220000
UID:AT2400A-20260509T080000@VHSSAARBRÜCKEN
SUMMARY:Ausstellung „Geflüchtet“ (AT2400A) 
LOCATION:Altes Rathaus, Foyer (EG, 1. und 2. Etage), , 
END:VEVENT
BEGIN:VEVENT
DTSTAMP:20260423T163647
DTSTART;TZID=Europe/Berlin:20260510T080000
DTEND;TZID=Europe/Berlin:20260510T220000
UID:AT2400A-20260510T080000@VHSSAARBRÜCKEN
SUMMARY:Ausstellung „Geflüchtet“ (AT2400A) 
LOCATION:Altes Rathaus, Foyer (EG, 1. und 2. Etage), , 
END:VEVENT
BEGIN:VEVENT
DTSTAMP:20260423T163647
DTSTART;TZID=Europe/Berlin:20260511T080000
DTEND;TZID=Europe/Berlin:20260511T220000
UID:AT2400A-20260511T080000@VHSSAARBRÜCKEN
SUMMARY:Ausstellung „Geflüchtet“ (AT2400A) 
LOCATION:Altes Rathaus, Foyer (EG, 1. und 2. Etage), , 
END:VEVENT
BEGIN:VEVENT
DTSTAMP:20260423T163647
DTSTART;TZID=Europe/Berlin:20260512T080000
DTEND;TZID=Europe/Berlin:20260512T220000
UID:AT2400A-20260512T080000@VHSSAARBRÜCKEN
SUMMARY:Ausstellung „Geflüchtet“ (AT2400A) 
LOCATION:Altes Rathaus, Foyer (EG, 1. und 2. Etage), , 
END:VEVENT
BEGIN:VEVENT
DTSTAMP:20260423T163647
DTSTART;TZID=Europe/Berlin:20260513T080000
DTEND;TZID=Europe/Berlin:20260513T220000
UID:AT2400A-20260513T080000@VHSSAARBRÜCKEN
SUMMARY:Ausstellung „Geflüchtet“ (AT2400A) 
LOCATION:Altes Rathaus, Foyer (EG, 1. und 2. Etage), , 
END:VEVENT
BEGIN:VEVENT
DTSTAMP:20260423T163647
DTSTART;TZID=Europe/Berlin:20260514T080000
DTEND;TZID=Europe/Berlin:20260514T220000
UID:AT2400A-20260514T080000@VHSSAARBRÜCKEN
SUMMARY:Ausstellung „Geflüchtet“ (AT2400A) 
LOCATION:Altes Rathaus, Foyer (EG, 1. und 2. Etage), , 
END:VEVENT
BEGIN:VEVENT
DTSTAMP:20260423T163647
DTSTART;TZID=Europe/Berlin:20260515T080000
DTEND;TZID=Europe/Berlin:20260515T220000
UID:AT2400A-20260515T080000@VHSSAARBRÜCKEN
SUMMARY:Ausstellung „Geflüchtet“ (AT2400A) 
LOCATION:Altes Rathaus, Foyer (EG, 1. und 2. Etage), , 
END:VEVENT
BEGIN:VEVENT
DTSTAMP:20260423T163647
DTSTART;TZID=Europe/Berlin:20260516T080000
DTEND;TZID=Europe/Berlin:20260516T220000
UID:AT2400A-20260516T080000@VHSSAARBRÜCKEN
SUMMARY:Ausstellung „Geflüchtet“ (AT2400A) 
LOCATION:Altes Rathaus, Foyer (EG, 1. und 2. Etage), , 
END:VEVENT
BEGIN:VEVENT
DTSTAMP:20260423T163647
DTSTART;TZID=Europe/Berlin:20260517T080000
DTEND;TZID=Europe/Berlin:20260517T220000
UID:AT2400A-20260517T080000@VHSSAARBRÜCKEN
SUMMARY:Ausstellung „Geflüchtet“ (AT2400A) 
LOCATION:Altes Rathaus, Foyer (EG, 1. und 2. Etage), , 
END:VEVENT
BEGIN:VEVENT
DTSTAMP:20260423T163647
DTSTART;TZID=Europe/Berlin:20260518T080000
DTEND;TZID=Europe/Berlin:20260518T220000
UID:AT2400A-20260518T080000@VHSSAARBRÜCKEN
SUMMARY:Ausstellung „Geflüchtet“ (AT2400A) 
LOCATION:Altes Rathaus, Foyer (EG, 1. und 2. Etage), , 
END:VEVENT
BEGIN:VEVENT
DTSTAMP:20260423T163647
DTSTART;TZID=Europe/Berlin:20260519T080000
DTEND;TZID=Europe/Berlin:20260519T220000
UID:AT2400A-20260519T080000@VHSSAARBRÜCKEN
SUMMARY:Ausstellung „Geflüchtet“ (AT2400A) 
LOCATION:Altes Rathaus, Foyer (EG, 1. und 2. Etage), , 
END:VEVENT
BEGIN:VEVENT
DTSTAMP:20260423T163647
DTSTART;TZID=Europe/Berlin:20260520T080000
DTEND;TZID=Europe/Berlin:20260520T220000
UID:AT2400A-20260520T080000@VHSSAARBRÜCKEN
SUMMARY:Ausstellung „Geflüchtet“ (AT2400A) 
LOCATION:Altes Rathaus, Foyer (EG, 1. und 2. Etage), , 
END:VEVENT
BEGIN:VEVENT
DTSTAMP:20260423T163647
DTSTART;TZID=Europe/Berlin:20260521T080000
DTEND;TZID=Europe/Berlin:20260521T220000
UID:AT2400A-20260521T080000@VHSSAARBRÜCKEN
SUMMARY:Ausstellung „Geflüchtet“ (AT2400A) 
LOCATION:Altes Rathaus, Foyer (EG, 1. und 2. Etage), , 
END:VEVENT
BEGIN:VEVENT
DTSTAMP:20260423T163647
DTSTART;TZID=Europe/Berlin:20260522T080000
DTEND;TZID=Europe/Berlin:20260522T220000
UID:AT2400A-20260522T080000@VHSSAARBRÜCKEN
SUMMARY:Ausstellung „Geflüchtet“ (AT2400A) 
LOCATION:Altes Rathaus, Foyer (EG, 1. und 2. Etage), , 
END:VEVENT
BEGIN:VEVENT
DTSTAMP:20260423T163647
DTSTART;TZID=Europe/Berlin:20260523T080000
DTEND;TZID=Europe/Berlin:20260523T220000
UID:AT2400A-20260523T080000@VHSSAARBRÜCKEN
SUMMARY:Ausstellung „Geflüchtet“ (AT2400A) 
LOCATION:Altes Rathaus, Foyer (EG, 1. und 2. Etage), , 
END:VEVENT
BEGIN:VEVENT
DTSTAMP:20260423T163647
DTSTART;TZID=Europe/Berlin:20260524T080000
DTEND;TZID=Europe/Berlin:20260524T220000
UID:AT2400A-20260524T080000@VHSSAARBRÜCKEN
SUMMARY:Ausstellung „Geflüchtet“ (AT2400A) 
LOCATION:Altes Rathaus, Foyer (EG, 1. und 2. Etage), , 
END:VEVENT
BEGIN:VEVENT
DTSTAMP:20260423T163647
DTSTART;TZID=Europe/Berlin:20260525T080000
DTEND;TZID=Europe/Berlin:20260525T220000
UID:AT2400A-20260525T080000@VHSSAARBRÜCKEN
SUMMARY:Ausstellung „Geflüchtet“ (AT2400A) 
LOCATION:Altes Rathaus, Foyer (EG, 1. und 2. Etage), , 
END:VEVENT
BEGIN:VEVENT
DTSTAMP:20260423T163647
DTSTART;TZID=Europe/Berlin:20260526T080000
DTEND;TZID=Europe/Berlin:20260526T220000
UID:AT2400A-20260526T080000@VHSSAARBRÜCKEN
SUMMARY:Ausstellung „Geflüchtet“ (AT2400A) 
LOCATION:Altes Rathaus, Foyer (EG, 1. und 2. Etage), , 
END:VEVENT
BEGIN:VEVENT
DTSTAMP:20260423T163647
DTSTART;TZID=Europe/Berlin:20260527T080000
DTEND;TZID=Europe/Berlin:20260527T220000
UID:AT2400A-20260527T080000@VHSSAARBRÜCKEN
SUMMARY:Ausstellung „Geflüchtet“ (AT2400A) 
LOCATION:Altes Rathaus, Foyer (EG, 1. und 2. Etage), , 
END:VEVENT
BEGIN:VEVENT
DTSTAMP:20260423T163647
DTSTART;TZID=Europe/Berlin:20260528T080000
DTEND;TZID=Europe/Berlin:20260528T220000
UID:AT2400A-20260528T080000@VHSSAARBRÜCKEN
SUMMARY:Ausstellung „Geflüchtet“ (AT2400A) 
LOCATION:Altes Rathaus, Foyer (EG, 1. und 2. Etage), , 
END:VEVENT
BEGIN:VEVENT
DTSTAMP:20260423T163647
DTSTART;TZID=Europe/Berlin:20260529T080000
DTEND;TZID=Europe/Berlin:20260529T220000
UID:AT2400A-20260529T080000@VHSSAARBRÜCKEN
SUMMARY:Ausstellung „Geflüchtet“ (AT2400A) 
LOCATION:Altes Rathaus, Foyer (EG, 1. und 2. Etage), , 
END:VEVENT
BEGIN:VEVENT
DTSTAMP:20260423T163647
DTSTART;TZID=Europe/Berlin:20260530T080000
DTEND;TZID=Europe/Berlin:20260530T220000
UID:AT2400A-20260530T080000@VHSSAARBRÜCKEN
SUMMARY:Ausstellung „Geflüchtet“ (AT2400A) 
LOCATION:Altes Rathaus, Foyer (EG, 1. und 2. Etage), , 
END:VEVENT
BEGIN:VEVENT
DTSTAMP:20260423T163647
DTSTART;TZID=Europe/Berlin:20260531T080000
DTEND;TZID=Europe/Berlin:20260531T220000
UID:AT2400A-20260531T080000@VHSSAARBRÜCKEN
SUMMARY:Ausstellung „Geflüchtet“ (AT2400A) 
LOCATION:Altes Rathaus, Foyer (EG, 1. und 2. Etage), , 
END:VEVENT
BEGIN:VEVENT
DTSTAMP:20260423T163647
DTSTART;TZID=Europe/Berlin:20260601T080000
DTEND;TZID=Europe/Berlin:20260601T220000
UID:AT2400A-20260601T080000@VHSSAARBRÜCKEN
SUMMARY:Ausstellung „Geflüchtet“ (AT2400A) 
LOCATION:Altes Rathaus, Foyer (EG, 1. und 2. Etage), , 
END:VEVENT
BEGIN:VEVENT
DTSTAMP:20260423T163647
DTSTART;TZID=Europe/Berlin:20260602T080000
DTEND;TZID=Europe/Berlin:20260602T220000
UID:AT2400A-20260602T080000@VHSSAARBRÜCKEN
SUMMARY:Ausstellung „Geflüchtet“ (AT2400A) 
LOCATION:Altes Rathaus, Foyer (EG, 1. und 2. Etage), , 
END:VEVENT
BEGIN:VEVENT
DTSTAMP:20260423T163647
DTSTART;TZID=Europe/Berlin:20260603T080000
DTEND;TZID=Europe/Berlin:20260603T220000
UID:AT2400A-20260603T080000@VHSSAARBRÜCKEN
SUMMARY:Ausstellung „Geflüchtet“ (AT2400A) 
LOCATION:Altes Rathaus, Foyer (EG, 1. und 2. Etage), , 
END:VEVENT
BEGIN:VEVENT
DTSTAMP:20260423T163647
DTSTART;TZID=Europe/Berlin:20260604T080000
DTEND;TZID=Europe/Berlin:20260604T220000
UID:AT2400A-20260604T080000@VHSSAARBRÜCKEN
SUMMARY:Ausstellung „Geflüchtet“ (AT2400A) 
LOCATION:Altes Rathaus, Foyer (EG, 1. und 2. Etage), , 
END:VEVENT
BEGIN:VEVENT
DTSTAMP:20260423T163647
DTSTART;TZID=Europe/Berlin:20260605T080000
DTEND;TZID=Europe/Berlin:20260605T220000
UID:AT2400A-20260605T080000@VHSSAARBRÜCKEN
SUMMARY:Ausstellung „Geflüchtet“ (AT2400A) 
LOCATION:Altes Rathaus, Foyer (EG, 1. und 2. Etage), , 
END:VEVENT
BEGIN:VEVENT
DTSTAMP:20260423T163647
DTSTART;TZID=Europe/Berlin:20260606T080000
DTEND;TZID=Europe/Berlin:20260606T220000
UID:AT2400A-20260606T080000@VHSSAARBRÜCKEN
SUMMARY:Ausstellung „Geflüchtet“ (AT2400A) 
LOCATION:Altes Rathaus, Foyer (EG, 1. und 2. Etage), , 
END:VEVENT
BEGIN:VEVENT
DTSTAMP:20260423T163647
DTSTART;TZID=Europe/Berlin:20260607T080000
DTEND;TZID=Europe/Berlin:20260607T220000
UID:AT2400A-20260607T080000@VHSSAARBRÜCKEN
SUMMARY:Ausstellung „Geflüchtet“ (AT2400A) 
LOCATION:Altes Rathaus, Foyer (EG, 1. und 2. Etage), , 
END:VEVENT
BEGIN:VEVENT
DTSTAMP:20260423T163647
DTSTART;TZID=Europe/Berlin:20260608T080000
DTEND;TZID=Europe/Berlin:20260608T220000
UID:AT2400A-20260608T080000@VHSSAARBRÜCKEN
SUMMARY:Ausstellung „Geflüchtet“ (AT2400A) 
LOCATION:Altes Rathaus, Foyer (EG, 1. und 2. Etage), , 
END:VEVENT
BEGIN:VEVENT
DTSTAMP:20260423T163647
DTSTART;TZID=Europe/Berlin:20260609T080000
DTEND;TZID=Europe/Berlin:20260609T220000
UID:AT2400A-20260609T080000@VHSSAARBRÜCKEN
SUMMARY:Ausstellung „Geflüchtet“ (AT2400A) 
LOCATION:Altes Rathaus, Foyer (EG, 1. und 2. Etage), , 
END:VEVENT
BEGIN:VEVENT
DTSTAMP:20260423T163647
DTSTART;TZID=Europe/Berlin:20260610T080000
DTEND;TZID=Europe/Berlin:20260610T220000
UID:AT2400A-20260610T080000@VHSSAARBRÜCKEN
SUMMARY:Ausstellung „Geflüchtet“ (AT2400A) 
LOCATION:Altes Rathaus, Foyer (EG, 1. und 2. Etage), , 
END:VEVENT
BEGIN:VEVENT
DTSTAMP:20260423T163647
DTSTART;TZID=Europe/Berlin:20260611T080000
DTEND;TZID=Europe/Berlin:20260611T220000
UID:AT2400A-20260611T080000@VHSSAARBRÜCKEN
SUMMARY:Ausstellung „Geflüchtet“ (AT2400A) 
LOCATION:Altes Rathaus, Foyer (EG, 1. und 2. Etage), , 
END:VEVENT
BEGIN:VEVENT
DTSTAMP:20260423T163647
DTSTART;TZID=Europe/Berlin:20260612T080000
DTEND;TZID=Europe/Berlin:20260612T220000
UID:AT2400A-20260612T080000@VHSSAARBRÜCKEN
SUMMARY:Ausstellung „Geflüchtet“ (AT2400A) 
LOCATION:Altes Rathaus, Foyer (EG, 1. und 2. Etage), , 
END:VEVENT
BEGIN:VEVENT
DTSTAMP:20260423T163647
DTSTART;TZID=Europe/Berlin:20260613T080000
DTEND;TZID=Europe/Berlin:20260613T220000
UID:AT2400A-20260613T080000@VHSSAARBRÜCKEN
SUMMARY:Ausstellung „Geflüchtet“ (AT2400A) 
LOCATION:Altes Rathaus, Foyer (EG, 1. und 2. Etage), , 
END:VEVENT
BEGIN:VEVENT
DTSTAMP:20260423T163647
DTSTART;TZID=Europe/Berlin:20260614T080000
DTEND;TZID=Europe/Berlin:20260614T220000
UID:AT2400A-20260614T080000@VHSSAARBRÜCKEN
SUMMARY:Ausstellung „Geflüchtet“ (AT2400A) 
LOCATION:Altes Rathaus, Foyer (EG, 1. und 2. Etage), , 
END:VEVENT
BEGIN:VEVENT
DTSTAMP:20260423T163647
DTSTART;TZID=Europe/Berlin:20260615T080000
DTEND;TZID=Europe/Berlin:20260615T220000
UID:AT2400A-20260615T080000@VHSSAARBRÜCKEN
SUMMARY:Ausstellung „Geflüchtet“ (AT2400A) 
LOCATION:Altes Rathaus, Foyer (EG, 1. und 2. Etage), , 
END:VEVENT
BEGIN:VEVENT
DTSTAMP:20260423T163647
DTSTART;TZID=Europe/Berlin:20260616T080000
DTEND;TZID=Europe/Berlin:20260616T220000
UID:AT2400A-20260616T080000@VHSSAARBRÜCKEN
SUMMARY:Ausstellung „Geflüchtet“ (AT2400A) 
LOCATION:Altes Rathaus, Foyer (EG, 1. und 2. Etage), , 
END:VEVENT
BEGIN:VEVENT
DTSTAMP:20260423T163647
DTSTART;TZID=Europe/Berlin:20260617T080000
DTEND;TZID=Europe/Berlin:20260617T220000
UID:AT2400A-20260617T080000@VHSSAARBRÜCKEN
SUMMARY:Ausstellung „Geflüchtet“ (AT2400A) 
LOCATION:Altes Rathaus, Foyer (EG, 1. und 2. Etage), , 
END:VEVENT
BEGIN:VEVENT
DTSTAMP:20260423T163647
DTSTART;TZID=Europe/Berlin:20260618T080000
DTEND;TZID=Europe/Berlin:20260618T220000
UID:AT2400A-20260618T080000@VHSSAARBRÜCKEN
SUMMARY:Ausstellung „Geflüchtet“ (AT2400A) 
LOCATION:Altes Rathaus, Foyer (EG, 1. und 2. Etage), , 
END:VEVENT
BEGIN:VEVENT
DTSTAMP:20260423T163647
DTSTART;TZID=Europe/Berlin:20260619T080000
DTEND;TZID=Europe/Berlin:20260619T220000
UID:AT2400A-20260619T080000@VHSSAARBRÜCKEN
SUMMARY:Ausstellung „Geflüchtet“ (AT2400A) 
LOCATION:Altes Rathaus, Foyer (EG, 1. und 2. Etage), , 
END:VEVENT
BEGIN:VEVENT
DTSTAMP:20260423T163647
DTSTART;TZID=Europe/Berlin:20260620T080000
DTEND;TZID=Europe/Berlin:20260620T220000
UID:AT2400A-20260620T080000@VHSSAARBRÜCKEN
SUMMARY:Ausstellung „Geflüchtet“ (AT2400A) 
LOCATION:Altes Rathaus, Foyer (EG, 1. und 2. Etage), , 
END:VEVENT
BEGIN:VEVENT
DTSTAMP:20260423T163647
DTSTART;TZID=Europe/Berlin:20260621T080000
DTEND;TZID=Europe/Berlin:20260621T220000
UID:AT2400A-20260621T080000@VHSSAARBRÜCKEN
SUMMARY:Ausstellung „Geflüchtet“ (AT2400A) 
LOCATION:Altes Rathaus, Foyer (EG, 1. und 2. Etage), , 
END:VEVENT
BEGIN:VEVENT
DTSTAMP:20260423T163647
DTSTART;TZID=Europe/Berlin:20260622T080000
DTEND;TZID=Europe/Berlin:20260622T220000
UID:AT2400A-20260622T080000@VHSSAARBRÜCKEN
SUMMARY:Ausstellung „Geflüchtet“ (AT2400A) 
LOCATION:Altes Rathaus, Foyer (EG, 1. und 2. Etage), , 
END:VEVENT
BEGIN:VEVENT
DTSTAMP:20260423T163647
DTSTART;TZID=Europe/Berlin:20260623T080000
DTEND;TZID=Europe/Berlin:20260623T220000
UID:AT2400A-20260623T080000@VHSSAARBRÜCKEN
SUMMARY:Ausstellung „Geflüchtet“ (AT2400A) 
LOCATION:Altes Rathaus, Foyer (EG, 1. und 2. Etage), , 
END:VEVENT
BEGIN:VEVENT
DTSTAMP:20260423T163647
DTSTART;TZID=Europe/Berlin:20260624T080000
DTEND;TZID=Europe/Berlin:20260624T220000
UID:AT2400A-20260624T080000@VHSSAARBRÜCKEN
SUMMARY:Ausstellung „Geflüchtet“ (AT2400A) 
LOCATION:Altes Rathaus, Foyer (EG, 1. und 2. Etage), , 
END:VEVENT
BEGIN:VEVENT
DTSTAMP:20260423T163647
DTSTART;TZID=Europe/Berlin:20260625T080000
DTEND;TZID=Europe/Berlin:20260625T220000
UID:AT2400A-20260625T080000@VHSSAARBRÜCKEN
SUMMARY:Ausstellung „Geflüchtet“ (AT2400A) 
LOCATION:Altes Rathaus, Foyer (EG, 1. und 2. Etage), , 
END:VEVENT
BEGIN:VEVENT
DTSTAMP:20260423T163647
DTSTART;TZID=Europe/Berlin:20260626T080000
DTEND;TZID=Europe/Berlin:20260626T220000
UID:AT2400A-20260626T080000@VHSSAARBRÜCKEN
SUMMARY:Ausstellung „Geflüchtet“ (AT2400A) 
LOCATION:Altes Rathaus, Foyer (EG, 1. und 2. Etage), , 
END:VEVENT
END:VCALENDAR