BEGIN:VCALENDAR
VERSION:2.0
PRODID:https://www.kufer.de/kuferweb / DE
METHOD:PUBLISH
CALSCALE:GREGORIAN
X-WR-TIMEZONE:Europe/Berlin
BEGIN:VTIMEZONE
TZID:Europe/Berlin
X-LIC-LOCATION:Europe/Berlin
BEGIN:DAYLIGHT
TZOFFSETFROM:+0100
TZOFFSETTO:+0200
TZNAME:CEST
DTSTART:19700329T020000
RRULE:FREQ=YEARLY;INTERVAL=1;BYDAY=-1SU;BYMONTH=3
END:DAYLIGHT
BEGIN:STANDARD
TZOFFSETFROM:+0200
TZOFFSETTO:+0100
TZNAME:CET
DTSTART:19701025T030000
RRULE:FREQ=YEARLY;INTERVAL=1;BYDAY=-1SU;BYMONTH=10
END:STANDARD
END:VTIMEZONE
BEGIN:VEVENT
DTSTAMP:20260421T142534
DTSTART;TZID=Europe/Berlin:20260312T150000
DTEND;TZID=Europe/Berlin:20260312T190000
UID:AT2213-20260312T150000@VHSSAARBRÜCKEN
SUMMARY:Theatergruppe „Melpomene" (AT2213) 
LOCATION:Altes Rathaus, Raum 17, Schlossplatz 1, 66119 Saarbrücken
END:VEVENT
BEGIN:VEVENT
DTSTAMP:20260421T142534
DTSTART;TZID=Europe/Berlin:20260319T150000
DTEND;TZID=Europe/Berlin:20260319T190000
UID:AT2213-20260319T150000@VHSSAARBRÜCKEN
SUMMARY:Theatergruppe „Melpomene" (AT2213) 
LOCATION:Altes Rathaus, Raum 17, Schlossplatz 1, 66119 Saarbrücken
END:VEVENT
BEGIN:VEVENT
DTSTAMP:20260421T142534
DTSTART;TZID=Europe/Berlin:20260326T150000
DTEND;TZID=Europe/Berlin:20260326T190000
UID:AT2213-20260326T150000@VHSSAARBRÜCKEN
SUMMARY:Theatergruppe „Melpomene" (AT2213) 
LOCATION:Altes Rathaus, Raum 17, Schlossplatz 1, 66119 Saarbrücken
END:VEVENT
BEGIN:VEVENT
DTSTAMP:20260421T142534
DTSTART;TZID=Europe/Berlin:20260402T150000
DTEND;TZID=Europe/Berlin:20260402T190000
UID:AT2213-20260402T150000@VHSSAARBRÜCKEN
SUMMARY:Theatergruppe „Melpomene" (AT2213) 
LOCATION:Altes Rathaus, Raum 17, Schlossplatz 1, 66119 Saarbrücken
END:VEVENT
BEGIN:VEVENT
DTSTAMP:20260421T142534
DTSTART;TZID=Europe/Berlin:20260409T150000
DTEND;TZID=Europe/Berlin:20260409T190000
UID:AT2213-20260409T150000@VHSSAARBRÜCKEN
SUMMARY:Theatergruppe „Melpomene" (AT2213) 
LOCATION:Altes Rathaus, Raum 17, Schlossplatz 1, 66119 Saarbrücken
END:VEVENT
BEGIN:VEVENT
DTSTAMP:20260421T142534
DTSTART;TZID=Europe/Berlin:20260416T150000
DTEND;TZID=Europe/Berlin:20260416T190000
UID:AT2213-20260416T150000@VHSSAARBRÜCKEN
SUMMARY:Theatergruppe „Melpomene" (AT2213) 
LOCATION:Altes Rathaus, Raum 17, Schlossplatz 1, 66119 Saarbrücken
END:VEVENT
BEGIN:VEVENT
DTSTAMP:20260421T142534
DTSTART;TZID=Europe/Berlin:20260423T150000
DTEND;TZID=Europe/Berlin:20260423T190000
UID:AT2213-20260423T150000@VHSSAARBRÜCKEN
SUMMARY:Theatergruppe „Melpomene" (AT2213) 
LOCATION:Altes Rathaus, Raum 17, Schlossplatz 1, 66119 Saarbrücken
END:VEVENT
BEGIN:VEVENT
DTSTAMP:20260421T142534
DTSTART;TZID=Europe/Berlin:20260430T150000
DTEND;TZID=Europe/Berlin:20260430T190000
UID:AT2213-20260430T150000@VHSSAARBRÜCKEN
SUMMARY:Theatergruppe „Melpomene" (AT2213) 
LOCATION:Altes Rathaus, Raum 17, Schlossplatz 1, 66119 Saarbrücken
END:VEVENT
BEGIN:VEVENT
DTSTAMP:20260421T142534
DTSTART;TZID=Europe/Berlin:20260507T150000
DTEND;TZID=Europe/Berlin:20260507T190000
UID:AT2213-20260507T150000@VHSSAARBRÜCKEN
SUMMARY:Theatergruppe „Melpomene" (AT2213) 
LOCATION:Altes Rathaus, Raum 17, Schlossplatz 1, 66119 Saarbrücken
END:VEVENT
BEGIN:VEVENT
DTSTAMP:20260421T142534
DTSTART;TZID=Europe/Berlin:20260514T150000
DTEND;TZID=Europe/Berlin:20260514T190000
UID:AT2213-20260514T150000@VHSSAARBRÜCKEN
SUMMARY:Theatergruppe „Melpomene" (AT2213) 
LOCATION:Altes Rathaus, Raum 17, Schlossplatz 1, 66119 Saarbrücken
END:VEVENT
BEGIN:VEVENT
DTSTAMP:20260421T142534
DTSTART;TZID=Europe/Berlin:20260521T150000
DTEND;TZID=Europe/Berlin:20260521T190000
UID:AT2213-20260521T150000@VHSSAARBRÜCKEN
SUMMARY:Theatergruppe „Melpomene" (AT2213) 
LOCATION:Altes Rathaus, Raum 17, Schlossplatz 1, 66119 Saarbrücken
END:VEVENT
BEGIN:VEVENT
DTSTAMP:20260421T142534
DTSTART;TZID=Europe/Berlin:20260528T150000
DTEND;TZID=Europe/Berlin:20260528T190000
UID:AT2213-20260528T150000@VHSSAARBRÜCKEN
SUMMARY:Theatergruppe „Melpomene" (AT2213) 
LOCATION:Altes Rathaus, Raum 17, Schlossplatz 1, 66119 Saarbrücken
END:VEVENT
BEGIN:VEVENT
DTSTAMP:20260421T142534
DTSTART;TZID=Europe/Berlin:20260604T150000
DTEND;TZID=Europe/Berlin:20260604T190000
UID:AT2213-20260604T150000@VHSSAARBRÜCKEN
SUMMARY:Theatergruppe „Melpomene" (AT2213) 
LOCATION:Altes Rathaus, Raum 17, Schlossplatz 1, 66119 Saarbrücken
END:VEVENT
BEGIN:VEVENT
DTSTAMP:20260421T142534
DTSTART;TZID=Europe/Berlin:20260611T150000
DTEND;TZID=Europe/Berlin:20260611T190000
UID:AT2213-20260611T150000@VHSSAARBRÜCKEN
SUMMARY:Theatergruppe „Melpomene" (AT2213) 
LOCATION:Altes Rathaus, Raum 17, Schlossplatz 1, 66119 Saarbrücken
END:VEVENT
BEGIN:VEVENT
DTSTAMP:20260421T142534
DTSTART;TZID=Europe/Berlin:20260618T150000
DTEND;TZID=Europe/Berlin:20260618T190000
UID:AT2213-20260618T150000@VHSSAARBRÜCKEN
DESCRIPTION:Generalprobe
SUMMARY:Theatergruppe „Melpomene" (AT2213) 
LOCATION:Altes Rathaus, Raum 13, Schlossplatz 1, 66119 Saarbrücken
END:VEVENT
BEGIN:VEVENT
DTSTAMP:20260421T142534
DTSTART;TZID=Europe/Berlin:20260625T150000
DTEND;TZID=Europe/Berlin:20260625T190000
UID:AT2213-20260625T150000@VHSSAARBRÜCKEN
SUMMARY:Theatergruppe „Melpomene" (AT2213) 
LOCATION:Altes Rathaus, Raum 17, Schlossplatz 1, 66119 Saarbrücken
END:VEVENT
BEGIN:VEVENT
DTSTAMP:20260421T142534
DTSTART;TZID=Europe/Berlin:20260702T150000
DTEND;TZID=Europe/Berlin:20260702T190000
UID:AT2213-20260702T150000@VHSSAARBRÜCKEN
SUMMARY:Theatergruppe „Melpomene" (AT2213) 
LOCATION:Altes Rathaus, Raum 17, Schlossplatz 1, 66119 Saarbrücken
END:VEVENT
BEGIN:VEVENT
DTSTAMP:20260421T142534
DTSTART;TZID=Europe/Berlin:20260709T150000
DTEND;TZID=Europe/Berlin:20260709T190000
UID:AT2213-20260709T150000@VHSSAARBRÜCKEN
SUMMARY:Theatergruppe „Melpomene" (AT2213) 
LOCATION:Altes Rathaus, Raum 17, Schlossplatz 1, 66119 Saarbrücken
END:VEVENT
BEGIN:VEVENT
DTSTAMP:20260421T142534
DTSTART;TZID=Europe/Berlin:20260716T150000
DTEND;TZID=Europe/Berlin:20260716T190000
UID:AT2213-20260716T150000@VHSSAARBRÜCKEN
SUMMARY:Theatergruppe „Melpomene" (AT2213) 
LOCATION:Altes Rathaus, Raum 17, Schlossplatz 1, 66119 Saarbrücken
END:VEVENT
BEGIN:VEVENT
DTSTAMP:20260421T142534
DTSTART;TZID=Europe/Berlin:20260723T150000
DTEND;TZID=Europe/Berlin:20260723T190000
UID:AT2213-20260723T150000@VHSSAARBRÜCKEN
SUMMARY:Theatergruppe „Melpomene" (AT2213) 
LOCATION:Altes Rathaus, Raum 17, Schlossplatz 1, 66119 Saarbrücken
END:VEVENT
END:VCALENDAR