BEGIN:VCALENDAR
VERSION:2.0
PRODID:https://www.kufer.de/kuferweb / DE
METHOD:PUBLISH
CALSCALE:GREGORIAN
X-WR-TIMEZONE:Europe/Berlin
BEGIN:VTIMEZONE
TZID:Europe/Berlin
X-LIC-LOCATION:Europe/Berlin
BEGIN:DAYLIGHT
TZOFFSETFROM:+0100
TZOFFSETTO:+0200
TZNAME:CEST
DTSTART:19700329T020000
RRULE:FREQ=YEARLY;INTERVAL=1;BYDAY=-1SU;BYMONTH=3
END:DAYLIGHT
BEGIN:STANDARD
TZOFFSETFROM:+0200
TZOFFSETTO:+0100
TZNAME:CET
DTSTART:19701025T030000
RRULE:FREQ=YEARLY;INTERVAL=1;BYDAY=-1SU;BYMONTH=10
END:STANDARD
END:VTIMEZONE
BEGIN:VEVENT
DTSTAMP:20260421T193704
DTSTART;TZID=Europe/Berlin:20260304T184500
DTEND;TZID=Europe/Berlin:20260304T204500
UID:AT2211-20260304T184500@VHSSAARBRÜCKEN
DESCRIPTION:Probenbesuch Cinderella 26.02.26 (*DJ):
SUMMARY:Theater kennt keine Grenzen. (AT2211) 
LOCATION:Saarländisches Staatstheater, Treffpunkt am Bühneneingang (Pforte), , 
END:VEVENT
BEGIN:VEVENT
DTSTAMP:20260421T193704
DTSTART;TZID=Europe/Berlin:20260310T183000
DTEND;TZID=Europe/Berlin:20260310T200000
UID:AT2211-20260310T183000@VHSSAARBRÜCKEN
DESCRIPTION:Besuch der Generalprobe Schlagerabend
SUMMARY:Theater kennt keine Grenzen. (AT2211) 
LOCATION:Saarländisches Staatstheater, Treffpunkt am Bühneneingang (Pforte), , 
END:VEVENT
BEGIN:VEVENT
DTSTAMP:20260421T193704
DTSTART;TZID=Europe/Berlin:20260318T183000
DTEND;TZID=Europe/Berlin:20260318T200000
UID:AT2211-20260318T183000@VHSSAARBRÜCKEN
SUMMARY:Theater kennt keine Grenzen. (AT2211) 
LOCATION:Saarländisches Staatstheater, Treffpunkt am Bühneneingang (Pforte), , 
END:VEVENT
BEGIN:VEVENT
DTSTAMP:20260421T193704
DTSTART;TZID=Europe/Berlin:20260408T183000
DTEND;TZID=Europe/Berlin:20260408T200000
UID:AT2211-20260408T183000@VHSSAARBRÜCKEN
DESCRIPTION:Ersatz für 25.03.26
SUMMARY:Theater kennt keine Grenzen. (AT2211) 
LOCATION:Saarländisches Staatstheater, Treffpunkt am Bühneneingang (Pforte), , 
END:VEVENT
BEGIN:VEVENT
DTSTAMP:20260421T193704
DTSTART;TZID=Europe/Berlin:20260415T180000
DTEND;TZID=Europe/Berlin:20260415T193000
UID:AT2211-20260415T180000@VHSSAARBRÜCKEN
DESCRIPTION:Besuch der Soiree Götterdämmerung, Beginn 18 Uhr, Kartenverteilung im Foyer
SUMMARY:Theater kennt keine Grenzen. (AT2211) 
LOCATION:Saarländisches Staatstheater, Treffpunkt am Bühneneingang (Pforte), , 
END:VEVENT
BEGIN:VEVENT
DTSTAMP:20260421T193704
DTSTART;TZID=Europe/Berlin:20260422T183000
DTEND;TZID=Europe/Berlin:20260422T200000
UID:AT2211-20260422T183000@VHSSAARBRÜCKEN
SUMMARY:Theater kennt keine Grenzen. (AT2211) 
LOCATION:Saarländisches Staatstheater, Treffpunkt am Bühneneingang (Pforte), , 
END:VEVENT
BEGIN:VEVENT
DTSTAMP:20260421T193704
DTSTART;TZID=Europe/Berlin:20260429T183000
DTEND;TZID=Europe/Berlin:20260429T200000
UID:AT2211-20260429T183000@VHSSAARBRÜCKEN
SUMMARY:Theater kennt keine Grenzen. (AT2211) 
LOCATION:Saarländisches Staatstheater, Treffpunkt am Bühneneingang (Pforte), , 
END:VEVENT
BEGIN:VEVENT
DTSTAMP:20260421T193704
DTSTART;TZID=Europe/Berlin:20260506T183000
DTEND;TZID=Europe/Berlin:20260506T200000
UID:AT2211-20260506T183000@VHSSAARBRÜCKEN
SUMMARY:Theater kennt keine Grenzen. (AT2211) 
LOCATION:Saarländisches Staatstheater, Treffpunkt am Bühneneingang (Pforte), , 
END:VEVENT
BEGIN:VEVENT
DTSTAMP:20260421T193704
DTSTART;TZID=Europe/Berlin:20260513T183000
DTEND;TZID=Europe/Berlin:20260513T200000
UID:AT2211-20260513T183000@VHSSAARBRÜCKEN
SUMMARY:Theater kennt keine Grenzen. (AT2211) 
LOCATION:Saarländisches Staatstheater, Treffpunkt am Bühneneingang (Pforte), , 
END:VEVENT
BEGIN:VEVENT
DTSTAMP:20260421T193704
DTSTART;TZID=Europe/Berlin:20260520T183000
DTEND;TZID=Europe/Berlin:20260520T200000
UID:AT2211-20260520T183000@VHSSAARBRÜCKEN
SUMMARY:Theater kennt keine Grenzen. (AT2211) 
LOCATION:Saarländisches Staatstheater, Treffpunkt am Bühneneingang (Pforte), , 
END:VEVENT
BEGIN:VEVENT
DTSTAMP:20260421T193704
DTSTART;TZID=Europe/Berlin:20260610T183000
DTEND;TZID=Europe/Berlin:20260610T200000
UID:AT2211-20260610T183000@VHSSAARBRÜCKEN
SUMMARY:Theater kennt keine Grenzen. (AT2211) 
LOCATION:Saarländisches Staatstheater, Treffpunkt am Bühneneingang (Pforte), , 
END:VEVENT
END:VCALENDAR