BEGIN:VCALENDAR
VERSION:2.0
PRODID:https://www.kufer.de/kuferweb / DE
METHOD:PUBLISH
CALSCALE:GREGORIAN
X-WR-TIMEZONE:Europe/Berlin
BEGIN:VTIMEZONE
TZID:Europe/Berlin
X-LIC-LOCATION:Europe/Berlin
BEGIN:DAYLIGHT
TZOFFSETFROM:+0100
TZOFFSETTO:+0200
TZNAME:CEST
DTSTART:19700329T020000
RRULE:FREQ=YEARLY;INTERVAL=1;BYDAY=-1SU;BYMONTH=3
END:DAYLIGHT
BEGIN:STANDARD
TZOFFSETFROM:+0200
TZOFFSETTO:+0100
TZNAME:CET
DTSTART:19701025T030000
RRULE:FREQ=YEARLY;INTERVAL=1;BYDAY=-1SU;BYMONTH=10
END:STANDARD
END:VTIMEZONE
BEGIN:VEVENT
DTSTAMP:20260421T223235
DTSTART;TZID=Europe/Berlin:20260304T184500
DTEND;TZID=Europe/Berlin:20260304T204500
UID:AT2210-20260304T184500@VHSSAARBRÜCKEN
DESCRIPTION:Probenbesuch Cinderella Zusatztermin 26.02.26 (*DJ): 
SUMMARY:Theater kennt keine Grenzen. (AT2210) 
LOCATION:Saarländisches Staatstheater, Treffpunkt am Bühneneingang (Pforte), , 
END:VEVENT
BEGIN:VEVENT
DTSTAMP:20260421T223235
DTSTART;TZID=Europe/Berlin:20260311T110000
DTEND;TZID=Europe/Berlin:20260311T123000
UID:AT2210-20260311T110000@VHSSAARBRÜCKEN
SUMMARY:Theater kennt keine Grenzen. (AT2210) 
LOCATION:Saarländisches Staatstheater, Treffpunkt am Bühneneingang (Pforte), , 
END:VEVENT
BEGIN:VEVENT
DTSTAMP:20260421T223235
DTSTART;TZID=Europe/Berlin:20260318T110000
DTEND;TZID=Europe/Berlin:20260318T123000
UID:AT2210-20260318T110000@VHSSAARBRÜCKEN
SUMMARY:Theater kennt keine Grenzen. (AT2210) 
LOCATION:Saarländisches Staatstheater, Treffpunkt am Bühneneingang (Pforte), , 
END:VEVENT
BEGIN:VEVENT
DTSTAMP:20260421T223235
DTSTART;TZID=Europe/Berlin:20260408T110000
DTEND;TZID=Europe/Berlin:20260408T123000
UID:AT2210-20260408T110000@VHSSAARBRÜCKEN
DESCRIPTION:Ersatz für 25.03.26
SUMMARY:Theater kennt keine Grenzen. (AT2210) 
LOCATION:Saarländisches Staatstheater, Treffpunkt am Bühneneingang (Pforte), , 
END:VEVENT
BEGIN:VEVENT
DTSTAMP:20260421T223235
DTSTART;TZID=Europe/Berlin:20260415T110000
DTEND;TZID=Europe/Berlin:20260415T123000
UID:AT2210-20260415T110000@VHSSAARBRÜCKEN
SUMMARY:Theater kennt keine Grenzen. (AT2210) 
LOCATION:Saarländisches Staatstheater, Treffpunkt am Bühneneingang (Pforte), , 
END:VEVENT
BEGIN:VEVENT
DTSTAMP:20260421T223235
DTSTART;TZID=Europe/Berlin:20260422T110000
DTEND;TZID=Europe/Berlin:20260422T123000
UID:AT2210-20260422T110000@VHSSAARBRÜCKEN
SUMMARY:Theater kennt keine Grenzen. (AT2210) 
LOCATION:Saarländisches Staatstheater, Treffpunkt am Bühneneingang (Pforte), , 
END:VEVENT
BEGIN:VEVENT
DTSTAMP:20260421T223235
DTSTART;TZID=Europe/Berlin:20260429T110000
DTEND;TZID=Europe/Berlin:20260429T123000
UID:AT2210-20260429T110000@VHSSAARBRÜCKEN
SUMMARY:Theater kennt keine Grenzen. (AT2210) 
LOCATION:Saarländisches Staatstheater, Treffpunkt am Bühneneingang (Pforte), , 
END:VEVENT
BEGIN:VEVENT
DTSTAMP:20260421T223235
DTSTART;TZID=Europe/Berlin:20260506T110000
DTEND;TZID=Europe/Berlin:20260506T123000
UID:AT2210-20260506T110000@VHSSAARBRÜCKEN
SUMMARY:Theater kennt keine Grenzen. (AT2210) 
LOCATION:Saarländisches Staatstheater, Treffpunkt am Bühneneingang (Pforte), , 
END:VEVENT
BEGIN:VEVENT
DTSTAMP:20260421T223235
DTSTART;TZID=Europe/Berlin:20260513T110000
DTEND;TZID=Europe/Berlin:20260513T123000
UID:AT2210-20260513T110000@VHSSAARBRÜCKEN
SUMMARY:Theater kennt keine Grenzen. (AT2210) 
LOCATION:Saarländisches Staatstheater, Treffpunkt am Bühneneingang (Pforte), , 
END:VEVENT
BEGIN:VEVENT
DTSTAMP:20260421T223235
DTSTART;TZID=Europe/Berlin:20260520T110000
DTEND;TZID=Europe/Berlin:20260520T123000
UID:AT2210-20260520T110000@VHSSAARBRÜCKEN
SUMMARY:Theater kennt keine Grenzen. (AT2210) 
LOCATION:Saarländisches Staatstheater, Treffpunkt am Bühneneingang (Pforte), , 
END:VEVENT
BEGIN:VEVENT
DTSTAMP:20260421T223235
DTSTART;TZID=Europe/Berlin:20260610T110000
DTEND;TZID=Europe/Berlin:20260610T123000
UID:AT2210-20260610T110000@VHSSAARBRÜCKEN
SUMMARY:Theater kennt keine Grenzen. (AT2210) 
LOCATION:Saarländisches Staatstheater, Treffpunkt am Bühneneingang (Pforte), , 
END:VEVENT
END:VCALENDAR