BEGIN:VCALENDAR
VERSION:2.0
PRODID:https://www.kufer.de/kuferweb / DE
METHOD:PUBLISH
CALSCALE:GREGORIAN
X-WR-TIMEZONE:Europe/Berlin
BEGIN:VTIMEZONE
TZID:Europe/Berlin
X-LIC-LOCATION:Europe/Berlin
BEGIN:DAYLIGHT
TZOFFSETFROM:+0100
TZOFFSETTO:+0200
TZNAME:CEST
DTSTART:19700329T020000
RRULE:FREQ=YEARLY;INTERVAL=1;BYDAY=-1SU;BYMONTH=3
END:DAYLIGHT
BEGIN:STANDARD
TZOFFSETFROM:+0200
TZOFFSETTO:+0100
TZNAME:CET
DTSTART:19701025T030000
RRULE:FREQ=YEARLY;INTERVAL=1;BYDAY=-1SU;BYMONTH=10
END:STANDARD
END:VTIMEZONE
BEGIN:VEVENT
DTSTAMP:20260421T224610
DTSTART;TZID=Europe/Berlin:20260316T194500
DTEND;TZID=Europe/Berlin:20260316T211500
UID:AT2203C-20260316T194500@VHSSAARBRÜCKEN
SUMMARY:Stimmbildung/Vocalcoaching vom Profi Für AnfängerInnen und Fortgeschrittene ab 14 Jahren (AT2203C) 
LOCATION:Altes Rathaus, Raum 8 Literaturlounge, Schlossplatz 1, 66119 Saarbrücken
END:VEVENT
BEGIN:VEVENT
DTSTAMP:20260421T224610
DTSTART;TZID=Europe/Berlin:20260323T194500
DTEND;TZID=Europe/Berlin:20260323T211500
UID:AT2203C-20260323T194500@VHSSAARBRÜCKEN
SUMMARY:Stimmbildung/Vocalcoaching vom Profi Für AnfängerInnen und Fortgeschrittene ab 14 Jahren (AT2203C) 
LOCATION:Altes Rathaus, Raum 8 Literaturlounge, Schlossplatz 1, 66119 Saarbrücken
END:VEVENT
BEGIN:VEVENT
DTSTAMP:20260421T224610
DTSTART;TZID=Europe/Berlin:20260330T194500
DTEND;TZID=Europe/Berlin:20260330T211500
UID:AT2203C-20260330T194500@VHSSAARBRÜCKEN
SUMMARY:Stimmbildung/Vocalcoaching vom Profi Für AnfängerInnen und Fortgeschrittene ab 14 Jahren (AT2203C) 
LOCATION:Altes Rathaus, Raum 8 Literaturlounge, Schlossplatz 1, 66119 Saarbrücken
END:VEVENT
BEGIN:VEVENT
DTSTAMP:20260421T224610
DTSTART;TZID=Europe/Berlin:20260420T194500
DTEND;TZID=Europe/Berlin:20260420T211500
UID:AT2203C-20260420T194500@VHSSAARBRÜCKEN
SUMMARY:Stimmbildung/Vocalcoaching vom Profi Für AnfängerInnen und Fortgeschrittene ab 14 Jahren (AT2203C) 
LOCATION:Altes Rathaus, Raum 5, Schlossplatz 1, 
END:VEVENT
BEGIN:VEVENT
DTSTAMP:20260421T224610
DTSTART;TZID=Europe/Berlin:20260427T194500
DTEND;TZID=Europe/Berlin:20260427T211500
UID:AT2203C-20260427T194500@VHSSAARBRÜCKEN
SUMMARY:Stimmbildung/Vocalcoaching vom Profi Für AnfängerInnen und Fortgeschrittene ab 14 Jahren (AT2203C) 
LOCATION:Altes Rathaus, Raum 5, Schlossplatz 1, 
END:VEVENT
BEGIN:VEVENT
DTSTAMP:20260421T224610
DTSTART;TZID=Europe/Berlin:20260504T194500
DTEND;TZID=Europe/Berlin:20260504T211500
UID:AT2203C-20260504T194500@VHSSAARBRÜCKEN
SUMMARY:Stimmbildung/Vocalcoaching vom Profi Für AnfängerInnen und Fortgeschrittene ab 14 Jahren (AT2203C) 
LOCATION:Altes Rathaus, Raum 5, Schlossplatz 1, 
END:VEVENT
END:VCALENDAR