BEGIN:VCALENDAR
VERSION:2.0
PRODID:https://www.kufer.de/kuferweb / DE
METHOD:PUBLISH
CALSCALE:GREGORIAN
X-WR-TIMEZONE:Europe/Berlin
BEGIN:VTIMEZONE
TZID:Europe/Berlin
X-LIC-LOCATION:Europe/Berlin
BEGIN:DAYLIGHT
TZOFFSETFROM:+0100
TZOFFSETTO:+0200
TZNAME:CEST
DTSTART:19700329T020000
RRULE:FREQ=YEARLY;INTERVAL=1;BYDAY=-1SU;BYMONTH=3
END:DAYLIGHT
BEGIN:STANDARD
TZOFFSETFROM:+0200
TZOFFSETTO:+0100
TZNAME:CET
DTSTART:19701025T030000
RRULE:FREQ=YEARLY;INTERVAL=1;BYDAY=-1SU;BYMONTH=10
END:STANDARD
END:VTIMEZONE
BEGIN:VEVENT
DTSTAMP:20260421T121657
DTSTART;TZID=Europe/Berlin:20260410T150000
DTEND;TZID=Europe/Berlin:20260410T170000
UID:AT2122-20260410T150000@VHSSAARBRÜCKEN
SUMMARY:Die 9 Musen (in russischer Sprache) (AT2122) 
LOCATION:Altes Rathaus, Raum 5, Schlossplatz 1, 
END:VEVENT
BEGIN:VEVENT
DTSTAMP:20260421T121657
DTSTART;TZID=Europe/Berlin:20260424T150000
DTEND;TZID=Europe/Berlin:20260424T170000
UID:AT2122-20260424T150000@VHSSAARBRÜCKEN
SUMMARY:Die 9 Musen (in russischer Sprache) (AT2122) 
LOCATION:Altes Rathaus, Raum 16, Schlossplatz 1, 66119 Saarbrücken
END:VEVENT
BEGIN:VEVENT
DTSTAMP:20260421T121657
DTSTART;TZID=Europe/Berlin:20260508T150000
DTEND;TZID=Europe/Berlin:20260508T170000
UID:AT2122-20260508T150000@VHSSAARBRÜCKEN
SUMMARY:Die 9 Musen (in russischer Sprache) (AT2122) 
LOCATION:Altes Rathaus, Raum 16, Schlossplatz 1, 66119 Saarbrücken
END:VEVENT
BEGIN:VEVENT
DTSTAMP:20260421T121657
DTSTART;TZID=Europe/Berlin:20260522T150000
DTEND;TZID=Europe/Berlin:20260522T170000
UID:AT2122-20260522T150000@VHSSAARBRÜCKEN
SUMMARY:Die 9 Musen (in russischer Sprache) (AT2122) 
LOCATION:Altes Rathaus, Raum 16, Schlossplatz 1, 66119 Saarbrücken
END:VEVENT
BEGIN:VEVENT
DTSTAMP:20260421T121657
DTSTART;TZID=Europe/Berlin:20260605T150000
DTEND;TZID=Europe/Berlin:20260605T170000
UID:AT2122-20260605T150000@VHSSAARBRÜCKEN
SUMMARY:Die 9 Musen (in russischer Sprache) (AT2122) 
LOCATION:Altes Rathaus, Raum 16, Schlossplatz 1, 66119 Saarbrücken
END:VEVENT
BEGIN:VEVENT
DTSTAMP:20260421T121657
DTSTART;TZID=Europe/Berlin:20260619T150000
DTEND;TZID=Europe/Berlin:20260619T170000
UID:AT2122-20260619T150000@VHSSAARBRÜCKEN
SUMMARY:Die 9 Musen (in russischer Sprache) (AT2122) 
LOCATION:Altes Rathaus, Raum 16, Schlossplatz 1, 66119 Saarbrücken
END:VEVENT
BEGIN:VEVENT
DTSTAMP:20260421T121657
DTSTART;TZID=Europe/Berlin:20260703T150000
DTEND;TZID=Europe/Berlin:20260703T170000
UID:AT2122-20260703T150000@VHSSAARBRÜCKEN
SUMMARY:Die 9 Musen (in russischer Sprache) (AT2122) 
LOCATION:Altes Rathaus, Raum 16, Schlossplatz 1, 66119 Saarbrücken
END:VEVENT
BEGIN:VEVENT
DTSTAMP:20260421T121657
DTSTART;TZID=Europe/Berlin:20260717T150000
DTEND;TZID=Europe/Berlin:20260717T170000
UID:AT2122-20260717T150000@VHSSAARBRÜCKEN
SUMMARY:Die 9 Musen (in russischer Sprache) (AT2122) 
LOCATION:Altes Rathaus, Raum 16, Schlossplatz 1, 66119 Saarbrücken
END:VEVENT
BEGIN:VEVENT
DTSTAMP:20260421T121657
DTSTART;TZID=Europe/Berlin:20260731T150000
DTEND;TZID=Europe/Berlin:20260731T170000
UID:AT2122-20260731T150000@VHSSAARBRÜCKEN
SUMMARY:Die 9 Musen (in russischer Sprache) (AT2122) 
LOCATION:Altes Rathaus, Raum 5, Schlossplatz 1, 
END:VEVENT
BEGIN:VEVENT
DTSTAMP:20260421T121657
DTSTART;TZID=Europe/Berlin:20260814T150000
DTEND;TZID=Europe/Berlin:20260814T170000
UID:AT2122-20260814T150000@VHSSAARBRÜCKEN
SUMMARY:Die 9 Musen (in russischer Sprache) (AT2122) 
LOCATION:Altes Rathaus, Raum 5, Schlossplatz 1, 
END:VEVENT
END:VCALENDAR