BEGIN:VCALENDAR
VERSION:2.0
PRODID:https://www.kufer.de/kuferweb / DE
METHOD:PUBLISH
CALSCALE:GREGORIAN
X-WR-TIMEZONE:Europe/Berlin
BEGIN:VTIMEZONE
TZID:Europe/Berlin
X-LIC-LOCATION:Europe/Berlin
BEGIN:DAYLIGHT
TZOFFSETFROM:+0100
TZOFFSETTO:+0200
TZNAME:CEST
DTSTART:19700329T020000
RRULE:FREQ=YEARLY;INTERVAL=1;BYDAY=-1SU;BYMONTH=3
END:DAYLIGHT
BEGIN:STANDARD
TZOFFSETFROM:+0200
TZOFFSETTO:+0100
TZNAME:CET
DTSTART:19701025T030000
RRULE:FREQ=YEARLY;INTERVAL=1;BYDAY=-1SU;BYMONTH=10
END:STANDARD
END:VTIMEZONE
BEGIN:VEVENT
DTSTAMP:20260423T133112
DTSTART;TZID=Europe/Berlin:20260326T180000
DTEND;TZID=Europe/Berlin:20260326T193000
UID:AT2120-20260326T180000@VHSSAARBRÜCKEN
DESCRIPTION:S. Stanisic: Wolf
SUMMARY:Lesekreis (AT2120) 
LOCATION:Altes Rathaus, Raum 8 Literaturlounge, Schlossplatz 1, 66119 Saarbrücken
END:VEVENT
BEGIN:VEVENT
DTSTAMP:20260423T133112
DTSTART;TZID=Europe/Berlin:20260423T180000
DTEND;TZID=Europe/Berlin:20260423T193000
UID:AT2120-20260423T180000@VHSSAARBRÜCKEN
DESCRIPTION:M. Messina: Fehlstart
SUMMARY:Lesekreis (AT2120) 
LOCATION:Altes Rathaus, Raum 8 Literaturlounge, Schlossplatz 1, 66119 Saarbrücken
END:VEVENT
BEGIN:VEVENT
DTSTAMP:20260423T133112
DTSTART;TZID=Europe/Berlin:20260521T180000
DTEND;TZID=Europe/Berlin:20260521T193000
UID:AT2120-20260521T180000@VHSSAARBRÜCKEN
DESCRIPTION:N. Biedermann: Lazar
SUMMARY:Lesekreis (AT2120) 
LOCATION:Altes Rathaus, Raum 8 Literaturlounge, Schlossplatz 1, 66119 Saarbrücken
END:VEVENT
BEGIN:VEVENT
DTSTAMP:20260423T133112
DTSTART;TZID=Europe/Berlin:20260618T180000
DTEND;TZID=Europe/Berlin:20260618T193000
UID:AT2120-20260618T180000@VHSSAARBRÜCKEN
DESCRIPTION:E. Strout: Oh William!
SUMMARY:Lesekreis (AT2120) 
LOCATION:Altes Rathaus, Raum 8 Literaturlounge, Schlossplatz 1, 66119 Saarbrücken
END:VEVENT
BEGIN:VEVENT
DTSTAMP:20260423T133112
DTSTART;TZID=Europe/Berlin:20260716T180000
DTEND;TZID=Europe/Berlin:20260716T193000
UID:AT2120-20260716T180000@VHSSAARBRÜCKEN
DESCRIPTION:D. Elminger: Die Holländerinnen
SUMMARY:Lesekreis (AT2120) 
LOCATION:Altes Rathaus, Raum 8 Literaturlounge, Schlossplatz 1, 66119 Saarbrücken
END:VEVENT
END:VCALENDAR