BEGIN:VCALENDAR
VERSION:2.0
PRODID:https://www.kufer.de/kuferweb / DE
METHOD:PUBLISH
CALSCALE:GREGORIAN
X-WR-TIMEZONE:Europe/Berlin
BEGIN:VTIMEZONE
TZID:Europe/Berlin
X-LIC-LOCATION:Europe/Berlin
BEGIN:DAYLIGHT
TZOFFSETFROM:+0100
TZOFFSETTO:+0200
TZNAME:CEST
DTSTART:19700329T020000
RRULE:FREQ=YEARLY;INTERVAL=1;BYDAY=-1SU;BYMONTH=3
END:DAYLIGHT
BEGIN:STANDARD
TZOFFSETFROM:+0200
TZOFFSETTO:+0100
TZNAME:CET
DTSTART:19701025T030000
RRULE:FREQ=YEARLY;INTERVAL=1;BYDAY=-1SU;BYMONTH=10
END:STANDARD
END:VTIMEZONE
BEGIN:VEVENT
DTSTAMP:20260423T030038
DTSTART;TZID=Europe/Berlin:20260312T150000
DTEND;TZID=Europe/Berlin:20260312T163000
UID:AT1465-20260312T150000@VHSSAARBRÜCKEN
SUMMARY:Selbstcoaching (AT1465) 
LOCATION:Altes Rathaus, Raum 16, Schlossplatz 1, 66119 Saarbrücken
END:VEVENT
BEGIN:VEVENT
DTSTAMP:20260423T030038
DTSTART;TZID=Europe/Berlin:20260319T150000
DTEND;TZID=Europe/Berlin:20260319T163000
UID:AT1465-20260319T150000@VHSSAARBRÜCKEN
SUMMARY:Selbstcoaching (AT1465) 
LOCATION:Altes Rathaus, Raum 16, Schlossplatz 1, 66119 Saarbrücken
END:VEVENT
BEGIN:VEVENT
DTSTAMP:20260423T030038
DTSTART;TZID=Europe/Berlin:20260326T150000
DTEND;TZID=Europe/Berlin:20260326T163000
UID:AT1465-20260326T150000@VHSSAARBRÜCKEN
SUMMARY:Selbstcoaching (AT1465) 
LOCATION:Altes Rathaus, Raum 16, Schlossplatz 1, 66119 Saarbrücken
END:VEVENT
BEGIN:VEVENT
DTSTAMP:20260423T030038
DTSTART;TZID=Europe/Berlin:20260402T150000
DTEND;TZID=Europe/Berlin:20260402T163000
UID:AT1465-20260402T150000@VHSSAARBRÜCKEN
SUMMARY:Selbstcoaching (AT1465) 
LOCATION:Altes Rathaus, Raum 16, Schlossplatz 1, 66119 Saarbrücken
END:VEVENT
BEGIN:VEVENT
DTSTAMP:20260423T030038
DTSTART;TZID=Europe/Berlin:20260409T150000
DTEND;TZID=Europe/Berlin:20260409T163000
UID:AT1465-20260409T150000@VHSSAARBRÜCKEN
SUMMARY:Selbstcoaching (AT1465) 
LOCATION:Altes Rathaus, Raum 16, Schlossplatz 1, 66119 Saarbrücken
END:VEVENT
BEGIN:VEVENT
DTSTAMP:20260423T030038
DTSTART;TZID=Europe/Berlin:20260416T150000
DTEND;TZID=Europe/Berlin:20260416T163000
UID:AT1465-20260416T150000@VHSSAARBRÜCKEN
SUMMARY:Selbstcoaching (AT1465) 
LOCATION:Altes Rathaus, Raum 16, Schlossplatz 1, 66119 Saarbrücken
END:VEVENT
END:VCALENDAR